BEGIN:VCALENDAR
VERSION:2.0
PRODID:-//Red Leg Brewing Company - ECPv6.15.18//NONSGML v1.0//EN
CALSCALE:GREGORIAN
METHOD:PUBLISH
X-WR-CALNAME:Red Leg Brewing Company
X-ORIGINAL-URL:https://redlegbrewing.com
X-WR-CALDESC:Events for Red Leg Brewing Company
REFRESH-INTERVAL;VALUE=DURATION:PT1H
X-Robots-Tag:noindex
X-PUBLISHED-TTL:PT1H
BEGIN:VTIMEZONE
TZID:America/Denver
BEGIN:DAYLIGHT
TZOFFSETFROM:-0700
TZOFFSETTO:-0600
TZNAME:MDT
DTSTART:20220313T090000
END:DAYLIGHT
BEGIN:STANDARD
TZOFFSETFROM:-0600
TZOFFSETTO:-0700
TZNAME:MST
DTSTART:20221106T080000
END:STANDARD
BEGIN:DAYLIGHT
TZOFFSETFROM:-0700
TZOFFSETTO:-0600
TZNAME:MDT
DTSTART:20230312T090000
END:DAYLIGHT
BEGIN:STANDARD
TZOFFSETFROM:-0600
TZOFFSETTO:-0700
TZNAME:MST
DTSTART:20231105T080000
END:STANDARD
BEGIN:DAYLIGHT
TZOFFSETFROM:-0700
TZOFFSETTO:-0600
TZNAME:MDT
DTSTART:20240310T090000
END:DAYLIGHT
BEGIN:STANDARD
TZOFFSETFROM:-0600
TZOFFSETTO:-0700
TZNAME:MST
DTSTART:20241103T080000
END:STANDARD
BEGIN:DAYLIGHT
TZOFFSETFROM:-0700
TZOFFSETTO:-0600
TZNAME:MDT
DTSTART:20250309T090000
END:DAYLIGHT
BEGIN:STANDARD
TZOFFSETFROM:-0600
TZOFFSETTO:-0700
TZNAME:MST
DTSTART:20251102T080000
END:STANDARD
END:VTIMEZONE
BEGIN:VEVENT
DTSTART;TZID=America/Denver:20240120T180000
DTEND;TZID=America/Denver:20240120T200000
DTSTAMP:20260425T061025
CREATED:20231205T190407Z
LAST-MODIFIED:20231205T190450Z
UID:16862-1705773600-1705780800@redlegbrewing.com
SUMMARY:Breckenridge Lounge & Cocktail Class
DESCRIPTION:Join us at the brewery for an exciting event with our Liquor Cabinet staff & the folks from Breckenridge Distillery on January 20th from 6 to 8 pm. Your ticket unlocks an exclusive experience complete with hors d’oeuvres\, a bottle of Red Leg x Breckenridge whiskey\, a sleek tumbler\, and a journey into mixology.\n\nSavor the night as our bartenders lead captivating cocktail demonstrations and tastings\, revealing the secrets behind crafting extraordinary libations. Groove to live music and embrace the chance to win big with a raffle ticket for a chance to take home a prized Breckenridge Whiskey Barrel.\n\nThis is sure to be an evening filled with flavors\, music\, and the chance to elevate your cocktail game to new heights. Secure your spot for a night of sophistication and spirits!\n\nThis is a 21+ event.
URL:https://redlegbrewing.com/event/breckenridge-lounge-cocktail-class/
LOCATION:Red Leg Brewing Company\, 2323 Garden of the Gods Rd\, Colorado Springs\, CO\, 80907\, United States
CATEGORIES:Special Event
END:VEVENT
BEGIN:VEVENT
DTSTART;TZID=America/Denver:20240117T183000
DTEND;TZID=America/Denver:20240117T203000
DTSTAMP:20260425T061025
CREATED:20240102T204243Z
LAST-MODIFIED:20240102T204243Z
UID:17112-1705516200-1705523400@redlegbrewing.com
SUMMARY:Music Video Bingo
DESCRIPTION:Win FREE BEER while watching music videos!! Winners every round + Grand Prize!\nYour Host\, Allie\, will be playing a variety of classic and unique music videos from the last 60 years. You don’t need to know the title or artist to win so you can relax and have another pint! Just pay attention\, work that bingo dabber and drink on!
URL:https://redlegbrewing.com/event/music-video-bingo-60/
LOCATION:Red Leg Brewing Company\, 2323 Garden of the Gods Rd\, Colorado Springs\, CO\, 80907\, United States
CATEGORIES:Ongoing Event
END:VEVENT
BEGIN:VEVENT
DTSTART;TZID=America/Denver:20240116T183000
DTEND;TZID=America/Denver:20240116T203000
DTSTAMP:20260425T061025
CREATED:20240102T203411Z
LAST-MODIFIED:20240102T203411Z
UID:17076-1705429800-1705437000@redlegbrewing.com
SUMMARY:Trivia Night
DESCRIPTION:LIVE Trivia with a variety of questions including Picture Mashups\, Name That Year\, Music & Movie clips\, Retro TV Theme Song\, and more!\nEvery Tuesday starting at 6:30 pm with your host Allie! Prizes for 1st\, 2nd and 3rd.
URL:https://redlegbrewing.com/event/trivia-night-88/
LOCATION:Red Leg Brewing Company\, 2323 Garden of the Gods Rd\, Colorado Springs\, CO\, 80907\, United States
CATEGORIES:Ongoing Event
END:VEVENT
BEGIN:VEVENT
DTSTART;VALUE=DATE:20240115
DTEND;VALUE=DATE:20240116
DTSTAMP:20260425T061025
CREATED:20240109T235330Z
LAST-MODIFIED:20240109T235331Z
UID:17257-1705276800-1705363199@redlegbrewing.com
SUMMARY:Beer Release: Moonrise Blood Orange Juicy IPA
DESCRIPTION:Join us in the taproom on Monday\, January 15th\, for the release of our newest seasonal – Moonrise Blood Orange Juicy IPA! Moonrise will be available in 16 oz 6-packs and on draft! \nMoonrise Blood Orange Juicy IPA is a citrus-infused delight that’ll tingle your taste buds with every sip. Bursting with the zesty essence of ripe blood oranges\, this IPA offers a juicy and refreshing experience\, complemented by a perfect harmony of hoppy goodness. This brew balances the juicy sweetness of blood oranges with a subtle bitterness\, creating an irresistibly smooth and flavorful drinking experience. Embrace the citrus zest and hoppy embrace in every aromatic and juicy drop.
URL:https://redlegbrewing.com/event/beer-release-moonrise-blood-orange-juicy-ipa/
LOCATION:Red Leg Brewing Company\, 2323 Garden of the Gods Rd\, Colorado Springs\, CO\, 80907\, United States
CATEGORIES:Special Event
END:VEVENT
BEGIN:VEVENT
DTSTART;VALUE=DATE:20240112
DTEND;VALUE=DATE:20240113
DTSTAMP:20260425T061025
CREATED:20240109T235607Z
LAST-MODIFIED:20240109T235608Z
UID:17260-1705017600-1705103999@redlegbrewing.com
SUMMARY:Beer Release: Golden Lion ESB
DESCRIPTION:Golden Lion ESB is our newest offering that will now be available exclusively in the taproom and at The Broadmoor’s various establishments! You can enjoy it beginning this Friday\, January 12th! Available in 12 oz 6-packs and on draft. \nDiscover The Broadmoor’s Golden Lion ESB. A medium-light ale with a captivating golden-copper hue. Balanced bitterness and rich caramel malt meet nutty biscuit undertones\, crafting a delightful journey across your palate. Formerly gracing London’s Thames River\, it is now cherished at The Golden Bee at the Broadmoor. An English classic reimagined across oceans.
URL:https://redlegbrewing.com/event/beer-release-golden-lion-esb/
LOCATION:Red Leg Brewing Company\, 2323 Garden of the Gods Rd\, Colorado Springs\, CO\, 80907\, United States
CATEGORIES:Special Event
END:VEVENT
BEGIN:VEVENT
DTSTART;TZID=America/Denver:20240110T183000
DTEND;TZID=America/Denver:20240110T203000
DTSTAMP:20260425T061025
CREATED:20240102T204217Z
LAST-MODIFIED:20240102T204217Z
UID:17110-1704911400-1704918600@redlegbrewing.com
SUMMARY:Music Video Bingo
DESCRIPTION:Win FREE BEER while watching music videos!! Winners every round + Grand Prize!\nYour Host\, Allie\, will be playing a variety of classic and unique music videos from the last 60 years. You don’t need to know the title or artist to win so you can relax and have another pint! Just pay attention\, work that bingo dabber and drink on!
URL:https://redlegbrewing.com/event/music-video-bingo-59/
LOCATION:Red Leg Brewing Company\, 2323 Garden of the Gods Rd\, Colorado Springs\, CO\, 80907\, United States
CATEGORIES:Ongoing Event
END:VEVENT
BEGIN:VEVENT
DTSTART;TZID=America/Denver:20240109T183000
DTEND;TZID=America/Denver:20240109T203000
DTSTAMP:20260425T061025
CREATED:20240102T203343Z
LAST-MODIFIED:20240102T203343Z
UID:17074-1704825000-1704832200@redlegbrewing.com
SUMMARY:Trivia Night
DESCRIPTION:LIVE Trivia with a variety of questions including Picture Mashups\, Name That Year\, Music & Movie clips\, Retro TV Theme Song\, and more!\nEvery Tuesday starting at 6:30 pm with your host Allie! Prizes for 1st\, 2nd and 3rd.
URL:https://redlegbrewing.com/event/trivia-night-87/
LOCATION:Red Leg Brewing Company\, 2323 Garden of the Gods Rd\, Colorado Springs\, CO\, 80907\, United States
CATEGORIES:Ongoing Event
END:VEVENT
BEGIN:VEVENT
DTSTART;TZID=America/Denver:20240107T170000
DTEND;TZID=America/Denver:20240107T190000
DTSTAMP:20260425T061025
CREATED:20240104T202856Z
LAST-MODIFIED:20240104T202950Z
UID:17198-1704646800-1704654000@redlegbrewing.com
SUMMARY:January Artist Showcase featuring Andrea Kessler
DESCRIPTION:“Where Community & Culture Meet” \nJoin us on Sunday\, January 7\, in the taproom for our January Artist Showcase featuring Andrea Kessler from 5-7 pm! Andrea will be at the showcase\, so you can meet her while enjoying her art and a few craft brews! We hope to see you there! \nFrom the Artist:\nI am a Colorado native who homeschools my three children and runs an excavation business with my husband Kenny in Falcon\, CO. When I’m not homeschooling\, at trap league\, or at book club\, I enjoy taking off-roading trips with my family to beautiful locations around Colorado and Utah in our Polaris razor and camping because it allows me many opportunities to capture the beauty in nature that most people don’t get to see in person. I am also interested in organizing and decorating. I love to study the way our environments affect our moods and health. Photography is my favorite hobby\, and I’m so grateful for the opportunity to share some of it with you. For more of my work\, please visit: www.instagram.com/bring_forth_life
URL:https://redlegbrewing.com/event/january-artist-showcase-featuring-andrea-kessler/
LOCATION:Red Leg Brewing Company\, 2323 Garden of the Gods Rd\, Colorado Springs\, CO\, 80907\, United States
CATEGORIES:Special Event
END:VEVENT
BEGIN:VEVENT
DTSTART;TZID=America/Denver:20240107T160000
DTEND;TZID=America/Denver:20240107T180000
DTSTAMP:20260425T061025
CREATED:20240104T203144Z
LAST-MODIFIED:20240104T203144Z
UID:17200-1704643200-1704650400@redlegbrewing.com
SUMMARY:Fly Tying 101/201 Workshop with Angler's Covey
DESCRIPTION:Enjoy a craft beer and local food\, and learn how to tie flies. Sounds like the perfect evening to us!\n\nThis is a great fly-tying class for those curious about fly-tying or those fly tiers who want to expand their skills! All in the comfort of Red Leg Brewing Company. The first part of the class will be a basic introduction to fly tying\, the tools used in fly tying\, and some basic techniques to get you started. The second part of the class will then dive into more advanced techniques\, and each student will learn to tie several different types of flies. No experience is necessary\, and we will provide all of the materials for the class.\n\nThis class is also a great prerequisite to any of our 301 advanced-level fly-tying classes.\n\nThis class is limited to 10 students per date\, so grab your spot today! Registration is required\n\nCost is $30 per person. Register here. \n\nThe class will take place at the brewery from 4 pm-6 pm. Please come early so you can grab a drink and get settled.
URL:https://redlegbrewing.com/event/fly-tying-101-201-workshop-with-anglers-covey/
LOCATION:Red Leg Brewing Company\, 2323 Garden of the Gods Rd\, Colorado Springs\, CO\, 80907\, United States
CATEGORIES:Special Event
END:VEVENT
BEGIN:VEVENT
DTSTART;TZID=America/Denver:20240103T183000
DTEND;TZID=America/Denver:20240103T203000
DTSTAMP:20260425T061025
CREATED:20240102T204151Z
LAST-MODIFIED:20240102T204151Z
UID:17108-1704306600-1704313800@redlegbrewing.com
SUMMARY:Music Video Bingo
DESCRIPTION:Win FREE BEER while watching music videos!! Winners every round + Grand Prize!\nYour Host\, Allie\, will be playing a variety of classic and unique music videos from the last 60 years. You don’t need to know the title or artist to win so you can relax and have another pint! Just pay attention\, work that bingo dabber and drink on!
URL:https://redlegbrewing.com/event/music-video-bingo-58/
LOCATION:Red Leg Brewing Company\, 2323 Garden of the Gods Rd\, Colorado Springs\, CO\, 80907\, United States
CATEGORIES:Ongoing Event
END:VEVENT
BEGIN:VEVENT
DTSTART;TZID=America/Denver:20240102T183000
DTEND;TZID=America/Denver:20240102T203000
DTSTAMP:20260425T061025
CREATED:20240102T203315Z
LAST-MODIFIED:20240102T203315Z
UID:17072-1704220200-1704227400@redlegbrewing.com
SUMMARY:Trivia Night
DESCRIPTION:LIVE Trivia with a variety of questions including Picture Mashups\, Name That Year\, Music & Movie clips\, Retro TV Theme Song\, and more!\nEvery Tuesday starting at 6:30 pm with your host Allie! Prizes for 1st\, 2nd and 3rd.
URL:https://redlegbrewing.com/event/trivia-night-86/
LOCATION:Red Leg Brewing Company\, 2323 Garden of the Gods Rd\, Colorado Springs\, CO\, 80907\, United States
CATEGORIES:Ongoing Event
END:VEVENT
BEGIN:VEVENT
DTSTART;TZID=America/Denver:20231231T110000
DTEND;TZID=America/Denver:20231231T220000
DTSTAMP:20260425T061025
CREATED:20231212T171432Z
LAST-MODIFIED:20231212T171432Z
UID:16901-1704020400-1704060000@redlegbrewing.com
SUMMARY:Beer Release: Schwarzbier
DESCRIPTION:Join us in the taproom on Sunday\, December 31\, for the release of our Schwarzbier! We will also have extended hours for New Year’s Eve. The taproom will be open from 11 am-10 pm and we’d love to see you and your family & friends before you head out for the ball drop!
URL:https://redlegbrewing.com/event/beer-release-schwarzbier/
LOCATION:Red Leg Brewing Company\, 2323 Garden of the Gods Rd\, Colorado Springs\, CO\, 80907\, United States
CATEGORIES:Special Event
END:VEVENT
BEGIN:VEVENT
DTSTART;VALUE=DATE:20231229
DTEND;VALUE=DATE:20231230
DTSTAMP:20260425T061025
CREATED:20231219T181908Z
LAST-MODIFIED:20231219T181908Z
UID:16976-1703808000-1703894399@redlegbrewing.com
SUMMARY:Beer Release: Abuelito Hot Chocolate Stout
DESCRIPTION:Join us in the taproom on Friday\, December 29\, for the release of our Abuelito Hot Chocolate Stout!
URL:https://redlegbrewing.com/event/beer-release-abuelito-hot-chocolate-stout/
LOCATION:Red Leg Brewing Company\, 2323 Garden of the Gods Rd\, Colorado Springs\, CO\, 80907\, United States
CATEGORIES:Special Event
END:VEVENT
BEGIN:VEVENT
DTSTART;TZID=America/Denver:20231227T183000
DTEND;TZID=America/Denver:20231227T203000
DTSTAMP:20260425T061025
CREATED:20230614T162510Z
LAST-MODIFIED:20230614T162510Z
UID:14836-1703701800-1703709000@redlegbrewing.com
SUMMARY:Music Video BINGO
DESCRIPTION:Win FREE BEER while watching music videos!! Winners every round + Grand Prize!\nYour Host\, Allie\, will be playing a variety of classic and unique music videos from the last 60 years. You don’t need to know the title or artist to win so you can relax and have another pint! Just pay attention\, work that bingo dabber and drink on!
URL:https://redlegbrewing.com/event/music-video-bingo-57/
LOCATION:Red Leg Brewing Company\, 2323 Garden of the Gods Rd\, Colorado Springs\, CO\, 80907\, United States
CATEGORIES:Ongoing Event
END:VEVENT
BEGIN:VEVENT
DTSTART;TZID=America/Denver:20231226T183000
DTEND;TZID=America/Denver:20231226T203000
DTSTAMP:20260425T061025
CREATED:20230614T164827Z
LAST-MODIFIED:20230614T164827Z
UID:14894-1703615400-1703622600@redlegbrewing.com
SUMMARY:Trivia Night
DESCRIPTION:LIVE Trivia with a variety of questions including Picture Mashups\, Name That Year\, Music & Movie clips\, Retro TV Theme Song\, and more!\nEvery Tuesday starting at 6:30 pm with your host Allie! Prizes for 1st\, 2nd and 3rd.
URL:https://redlegbrewing.com/event/trivia-night-85/
LOCATION:Red Leg Brewing Company\, 2323 Garden of the Gods Rd\, Colorado Springs\, CO\, 80907\, United States
CATEGORIES:Ongoing Event
END:VEVENT
BEGIN:VEVENT
DTSTART;VALUE=DATE:20231225
DTEND;VALUE=DATE:20231226
DTSTAMP:20260425T061025
CREATED:20230614T165507Z
LAST-MODIFIED:20230614T165507Z
UID:14898-1703462400-1703548799@redlegbrewing.com
SUMMARY:Closed: Christmas Day
DESCRIPTION:
URL:https://redlegbrewing.com/event/closed-christmas-day/
LOCATION:CO
END:VEVENT
BEGIN:VEVENT
DTSTART;TZID=America/Denver:20231224T120000
DTEND;TZID=America/Denver:20231224T160000
DTSTAMP:20260425T061025
CREATED:20231212T170938Z
LAST-MODIFIED:20231212T170938Z
UID:16899-1703419200-1703433600@redlegbrewing.com
SUMMARY:Beer Release: Chocolate Hazelnut Ale
DESCRIPTION:Join us in the taproom on Sunday\, December 24\, for the one-off release of our Chocolate Hazelnut Ale! We will also have shortened hours for Christmas Eve. The taproom will be open from 12-4 pm and we’d love to see you and your family & friends!
URL:https://redlegbrewing.com/event/beer-release-chocolate-hazelnut-ale/
LOCATION:Red Leg Brewing Company\, 2323 Garden of the Gods Rd\, Colorado Springs\, CO\, 80907\, United States
CATEGORIES:Special Event
END:VEVENT
BEGIN:VEVENT
DTSTART;TZID=America/Denver:20231224T120000
DTEND;TZID=America/Denver:20231224T160000
DTSTAMP:20260425T061025
CREATED:20231212T170827Z
LAST-MODIFIED:20231212T170827Z
UID:16897-1703419200-1703433600@redlegbrewing.com
SUMMARY:Beer Release: Candy Cane Kolsch
DESCRIPTION:Join us in the taproom on Sunday\, December 24\, for the one-off release of our Candy Cane Kolsch! We will also have shortened hours for Christmas Eve. The taproom will be open from 12-4 pm and we’d love to see you and your family & friends!
URL:https://redlegbrewing.com/event/beer-release-candy-cane-kolsch/
LOCATION:Red Leg Brewing Company\, 2323 Garden of the Gods Rd\, Colorado Springs\, CO\, 80907\, United States
CATEGORIES:Special Event
END:VEVENT
BEGIN:VEVENT
DTSTART;TZID=America/Denver:20231223T120000
DTEND;TZID=America/Denver:20231223T140000
DTSTAMP:20260425T061025
CREATED:20231218T200407Z
LAST-MODIFIED:20231218T200407Z
UID:16962-1703332800-1703340000@redlegbrewing.com
SUMMARY:Tasting at Fort Carson Exchange
DESCRIPTION:Join Dave from 12-2 pm for a craft beer tasting! Stop by to say hi\, enjoy a taste of our local\, award-winning beer\, and you’ll have a chance to get swag!
URL:https://redlegbrewing.com/event/tasting-at-fort-carson-exchange-8/
LOCATION:CO
CATEGORIES:Sales Event
END:VEVENT
BEGIN:VEVENT
DTSTART;TZID=America/Denver:20231222T120000
DTEND;TZID=America/Denver:20231222T210000
DTSTAMP:20260425T061025
CREATED:20231212T170451Z
LAST-MODIFIED:20231219T170822Z
UID:16895-1703246400-1703278800@redlegbrewing.com
SUMMARY:Beer Release: Pomegranate Sour Hazy IPA
DESCRIPTION:Join us in the taproom on Friday\, December 22\, for the release of our new Pomegranate Sour Hazy IPA!
URL:https://redlegbrewing.com/event/beer-release-pomegranate-sour-ipa/
LOCATION:Red Leg Brewing Company\, 2323 Garden of the Gods Rd\, Colorado Springs\, CO\, 80907\, United States
CATEGORIES:Special Event
END:VEVENT
BEGIN:VEVENT
DTSTART;TZID=America/Denver:20231221T140000
DTEND;TZID=America/Denver:20231221T160000
DTSTAMP:20260425T061025
CREATED:20231218T200327Z
LAST-MODIFIED:20231218T200327Z
UID:16960-1703167200-1703174400@redlegbrewing.com
SUMMARY:Tasting at Peterson SFB Class 6
DESCRIPTION:Join Dave from 2-4 pm for a craft beer tasting! Stop by to say hi\, enjoy a taste of our local\, award-winning beer\, and you’ll have a chance to get swag!
URL:https://redlegbrewing.com/event/tasting-at-peterson-sfb-class-6-5/
LOCATION:CO
CATEGORIES:Sales Event
END:VEVENT
BEGIN:VEVENT
DTSTART;TZID=America/Denver:20231220T183000
DTEND;TZID=America/Denver:20231220T203000
DTSTAMP:20260425T061025
CREATED:20230614T162440Z
LAST-MODIFIED:20230614T162440Z
UID:14834-1703097000-1703104200@redlegbrewing.com
SUMMARY:Music Video BINGO
DESCRIPTION:Win FREE BEER while watching music videos!! Winners every round + Grand Prize!\nYour Host\, Allie\, will be playing a variety of classic and unique music videos from the last 60 years. You don’t need to know the title or artist to win so you can relax and have another pint! Just pay attention\, work that bingo dabber and drink on!
URL:https://redlegbrewing.com/event/music-video-bingo-56/
LOCATION:Red Leg Brewing Company\, 2323 Garden of the Gods Rd\, Colorado Springs\, CO\, 80907\, United States
CATEGORIES:Ongoing Event
END:VEVENT
BEGIN:VEVENT
DTSTART;TZID=America/Denver:20231220T180000
DTEND;TZID=America/Denver:20231220T193000
DTSTAMP:20260425T061025
CREATED:20231130T175417Z
LAST-MODIFIED:20231218T151624Z
UID:16813-1703095200-1703100600@redlegbrewing.com
SUMMARY:Workshop: Fly Fishing 101 with Angler's Covey
DESCRIPTION:Enjoy a craft beer\, local food\, and learn the basics of fly fishing. Sounds like the perfect evening to us… \nThis is a great introduction to fly fishing class for those curious about fly fishing\, or those angler’s that want to freshen up their skills!  All in the comfort of Red Leg Brewing company. This class will be conducted in the “classroom” and students are encouraged to bring a pen and paper. \nNo experience is necessary\, and we welcome anglers of all ages! \nRegistration is required because of space. $10.00 per person! \nhttps://anglerscovey.com/event/orvis-101-introduction-to-fly-fishing-class-at-red-leg-brewing-co/ \nThis class is limited to 10 students per date\, so grab your spot today! \nClass will take place at the brewery from 6pm- approximately 7:15pm. Please come early so you can grab a drink and get settled. \nRed Leg Brewing Company: 2323 Garden of the Gods Rd. Colorado Springs\, CO. 80907 \nFor any questions/concerns\, please contact Jon at 719-471-2984 or services@anglerscovey.com
URL:https://redlegbrewing.com/event/workshop-fly-tying-101-201-with-anglers-covey-5/
LOCATION:Red Leg Brewing Company\, 2323 Garden of the Gods Rd\, Colorado Springs\, CO\, 80907\, United States
CATEGORIES:Special Event
END:VEVENT
BEGIN:VEVENT
DTSTART;TZID=America/Denver:20231220T153000
DTEND;TZID=America/Denver:20231220T173000
DTSTAMP:20260425T061025
CREATED:20231218T200251Z
LAST-MODIFIED:20231218T200251Z
UID:16958-1703086200-1703093400@redlegbrewing.com
SUMMARY:Sales Event at Peterson Hub at Peterson SFB
DESCRIPTION:Join Dave from 3:30-5:50 pm for a craft beer tasting! Stop by to say hi\, enjoy a taste of our local\, award-winning beer\, and you’ll have a chance to get swag!
URL:https://redlegbrewing.com/event/sales-event-at-peterson-hub-at-peterson-sfb/
LOCATION:CO
CATEGORIES:Special Event
END:VEVENT
BEGIN:VEVENT
DTSTART;TZID=America/Denver:20231220T113000
DTEND;TZID=America/Denver:20231220T133000
DTSTAMP:20260425T061025
CREATED:20231218T200124Z
LAST-MODIFIED:20231218T200124Z
UID:16956-1703071800-1703079000@redlegbrewing.com
SUMMARY:Tasting at Peterson SFB Exchange
DESCRIPTION:Join Dave from 11:30 am-1:30 pm for a craft beer tasting! Stop by to say hi\, enjoy a taste of our local\, award-winning beer\, and you’ll have a chance to get swag!
URL:https://redlegbrewing.com/event/tasting-at-peterson-sfb-exchange-9/
LOCATION:CO
CATEGORIES:Special Event
END:VEVENT
BEGIN:VEVENT
DTSTART;TZID=America/Denver:20231219T183000
DTEND;TZID=America/Denver:20231219T203000
DTSTAMP:20260425T061025
CREATED:20230614T164759Z
LAST-MODIFIED:20230614T164759Z
UID:14892-1703010600-1703017800@redlegbrewing.com
SUMMARY:Trivia Night
DESCRIPTION:LIVE Trivia with a variety of questions including Picture Mashups\, Name That Year\, Music & Movie clips\, Retro TV Theme Song\, and more!\nEvery Tuesday starting at 6:30 pm with your host Allie! Prizes for 1st\, 2nd and 3rd.
URL:https://redlegbrewing.com/event/trivia-night-84/
LOCATION:Red Leg Brewing Company\, 2323 Garden of the Gods Rd\, Colorado Springs\, CO\, 80907\, United States
CATEGORIES:Ongoing Event
END:VEVENT
BEGIN:VEVENT
DTSTART;TZID=America/Denver:20231218T120000
DTEND;TZID=America/Denver:20231218T210000
DTSTAMP:20260425T061025
CREATED:20231212T170308Z
LAST-MODIFIED:20231212T170308Z
UID:16893-1702900800-1702933200@redlegbrewing.com
SUMMARY:Beer Release: Tangerine Belgian Witbier
DESCRIPTION:Join us in the taproom on Monday\, December 18\, for the release of our new Tangerine Belgian Witbier!
URL:https://redlegbrewing.com/event/beer-release-tangerine-belgian-witbier/
LOCATION:Red Leg Brewing Company\, 2323 Garden of the Gods Rd\, Colorado Springs\, CO\, 80907\, United States
CATEGORIES:Special Event
END:VEVENT
BEGIN:VEVENT
DTSTART;TZID=America/Denver:20231217T180000
DTEND;TZID=America/Denver:20231217T200000
DTSTAMP:20260425T061025
CREATED:20231031T180536Z
LAST-MODIFIED:20231031T180620Z
UID:16536-1702836000-1702843200@redlegbrewing.com
SUMMARY:Gingerbread House Competition
DESCRIPTION:Join us on December 17th from 6-8 pm for our Gingerbread House Competition at Red Leg Brewing Company! The competition will be 1 hour and 30 minutes for creating and 30 minutes for judging and awards. Check-in at 5:45 pm.\n\nThis is a ticketed event and often sells out. Tickets are $30/gingerbread house\, and each house can have up to 2 decorators. Two pints are also included in the ticket price. Each group will have 1 hour and 30 minutes to construct and decorate their houses. All ages welcome – beer can be substituted for wine\, hard cider or seltzer\, or kombucha.\n\nA basic gingerbread house kit will be provided to each team. The kit includes gingerbread house pieces\, a base\, and candy. It is HIGHLY ENCOURAGED that you bring additional candy and decorating items. We will not have extra candy. All decor MUST be edible.
URL:https://redlegbrewing.com/event/gingerbread-house-competition-3/
LOCATION:Red Leg Brewing Company\, 2323 Garden of the Gods Rd\, Colorado Springs\, CO\, 80907\, United States
CATEGORIES:Special Event
END:VEVENT
BEGIN:VEVENT
DTSTART;TZID=America/Denver:20231216T130000
DTEND;TZID=America/Denver:20231216T180000
DTSTAMP:20260425T061025
CREATED:20231212T180602Z
LAST-MODIFIED:20231212T180603Z
UID:16903-1702731600-1702749600@redlegbrewing.com
SUMMARY:Sweata Weatha at the Brewery
DESCRIPTION:Oh my gawd\, it’s finally sweata weatha! Wear your most festive holiday sweater (ugly or not) to the taproom from 1-6 pm & enjoy a complimentary Red Leg 1/2 pint on us! Nothing says holiday cheer like free delicious beer!
URL:https://redlegbrewing.com/event/sweata-weatha-at-the-brewery/
LOCATION:Red Leg Brewing Company\, 2323 Garden of the Gods Rd\, Colorado Springs\, CO\, 80907\, United States
CATEGORIES:Special Event
END:VEVENT
BEGIN:VEVENT
DTSTART;TZID=America/Denver:20231216T110000
DTEND;TZID=America/Denver:20231216T130000
DTSTAMP:20260425T061025
CREATED:20231102T211046Z
LAST-MODIFIED:20231102T221500Z
UID:16592-1702724400-1702731600@redlegbrewing.com
SUMMARY:The Grinch Games
DESCRIPTION:Get ready to unleash your inner Grinch…in the most playful way possible! \nJoin us for “The Grinch Games” – a wacky\, whimsical\, and downright mischievous event inspired by Dr. Seuss’ “How the Grinch Stole Christmas.” Grab your merry band of mischief-makers because this is a team showdown like no other! \nRegistration: $20 per team\, with 4 members per team. (12 teams max) \nAge Limit:12 years and older.\nDate: December 16th – 11 am-1 pm \nEvent Highlights: \n\nHilarious team games and obstacle courses that will put your Grinch-like skills to the test.\n\nPudding Eating Contest\nTreelay\nDressing Dash\nFlip Cup Christmas Tree\nOven Mitt Unwrapping\nHuman Tree Decorating\n\n\nPrize money $$ and bragging rights for the most Grinch-tastic team.\nCostumes are encouraged! Dress up as your favorite Whos\, or don your finest Grinch attire. General fun holiday costumes are also welcome!\n\nYou’re a mean one\, Mr. Grinch\, but we’re ready for some festive fun! Grab your crew and sign up for “The Grinch Games” – a heart-growing\, laughter-inducing holiday adventure. Don’t be a Grinch and miss out! \nFor questions\, email events@redlegbrewing.com.
URL:https://redlegbrewing.com/event/the-grinch-games/
LOCATION:Red Leg Brewing Company\, 2323 Garden of the Gods Rd\, Colorado Springs\, CO\, 80907\, United States
CATEGORIES:Special Event
END:VEVENT
END:VCALENDAR