BEGIN:VCALENDAR
VERSION:2.0
PRODID:-//Red Leg Brewing Company - ECPv6.15.18//NONSGML v1.0//EN
CALSCALE:GREGORIAN
METHOD:PUBLISH
X-ORIGINAL-URL:https://redlegbrewing.com
X-WR-CALDESC:Events for Red Leg Brewing Company
REFRESH-INTERVAL;VALUE=DURATION:PT1H
X-Robots-Tag:noindex
X-PUBLISHED-TTL:PT1H
BEGIN:VTIMEZONE
TZID:America/Denver
BEGIN:DAYLIGHT
TZOFFSETFROM:-0700
TZOFFSETTO:-0600
TZNAME:MDT
DTSTART:20230312T090000
END:DAYLIGHT
BEGIN:STANDARD
TZOFFSETFROM:-0600
TZOFFSETTO:-0700
TZNAME:MST
DTSTART:20231105T080000
END:STANDARD
BEGIN:DAYLIGHT
TZOFFSETFROM:-0700
TZOFFSETTO:-0600
TZNAME:MDT
DTSTART:20240310T090000
END:DAYLIGHT
BEGIN:STANDARD
TZOFFSETFROM:-0600
TZOFFSETTO:-0700
TZNAME:MST
DTSTART:20241103T080000
END:STANDARD
BEGIN:DAYLIGHT
TZOFFSETFROM:-0700
TZOFFSETTO:-0600
TZNAME:MDT
DTSTART:20250309T090000
END:DAYLIGHT
BEGIN:STANDARD
TZOFFSETFROM:-0600
TZOFFSETTO:-0700
TZNAME:MST
DTSTART:20251102T080000
END:STANDARD
END:VTIMEZONE
BEGIN:VEVENT
DTSTART;TZID=America/Denver:20240810T153000
DTEND;TZID=America/Denver:20240810T173000
DTSTAMP:20260425T042302
CREATED:20240530T163714Z
LAST-MODIFIED:20240613T151806Z
UID:19027-1723303800-1723311000@redlegbrewing.com
SUMMARY:Live Music : Marcus Kruep
DESCRIPTION:Come on out to see Marcus play some jammin’ tunes!\n Marcus KruepClick to Listen Now!
URL:https://redlegbrewing.com/event/live-music-marcus-kruep-3/
LOCATION:Red Leg Brewing Company\, 2323 Garden of the Gods Rd\, Colorado Springs\, CO\, 80907\, United States
CATEGORIES:Live Entertainment
END:VEVENT
BEGIN:VEVENT
DTSTART;TZID=America/Denver:20240813T183000
DTEND;TZID=America/Denver:20240813T203000
DTSTAMP:20260425T042302
CREATED:20240712T185900Z
LAST-MODIFIED:20240712T185900Z
UID:37885-1723573800-1723581000@redlegbrewing.com
SUMMARY:Trivia Night
DESCRIPTION:LIVE Trivia with a variety of questions including Picture Mashups\, Name That Year\, Music & Movie clips\, Retro TV Theme Song\, and more!\nEvery Tuesday starting at 6:30 pm with your host Allie! Prizes for 1st\, 2nd and 3rd.
URL:https://redlegbrewing.com/event/trivia-night-116/
LOCATION:Red Leg Brewing Company\, 2323 Garden of the Gods Rd\, Colorado Springs\, CO\, 80907\, United States
CATEGORIES:Ongoing Event
END:VEVENT
BEGIN:VEVENT
DTSTART;TZID=America/Denver:20240814T183000
DTEND;TZID=America/Denver:20240814T203000
DTSTAMP:20260425T042302
CREATED:20240712T190211Z
LAST-MODIFIED:20240712T190211Z
UID:37891-1723660200-1723667400@redlegbrewing.com
SUMMARY:Music Video Bingo
DESCRIPTION:Wednesdays are for Music Video BINGO! Win FREE BEER while watching music videos! Join the fun in the taproom from 6:30-8:30 pm – it’s free to play!Your Host will be playing a variety of classic & unique music videos from the last 60 years. You don’t need to know the title or artist to win so relax & have another pint! Just pay attention\, work that bingo dabber & drink on! Winners every round + Grand Prize!
URL:https://redlegbrewing.com/event/music-video-bingo-87/
LOCATION:Red Leg Brewing Company\, 2323 Garden of the Gods Rd\, Colorado Springs\, CO\, 80907\, United States
CATEGORIES:Ongoing Event
END:VEVENT
BEGIN:VEVENT
DTSTART;TZID=America/Denver:20240815T170000
DTEND;TZID=America/Denver:20240815T200000
DTSTAMP:20260425T042302
CREATED:20240716T204549Z
LAST-MODIFIED:20240716T205139Z
UID:37930-1723741200-1723752000@redlegbrewing.com
SUMMARY:Craft For A Cause : Trails and Open Spaces Coalition
DESCRIPTION:Every Thursday in June from 5:00pm to 8:00pm and we donate $1 from every Red Leg pint sold to the organization during that time.\nCome and Support your local brewery and your favorite Non-Profits! \nThis week is the Trails and Open Spaces Coalition! \n TOSC STANDS FOR THE OUTDOORSTrails and Open Spaces Alliance
URL:https://redlegbrewing.com/event/craft-for-a-cause-trails-and-open-spaces-coalition/
LOCATION:Red Leg Brewing Company\, 2323 Garden of the Gods Rd\, Colorado Springs\, CO\, 80907\, United States
CATEGORIES:Special Event
END:VEVENT
BEGIN:VEVENT
DTSTART;VALUE=DATE:20240816
DTEND;VALUE=DATE:20240817
DTSTAMP:20260425T042302
CREATED:20230724T212614Z
LAST-MODIFIED:20240812T154112Z
UID:15478-1723766400-1723852799@redlegbrewing.com
SUMMARY:Beer Release: Wunder Bier Märzen
DESCRIPTION:We’re getting ready for Oktoberfest and nothing says Oktoberfest like the release of our newest beer\, Wunder Bier Märzen! \nBeer Deets:\n5.22% ABV\, 20 IBU\nA vibrant\, crisp\, and malty German amber lager displaying crystal clear rich copper hues and a cleanly balanced body that meanders from bready/ sweet to effervescent and dry on the finish. Brewed exclusively with German malts and hops from the Munich and Hallertau regions to create a beverage so fine that Duke Wilhelm himself would approve. Prost! \nGet ready to embrace the season’s flavors and celebrate with friends over a pint of this delightful brew. \nAvailable on August 16th at the brewery and in 16 oz 6-packs the following week at liquor stores.
URL:https://redlegbrewing.com/event/beer-release-wunder-bier-marzen/
LOCATION:Red Leg Brewing Company\, 2323 Garden of the Gods Rd\, Colorado Springs\, CO\, 80907\, United States
END:VEVENT
BEGIN:VEVENT
DTSTART;TZID=America/Denver:20240820T183000
DTEND;TZID=America/Denver:20240820T203000
DTSTAMP:20260425T042302
CREATED:20240712T190017Z
LAST-MODIFIED:20240712T190040Z
UID:37887-1724178600-1724185800@redlegbrewing.com
SUMMARY:Trivia Night
DESCRIPTION:LIVE Trivia with a variety of questions including Picture Mashups\, Name That Year\, Music & Movie clips\, Retro TV Theme Song\, and more!\nEvery Tuesday starting at 6:30 pm with your host Allie! Prizes for 1st\, 2nd and 3rd.
URL:https://redlegbrewing.com/event/trivia-night-117/
LOCATION:Red Leg Brewing Company\, 2323 Garden of the Gods Rd\, Colorado Springs\, CO\, 80907\, United States
CATEGORIES:Ongoing Event
END:VEVENT
BEGIN:VEVENT
DTSTART;TZID=America/Denver:20240821T183000
DTEND;TZID=America/Denver:20240821T203000
DTSTAMP:20260425T042302
CREATED:20240712T190259Z
LAST-MODIFIED:20240712T190259Z
UID:37893-1724265000-1724272200@redlegbrewing.com
SUMMARY:Music Video Bingo
DESCRIPTION:Wednesdays are for Music Video BINGO! Win FREE BEER while watching music videos! Join the fun in the taproom from 6:30-8:30 pm – it’s free to play!Your Host will be playing a variety of classic & unique music videos from the last 60 years. You don’t need to know the title or artist to win so relax & have another pint! Just pay attention\, work that bingo dabber & drink on! Winners every round + Grand Prize!
URL:https://redlegbrewing.com/event/music-video-bingo-88/
LOCATION:Red Leg Brewing Company\, 2323 Garden of the Gods Rd\, Colorado Springs\, CO\, 80907\, United States
CATEGORIES:Ongoing Event
END:VEVENT
BEGIN:VEVENT
DTSTART;TZID=America/Denver:20240821T200000
DTEND;TZID=America/Denver:20240821T220000
DTSTAMP:20260425T042302
CREATED:20240710T193444Z
LAST-MODIFIED:20240821T180450Z
UID:37845-1724270400-1724277600@redlegbrewing.com
SUMMARY:Movie Night on the Lawn (or Rooftop Tent) : Indiana Jones Raiders of the Lost Ark
DESCRIPTION:UPDATE* ☀️🌧️ If the skies stay clear\, we’ll be adventuring on the lawn! But if the rain decides to join the fun\, we’ll take it to the rooftop tent\, where it’ll feel just like exploring a cave (minus the rolling boulders 😉). We decided we could start earlier\, so the movie will be starting at 8PM! \n  \nDon’t miss out on this epic evening filled with action\, laughter\, and great company. Whether you’re a die-hard Indy fan or new to the adventures\, this is a night you won’t want to miss. \nAdmission is free\, so come early\, bring your lawn chairs and snag a good spot! See you there\, adventurers! 🍻✨ \n#RedLegBrewing #MovieNight #IndianaJones #FamilyFun #OutdoorCinema #CraftBeer #CommunityEvent #ColoradoSprings
URL:https://redlegbrewing.com/event/movie-night-on-the-lawn-indiana-jones-raiders-of-the-lost-arc/
LOCATION:Red Leg Brewing Company\, 2323 Garden of the Gods Rd\, Colorado Springs\, CO\, 80907\, United States
CATEGORIES:Special Event
END:VEVENT
BEGIN:VEVENT
DTSTART;TZID=America/Denver:20240822T170000
DTEND;TZID=America/Denver:20240822T200000
DTSTAMP:20260425T042302
CREATED:20240716T205022Z
LAST-MODIFIED:20240822T160829Z
UID:37932-1724346000-1724356800@redlegbrewing.com
SUMMARY:Craft for a Cause: Harley's Hope
DESCRIPTION:Every Thursday in June from 5:00pm to 8:00pm and we donate $1 from every Red Leg pint sold to the organization during that time.\nCome and Support your local brewery and your favorite Non-Profits! \nThis week is Harley’s Hope! \n  \n Visit Harley’s HopeKeeping People and Pets together!\n 
URL:https://redlegbrewing.com/event/craft-for-a-cause-harleys-hope/
LOCATION:Red Leg Brewing Company\, 2323 Garden of the Gods Rd\, Colorado Springs\, CO\, 80907\, United States
CATEGORIES:Special Event
END:VEVENT
BEGIN:VEVENT
DTSTART;TZID=America/Denver:20240827T183000
DTEND;TZID=America/Denver:20240827T203000
DTSTAMP:20260425T042302
CREATED:20240712T190117Z
LAST-MODIFIED:20240712T190117Z
UID:37889-1724783400-1724790600@redlegbrewing.com
SUMMARY:Trivia Night
DESCRIPTION:LIVE Trivia with a variety of questions including Picture Mashups\, Name That Year\, Music & Movie clips\, Retro TV Theme Song\, and more!\nEvery Tuesday starting at 6:30 pm with your host Allie! Prizes for 1st\, 2nd and 3rd.
URL:https://redlegbrewing.com/event/trivia-night-118/
LOCATION:Red Leg Brewing Company\, 2323 Garden of the Gods Rd\, Colorado Springs\, CO\, 80907\, United States
CATEGORIES:Ongoing Event
END:VEVENT
BEGIN:VEVENT
DTSTART;TZID=America/Denver:20240828T183000
DTEND;TZID=America/Denver:20240828T203000
DTSTAMP:20260425T042302
CREATED:20240712T190354Z
LAST-MODIFIED:20240712T190507Z
UID:37895-1724869800-1724877000@redlegbrewing.com
SUMMARY:Music Video Bingo
DESCRIPTION:Wednesdays are for Music Video BINGO! Win FREE BEER while watching music videos! Join the fun in the taproom from 6:30-8:30 pm – it’s free to play!Your Host will be playing a variety of classic & unique music videos from the last 60 years. You don’t need to know the title or artist to win so relax & have another pint! Just pay attention\, work that bingo dabber & drink on! Winners every round + Grand Prize!
URL:https://redlegbrewing.com/event/music-video-bingo-89/
LOCATION:Red Leg Brewing Company\, 2323 Garden of the Gods Rd\, Colorado Springs\, CO\, 80907\, United States
CATEGORIES:Ongoing Event
END:VEVENT
BEGIN:VEVENT
DTSTART;TZID=America/Denver:20240829T170000
DTEND;TZID=America/Denver:20240829T200000
DTSTAMP:20260425T042302
CREATED:20240716T205709Z
LAST-MODIFIED:20240717T173332Z
UID:37937-1724950800-1724961600@redlegbrewing.com
SUMMARY:Craft For A Cause: Wild Warrior Adventure
DESCRIPTION:Every Thursday in June from 5:00pm to 8:00pm and we donate $1 from every Red Leg pint sold to the organization during that time.\nCome and Support your local brewery and your favorite Non-Profits! \nThis week is Wild Warrior Adventure! \n Visit Wild Warrior AdventureRestoring hope in our warriors through outdoor adventure!
URL:https://redlegbrewing.com/event/craft-for-a-cause-wild-warrior-adventure/
LOCATION:Red Leg Brewing Company\, 2323 Garden of the Gods Rd\, Colorado Springs\, CO\, 80907\, United States
CATEGORIES:Special Event
END:VEVENT
BEGIN:VEVENT
DTSTART;TZID=America/Denver:20240829T190000
DTEND;TZID=America/Denver:20240829T213000
DTSTAMP:20260425T042302
CREATED:20240819T170038Z
LAST-MODIFIED:20240823T203503Z
UID:40650-1724958000-1724967000@redlegbrewing.com
SUMMARY:Comedy Show August 29th
DESCRIPTION:Join us for a night of laughter under the stars at the rooftop of Red Leg Brewing Company! We’re bringing you an unforgettable comedy show featuring some of the best talents in the business.\nAugust 29th Doors open at 6\, and show starts at 7 pm and goes until 9 pm.21+ event.Tickets are $10 with a two-drink minimum for the show!\nHeadliner:Hannah Jones is a Denver comedian and a regular Woman About The Internet; her videos on Tiktok and Instagram have been viewed over 30 million times\, where she is consistently\, “shitting on the mother toilet”\, as they say. She has been featured on Netflix is a Joke Radio and Don’t Tell Secret Sets and holds the career defining title of the 2007 Fayetteville Christian Homeschool Chess Club’s “Most Improved.”\n\nOther performers:\nFeature: Thad B.\nTaylor Dugger | Leslie Fox | Ceasar Gonzalez\n\n COMEDY ON THE ROOFTOP Click to Learn More
URL:https://redlegbrewing.com/event/comedy-show-august-29th/
LOCATION:Red Leg Brewing Company\, 2323 Garden of the Gods Rd\, Colorado Springs\, CO\, 80907\, United States
CATEGORIES:Special Event
END:VEVENT
BEGIN:VEVENT
DTSTART;TZID=America/Denver:20240831T150000
DTEND;TZID=America/Denver:20240831T180000
DTSTAMP:20260425T042302
CREATED:20240830T154053Z
LAST-MODIFIED:20240830T173024Z
UID:40779-1725116400-1725127200@redlegbrewing.com
SUMMARY:Live Music: Marcus Kruep
DESCRIPTION:Music from Marcus Kruep 3pm-6pm
URL:https://redlegbrewing.com/event/live-music-marcus-kruep-5/
LOCATION:Red Leg Brewing Company\, 2323 Garden of the Gods Rd\, Colorado Springs\, CO\, 80907\, United States
CATEGORIES:Live Entertainment,Special Event
END:VEVENT
BEGIN:VEVENT
DTSTART;TZID=America/Denver:20240901T110000
DTEND;TZID=America/Denver:20240901T150000
DTSTAMP:20260425T042302
CREATED:20240103T183926Z
LAST-MODIFIED:20240103T183926Z
UID:17174-1725188400-1725202800@redlegbrewing.com
SUMMARY:September Makers Market
DESCRIPTION:Our Makers Markets feature a rotating selection of local artists\, makers\, and farmers. A fun combination of farm and art market! Head on over to the brewery for our outdoor market and support small local businesses all in one convenient stop!\n\n2024 Market Dates:\nMay 5\, 2024\nJune 2\, 2024\nJuly 7\, 2024\nAug 4\, 2024\nSept 1\, 2024\nOct 6\, 2024\nDec 1\, 2024 – Holiday Market\n\nAll markets will be held from 11 am-3 pm unless noted otherwise.\n\nApplications are now open for the 2024 Market season at www.redlegbrewing.com/makers-market. Selected vendors will be contacted directly by Red Leg staff before the market. If you have questions or concerns\, please email events@redlegbrewing.com. Cheers!
URL:https://redlegbrewing.com/event/september-makers-market-3/
LOCATION:Red Leg Brewing Company\, 2323 Garden of the Gods Rd\, Colorado Springs\, CO\, 80907\, United States
CATEGORIES:Special Event
END:VEVENT
BEGIN:VEVENT
DTSTART;TZID=America/Denver:20240903T183000
DTEND;TZID=America/Denver:20240903T200000
DTSTAMP:20260425T042302
CREATED:20240905T181440Z
LAST-MODIFIED:20240905T181440Z
UID:40855-1725388200-1725393600@redlegbrewing.com
SUMMARY:Trivia Night
DESCRIPTION:LIVE Trivia with a variety of questions including Picture Mashups\, Name That Year\, Music & Movie clips\, Retro TV Theme Song\, and more!\nEvery Tuesday starting at 6:30 pm with your host Allie! Prizes for 1st\, 2nd and 3rd.
URL:https://redlegbrewing.com/event/trivia-night-119/
LOCATION:Red Leg Brewing Company\, 2323 Garden of the Gods Rd\, Colorado Springs\, CO\, 80907\, United States
CATEGORIES:Ongoing Event
END:VEVENT
BEGIN:VEVENT
DTSTART;TZID=America/Denver:20240904T200000
DTEND;TZID=America/Denver:20240904T213000
DTSTAMP:20260425T042302
CREATED:20240822T165539Z
LAST-MODIFIED:20240904T164534Z
UID:40691-1725480000-1725485400@redlegbrewing.com
SUMMARY:Movie On the Lawn CANCELLED
DESCRIPTION:CANCELLED \n🎬 Movie on the Lawn🎬 \nGet ready for a spooky throwback! Before the new movie hits theaters\, join us at the brewery for a special screening of the original under the stars. \nBring your lawn chairs\, grab a brew\, and settle in for a night of ghostly fun on the lawn. Whether you’re a longtime fan or new to magic and have ended up in the Neitherworld Waiting Room\, it’s the perfect way to get in the spirit before the sequel. And remember\, saying his name three times might just make him appear… 😉 \nFree admission. Cold beers. Classic movie vibes. Don’t miss it! \n 
URL:https://redlegbrewing.com/event/movie-on-the-lawn-beetlejuice/
LOCATION:Red Leg Brewing Company\, 2323 Garden of the Gods Rd\, Colorado Springs\, CO\, 80907\, United States
CATEGORIES:Special Event
END:VEVENT
BEGIN:VEVENT
DTSTART;TZID=America/Denver:20240905T170000
DTEND;TZID=America/Denver:20240905T200000
DTSTAMP:20260425T042302
CREATED:20240822T160156Z
LAST-MODIFIED:20240822T160156Z
UID:40674-1725555600-1725566400@redlegbrewing.com
SUMMARY:Craft for a Cause: Mile High Lab Mission
DESCRIPTION:Craft for a Cause nights are held every Thursday to give our community’s non-profits a way to raise money for their causes. We provide the venue for the organization to connect with the community over a good beer as well as raise funds for their group. Red Leg contributes $1 of each RLBC pint sold to the sponsored group on Craft for a Cause Thursdays. \n Mile High Labs Mission Click to Learn More
URL:https://redlegbrewing.com/event/craft-for-a-cause-mile-high-lab-mission/
LOCATION:Red Leg Brewing Company\, 2323 Garden of the Gods Rd\, Colorado Springs\, CO\, 80907\, United States
CATEGORIES:Special Event
END:VEVENT
BEGIN:VEVENT
DTSTART;TZID=America/Denver:20240910T183000
DTEND;TZID=America/Denver:20240910T200000
DTSTAMP:20260425T042302
CREATED:20240905T181523Z
LAST-MODIFIED:20240905T181523Z
UID:40857-1725993000-1725998400@redlegbrewing.com
SUMMARY:Trivia Night
DESCRIPTION:LIVE Trivia with a variety of questions including Picture Mashups\, Name That Year\, Music & Movie clips\, Retro TV Theme Song\, and more!\nEvery Tuesday starting at 6:30 pm with your host Allie! Prizes for 1st\, 2nd and 3rd.
URL:https://redlegbrewing.com/event/trivia-night-120/
LOCATION:Red Leg Brewing Company\, 2323 Garden of the Gods Rd\, Colorado Springs\, CO\, 80907\, United States
CATEGORIES:Ongoing Event
END:VEVENT
BEGIN:VEVENT
DTSTART;TZID=America/Denver:20240911T183000
DTEND;TZID=America/Denver:20240911T200000
DTSTAMP:20260425T042302
CREATED:20240905T181020Z
LAST-MODIFIED:20240905T181020Z
UID:40847-1726079400-1726084800@redlegbrewing.com
SUMMARY:Music Video Bingo
DESCRIPTION:Wednesdays are for Music Video BINGO! Win FREE BEER while watching music videos! Join the fun in the taproom from 6:30-8:30 pm – it’s free to play!Your Host will be playing a variety of classic & unique music videos from the last 60 years. You don’t need to know the title or artist to win so relax & have another pint! Just pay attention\, work that bingo dabber & drink on! Winners every round + Grand Prize!
URL:https://redlegbrewing.com/event/music-video-bingo-90/
LOCATION:CO
CATEGORIES:Ongoing Event
END:VEVENT
BEGIN:VEVENT
DTSTART;TZID=America/Denver:20240912T170000
DTEND;TZID=America/Denver:20240912T200000
DTSTAMP:20260425T042302
CREATED:20240822T160358Z
LAST-MODIFIED:20240822T160358Z
UID:40678-1726160400-1726171200@redlegbrewing.com
SUMMARY:Craft for a Cause: Special Forces Foundation
DESCRIPTION:Craft for a Cause nights are held every Thursday to give our community’s non-profits a way to raise money for their causes. We provide the venue for the organization to connect with the community over a good beer as well as raise funds for their group. Red Leg contributes $1 of each RLBC pint sold to the sponsored group on Craft for a Cause Thursdays. \n Special Forces Foundation Click to Learn More
URL:https://redlegbrewing.com/event/craft-for-a-cause-special-forces-foundation/
LOCATION:Red Leg Brewing Company\, 2323 Garden of the Gods Rd\, Colorado Springs\, CO\, 80907\, United States
CATEGORIES:Ongoing Event,Special Event
END:VEVENT
BEGIN:VEVENT
DTSTART;TZID=America/Denver:20240915T170000
DTEND;TZID=America/Denver:20240915T190000
DTSTAMP:20260425T042302
CREATED:20240826T212127Z
LAST-MODIFIED:20240906T211955Z
UID:40740-1726419600-1726426800@redlegbrewing.com
SUMMARY:Artist Showcase: Cheyenne Teague
DESCRIPTION:Cheyenne Teague\, a Colorado native\, has been immersed in the world of art her entire life. With a passion for learning and teaching\, she shares her knowledge at the Bemis School of Art and through local brewery classes. Recently\, her artistic focus has centered on creating dream catchers\, which draw inspiration from nature\, history\, and the people she encounters. \nCheyenne’s dream catchers are more than just decorative pieces—they are woven with positivity\, good intentions\, and love\, often incorporating healing crystals and vibrant colors. Each creation is unique\, and she delights in crafting custom pieces tailored to individual preferences. If you’re interested in commissioning a custom art piece or participating in a class to create your own\, don’t hesitate to reach out and come talk with her on her opening night here at Red Leg! \nCheyenne is deeply grateful for the opportunity to both create and teach art. It’s the support of art lovers like you that keeps the creative spirit alive. You can stay updated on her upcoming classes\, new art\, or simply connect by checking out her social media.
URL:https://redlegbrewing.com/event/artist-showcase/
LOCATION:Red Leg Brewing Company\, 2323 Garden of the Gods Rd\, Colorado Springs\, CO\, 80907\, United States
CATEGORIES:Special Event
END:VEVENT
BEGIN:VEVENT
DTSTART;TZID=America/Denver:20240917T183000
DTEND;TZID=America/Denver:20240917T200000
DTSTAMP:20260425T042302
CREATED:20240905T181620Z
LAST-MODIFIED:20240905T181620Z
UID:40859-1726597800-1726603200@redlegbrewing.com
SUMMARY:Trivia Night
DESCRIPTION:LIVE Trivia with a variety of questions including Picture Mashups\, Name That Year\, Music & Movie clips\, Retro TV Theme Song\, and more!\nEvery Tuesday starting at 6:30 pm with your host Allie! Prizes for 1st\, 2nd and 3rd.
URL:https://redlegbrewing.com/event/trivia-night-121/
LOCATION:Red Leg Brewing Company\, 2323 Garden of the Gods Rd\, Colorado Springs\, CO\, 80907\, United States
CATEGORIES:Ongoing Event
END:VEVENT
BEGIN:VEVENT
DTSTART;TZID=America/Denver:20240918T063000
DTEND;TZID=America/Denver:20240918T200000
DTSTAMP:20260425T042302
CREATED:20240905T181220Z
LAST-MODIFIED:20240905T181220Z
UID:40851-1726641000-1726689600@redlegbrewing.com
SUMMARY:Music Video Bingo
DESCRIPTION:Wednesdays are for Music Video BINGO! Win FREE BEER while watching music videos! Join the fun in the taproom from 6:30-8:30 pm – it’s free to play!Your Host will be playing a variety of classic & unique music videos from the last 60 years. You don’t need to know the title or artist to win so relax & have another pint! Just pay attention\, work that bingo dabber & drink on! Winners every round + Grand Prize!
URL:https://redlegbrewing.com/event/music-video-bingo-92/
LOCATION:Red Leg Brewing Company\, 2323 Garden of the Gods Rd\, Colorado Springs\, CO\, 80907\, United States
CATEGORIES:Ongoing Event
END:VEVENT
BEGIN:VEVENT
DTSTART;TZID=America/Denver:20240918T200000
DTEND;TZID=America/Denver:20240918T200000
DTSTAMP:20260425T042302
CREATED:20240902T202807Z
LAST-MODIFIED:20240909T155400Z
UID:40801-1726689600-1726689600@redlegbrewing.com
SUMMARY:Movie Night On The Lawn
DESCRIPTION:Join us for a classic Movie on the Lawn featuring a quirky and beloved movie from the 2000’s!  Bring your lawn chairs\, blankets\, and sense of humor as we screen this cult favorite under the stars. Whether you’re a fan of sweet dance moves or epic football throws\, there’s something for everyone. \nGrab a cold brew\, sit back\, and enjoy an evening of nostalgia and laughs. \nAdmission is free\, kids are welcome and good vibes are guaranteed. See you on the lawn!
URL:https://redlegbrewing.com/event/movie-night-on-the-lawn-napoleon-dynamite/
LOCATION:Red Leg Brewing Company\, 2323 Garden of the Gods Rd\, Colorado Springs\, CO\, 80907\, United States
CATEGORIES:Special Event
END:VEVENT
BEGIN:VEVENT
DTSTART;TZID=America/Denver:20240919T050000
DTEND;TZID=America/Denver:20240919T200000
DTSTAMP:20260425T042302
CREATED:20240822T160607Z
LAST-MODIFIED:20240822T160607Z
UID:40680-1726722000-1726776000@redlegbrewing.com
SUMMARY:Craft for a Cause: United Service Organizations\, Inc
DESCRIPTION:United Service Organizations\, Inc Click to Learn More
URL:https://redlegbrewing.com/event/craft-for-a-cause-united-service-organizations-inc/
LOCATION:Red Leg Brewing Company\, 2323 Garden of the Gods Rd\, Colorado Springs\, CO\, 80907\, United States
CATEGORIES:Ongoing Event,Special Event
END:VEVENT
BEGIN:VEVENT
DTSTART;TZID=America/Denver:20240921T110000
DTEND;TZID=America/Denver:20240921T190000
DTSTAMP:20260425T042302
CREATED:20240530T191426Z
LAST-MODIFIED:20240530T201412Z
UID:19048-1726916400-1726945200@redlegbrewing.com
SUMMARY:Live Music : Neue Colorado Polka
DESCRIPTION:Neue Polka Colorado is a polka band for the 21st century. Traditional/pop/rock polka fusion.
URL:https://redlegbrewing.com/event/live-music-neue-colorado-polka/
LOCATION:Red Leg Brewing Company\, 2323 Garden of the Gods Rd\, Colorado Springs\, CO\, 80907\, United States
CATEGORIES:Live Entertainment
END:VEVENT
BEGIN:VEVENT
DTSTART;TZID=America/Denver:20240921T110000
DTEND;TZID=America/Denver:20240921T190000
DTSTAMP:20260425T042302
CREATED:20240814T174904Z
LAST-MODIFIED:20240919T205752Z
UID:40566-1726916400-1726945200@redlegbrewing.com
SUMMARY:Oktoberfest at Red Leg Brewing Company 2024
DESCRIPTION:We’re bringing Germany to you with the return of our Oktoberfest celebration on Sept. 21st! We’ll be celebrating with music by Neue Polka Colorado\, contests\, games\, soft pretzels\, and more! \nThis is a FREE event (unless you want the VIP Experience!) and family-friendly! We can’t wait to see you in your lederhosen and dirndls for a kick @$$ time! \nFood:-Our Wunder Bier Marzen beer will be flowing throughout the day!\n-Mark Anthony will be coming for Oktoberfest to sell pretzels from 11am to 4:30pm\nOktoberfest Timeline: \n11:00 am – Open to the public\, VIP only on the Rooftop\, Neue Colorado Polka starts! \n12:00pm – Stein judging – the people judge \n1:15 pm – Stein Holding Contest – three rounds\, Men/Women/Kids \n2:15 pm – Announce Best Dressed at Oktoberfest (three winners) \n3:00 – Keg Squatting \nEnd of competitions\, band plays until 6:00pm! \nWe’ll also have a Stein judging competition where you can bring your unique Stein for the chance to be voted best! A prize will be awarded to the winner! \nVIP Experience: (21+)\n2024 Red Leg Stein\nPretzel Necklace\nOktoberfest Sticker\nOktoberfest Pin\n1 Free Beer\n$5 Flagship Pours All Day\nRed Leg Stickers\nVIP Covered Rooftop Seating (11 am-3 pm)\nPrivate Rooftop Bar Access (11 am-3 pm) \n BUY A VIP TICKET$65 For Experience
URL:https://redlegbrewing.com/event/40566/
LOCATION:Red Leg Brewing Company\, 2323 Garden of the Gods Rd\, Colorado Springs\, CO\, 80907\, United States
CATEGORIES:Live Entertainment,Special Event
END:VEVENT
BEGIN:VEVENT
DTSTART;TZID=America/Denver:20240924T183000
DTEND;TZID=America/Denver:20240924T200000
DTSTAMP:20260425T042302
CREATED:20240905T181653Z
LAST-MODIFIED:20240905T181653Z
UID:40861-1727202600-1727208000@redlegbrewing.com
SUMMARY:Trivia Night
DESCRIPTION:LIVE Trivia with a variety of questions including Picture Mashups\, Name That Year\, Music & Movie clips\, Retro TV Theme Song\, and more!\nEvery Tuesday starting at 6:30 pm with your host Allie! Prizes for 1st\, 2nd and 3rd.
URL:https://redlegbrewing.com/event/trivia-night-122/
LOCATION:CO
CATEGORIES:Ongoing Event
END:VEVENT
BEGIN:VEVENT
DTSTART;TZID=America/Denver:20240925T183000
DTEND;TZID=America/Denver:20240925T200000
DTSTAMP:20260425T042302
CREATED:20240905T181117Z
LAST-MODIFIED:20240905T181117Z
UID:40849-1727289000-1727294400@redlegbrewing.com
SUMMARY:Music Video Bingo
DESCRIPTION:Wednesdays are for Music Video BINGO! Win FREE BEER while watching music videos! Join the fun in the taproom from 6:30-8:30 pm – it’s free to play!Your Host will be playing a variety of classic & unique music videos from the last 60 years. You don’t need to know the title or artist to win so relax & have another pint! Just pay attention\, work that bingo dabber & drink on! Winners every round + Grand Prize!
URL:https://redlegbrewing.com/event/music-video-bingo-91/
LOCATION:Red Leg Brewing Company\, 2323 Garden of the Gods Rd\, Colorado Springs\, CO\, 80907\, United States
CATEGORIES:Ongoing Event
END:VEVENT
END:VCALENDAR