BEGIN:VCALENDAR
VERSION:2.0
PRODID:-//Red Leg Brewing Company - ECPv6.15.18//NONSGML v1.0//EN
CALSCALE:GREGORIAN
METHOD:PUBLISH
X-WR-CALNAME:Red Leg Brewing Company
X-ORIGINAL-URL:https://redlegbrewing.com
X-WR-CALDESC:Events for Red Leg Brewing Company
REFRESH-INTERVAL;VALUE=DURATION:PT1H
X-Robots-Tag:noindex
X-PUBLISHED-TTL:PT1H
BEGIN:VTIMEZONE
TZID:America/Denver
BEGIN:DAYLIGHT
TZOFFSETFROM:-0700
TZOFFSETTO:-0600
TZNAME:MDT
DTSTART:20230312T090000
END:DAYLIGHT
BEGIN:STANDARD
TZOFFSETFROM:-0600
TZOFFSETTO:-0700
TZNAME:MST
DTSTART:20231105T080000
END:STANDARD
BEGIN:DAYLIGHT
TZOFFSETFROM:-0700
TZOFFSETTO:-0600
TZNAME:MDT
DTSTART:20240310T090000
END:DAYLIGHT
BEGIN:STANDARD
TZOFFSETFROM:-0600
TZOFFSETTO:-0700
TZNAME:MST
DTSTART:20241103T080000
END:STANDARD
BEGIN:DAYLIGHT
TZOFFSETFROM:-0700
TZOFFSETTO:-0600
TZNAME:MDT
DTSTART:20250309T090000
END:DAYLIGHT
BEGIN:STANDARD
TZOFFSETFROM:-0600
TZOFFSETTO:-0700
TZNAME:MST
DTSTART:20251102T080000
END:STANDARD
END:VTIMEZONE
BEGIN:VEVENT
DTSTART;TZID=America/Denver:20240528T183000
DTEND;TZID=America/Denver:20240528T203000
DTSTAMP:20260425T042100
CREATED:20240521T192441Z
LAST-MODIFIED:20240521T192716Z
UID:18806-1716921000-1716928200@redlegbrewing.com
SUMMARY:Trivia Night
DESCRIPTION:LIVE Trivia with a variety of questions including Picture Mashups\, Name That Year\, Music & Movie clips\, Retro TV Theme Song\, and more!\nEvery Tuesday starting at 6:30 pm with your host Allie! Prizes for 1st\, 2nd and 3rd.
URL:https://redlegbrewing.com/event/trivia-night-105/
LOCATION:Red Leg Brewing Company\, 2323 Garden of the Gods Rd\, Colorado Springs\, CO\, 80907\, United States
CATEGORIES:Ongoing Event
END:VEVENT
BEGIN:VEVENT
DTSTART;TZID=America/Denver:20240526T150000
DTEND;TZID=America/Denver:20240526T170000
DTSTAMP:20260425T042100
CREATED:20240429T190816Z
LAST-MODIFIED:20240526T213604Z
UID:18525-1716735600-1716742800@redlegbrewing.com
SUMMARY:Live Music: Gigahorse
DESCRIPTION:Enjoy live music here at Red Leg Brewing Company!\n\nLive Band : GigahorseWe bring your favorites from the 70’s\, 80’s and 90’s\, you bring your dancin’ shoes!\n\nCome on out and check them out!
URL:https://redlegbrewing.com/event/live-music-gigahorse/
LOCATION:Red Leg Brewing Company\, 2323 Garden of the Gods Rd\, Colorado Springs\, CO\, 80907\, United States
CATEGORIES:Live Entertainment
END:VEVENT
BEGIN:VEVENT
DTSTART;TZID=America/Denver:20240524T170000
DTEND;TZID=America/Denver:20240524T200000
DTSTAMP:20260425T042100
CREATED:20240402T201036Z
LAST-MODIFIED:20240402T201036Z
UID:18174-1716570000-1716580800@redlegbrewing.com
SUMMARY:Craft for a Cause - Catamount Institute
DESCRIPTION:Every Thursday in May from 5:00pm to 8:00pm and we donate $1 from every Red Leg pint sold to the organization during that time.\nCome and Support your local brewery and your favorite Non-Profits!\nMay Non- Profits\nMay 2nd\, Guitars 4 Vets\nMay 9th\, UpaDowna\nMay 16th\, Frontline Gardens\nMay 23rd\, Catamount institute\nMay 30th\, Stable Strides
URL:https://redlegbrewing.com/event/craft-for-a-cause-catamount-institute-2/
LOCATION:Red Leg Brewing Company\, 2323 Garden of the Gods Rd\, Colorado Springs\, CO\, 80907\, United States
CATEGORIES:Special Event
END:VEVENT
BEGIN:VEVENT
DTSTART;TZID=America/Denver:20240521T183000
DTEND;TZID=America/Denver:20240521T203000
DTSTAMP:20260425T042100
CREATED:20240521T192348Z
LAST-MODIFIED:20240521T192348Z
UID:18804-1716316200-1716323400@redlegbrewing.com
SUMMARY:Trivia Night
DESCRIPTION:LIVE Trivia with a variety of questions including Picture Mashups\, Name That Year\, Music & Movie clips\, Retro TV Theme Song\, and more!\nEvery Tuesday starting at 6:30 pm with your host Allie! Prizes for 1st\, 2nd and 3rd.
URL:https://redlegbrewing.com/event/trivia-night-104/
LOCATION:CO
CATEGORIES:Ongoing Event
END:VEVENT
BEGIN:VEVENT
DTSTART;TZID=America/Denver:20240516T170000
DTEND;TZID=America/Denver:20240516T200000
DTSTAMP:20260425T042100
CREATED:20240402T200931Z
LAST-MODIFIED:20240402T200931Z
UID:18172-1715878800-1715889600@redlegbrewing.com
SUMMARY:Craft For A Cause - Frontline Gardens
DESCRIPTION:Every Thursday in May from 5:00pm to 8:00pm and we donate $1 from every Red Leg pint sold to the organization during that time.\nCome and Support your local brewery and your favorite Non-Profits!\nMay Non- Profits\nMay 2nd\, Guitars 4 Vets\nMay 9th\, UpaDowna\nMay 16th\, Frontline Gardens\nMay 23rd\, Catamount institute\nMay 30th\, Stable Strides
URL:https://redlegbrewing.com/event/craft-for-a-cause-frontline-gardens/
LOCATION:CO
END:VEVENT
BEGIN:VEVENT
DTSTART;TZID=America/Denver:20240509T170000
DTEND;TZID=America/Denver:20240509T200000
DTSTAMP:20260425T042100
CREATED:20240402T200844Z
LAST-MODIFIED:20240402T200844Z
UID:18170-1715274000-1715284800@redlegbrewing.com
SUMMARY:Craft For a Cause - UpDowna
DESCRIPTION:Every Thursday in May from 5:00pm to 8:00pm and we donate $1 from every Red Leg pint sold to the organization during that time.\nCome and Support your local brewery and your favorite Non-Profits!\nMay Non- Profits\nMay 2nd\, Guitars 4 Vets\nMay 9th\, UpaDowna\nMay 16th\, Frontline Gardens\nMay 23rd\, Catamount institute\nMay 30th\, Stable Strides
URL:https://redlegbrewing.com/event/craft-for-a-cause-updowna/
LOCATION:CO
END:VEVENT
BEGIN:VEVENT
DTSTART;TZID=America/Denver:20240505T140000
DTEND;TZID=America/Denver:20240505T170000
DTSTAMP:20260425T042100
CREATED:20240501T192958Z
LAST-MODIFIED:20240502T185220Z
UID:18566-1714917600-1714928400@redlegbrewing.com
SUMMARY:Live Music : Bloodline
DESCRIPTION:Bloodline is a Frisco based father/son acoustic duo playing hits from the 60’s to today. In addition to playing at local venues\, we’re available for special events & private parties.
URL:https://redlegbrewing.com/event/live-music-bloodline/
LOCATION:CO
END:VEVENT
BEGIN:VEVENT
DTSTART;TZID=America/Denver:20240505T110000
DTEND;TZID=America/Denver:20240505T150000
DTSTAMP:20260425T042100
CREATED:20240103T183505Z
LAST-MODIFIED:20240419T183254Z
UID:17164-1714906800-1714921200@redlegbrewing.com
SUMMARY:May Makers Market
DESCRIPTION:Our Makers Markets feature a rotating selection of local artists\, makers\, and farmers. A fun combination of farm and art market! Head on over to the brewery for our outdoor market and support small local businesses all in one convenient stop!\nMay 5\, 2024\n\nMAY MAKERS:\nWernet Collective   |  Big Sis Creative  |  J and V Woodworks  |  Long Dog Treat Co  |  2 Girls and a Dragonfly  |  Lonnie Eli & Co   |  Red Earth Knots + Saturday Side Hustle  |  The Sun’s Recipe  |  Breaking Glass Creations  |  Lotus Mountain Stones  |  Poppy & Moon Crystal Co.  |  Occult Herbs + Tonics  |  Wildflower prints + pottery  |  Lavish Pine\, LLC  |  Persephone Candleworks  |  Black and White Botanics  |  Mountainspire  |  Roth Woodworking  |  There’s Life On Jupiter\n\n\nAll markets will be held from 11 am-3 pm unless noted otherwise.\n\nApplications are now open for the 2024 Market season. Selected vendors will be contacted directly by Red Leg staff before the market. If you have questions or concerns\, please email events@redlegbrewing.com. Cheers!
URL:https://redlegbrewing.com/event/may-makers-market-2/
LOCATION:Red Leg Brewing Company\, 2323 Garden of the Gods Rd\, Colorado Springs\, CO\, 80907\, United States
CATEGORIES:Special Event
END:VEVENT
BEGIN:VEVENT
DTSTART;TZID=America/Denver:20240504T190000
DTEND;TZID=America/Denver:20240504T210000
DTSTAMP:20260425T042100
CREATED:20240326T173722Z
LAST-MODIFIED:20240425T170123Z
UID:18075-1714849200-1714856400@redlegbrewing.com
SUMMARY:Tequila & Mezcal Cocktail Tasting Experience
DESCRIPTION:Join us for an evening of tequila|mezcal tasting and learning! Explore a variety of cocktail samples guided by our knowledgeable spirit specialists. \nAnd here’s the lime wedge on top! You will not only be tasting and learning about these wonderful spirits\, you will be taking  home: drink recipe cards\, a stylish Cantarito cup for your home bar\, and enjoy Chips and Salsa while sipping your samples. \n\nPlus\, you get a chance to enter our raffle a bottle of one of the spirits we use in the cocktails!! \n\n\nCome on out and taste\, learn and  take home some tequila and mezcal recipes just in time for Cinco De Mayo! \n\n\n\n\n\n\n\n\n\n\n\n\n\n PURCHASE TICKETS HERE
URL:https://redlegbrewing.com/event/tequila-mezcal-cocktail-tasting-experience/
LOCATION:Red Leg Brewing Company\, 2323 Garden of the Gods Rd\, Colorado Springs\, CO\, 80907\, United States
ATTACH;FMTTYPE=image/png:https://redlegbrewing.com/wp-content/uploads/2024/03/Tequila-and-Mezcal-Event-square.png
END:VEVENT
BEGIN:VEVENT
DTSTART;TZID=America/Denver:20240502T170000
DTEND;TZID=America/Denver:20240502T200000
DTSTAMP:20260425T042100
CREATED:20240402T200756Z
LAST-MODIFIED:20240402T200756Z
UID:18168-1714669200-1714680000@redlegbrewing.com
SUMMARY:Craft For a Cause Nights - Guitars 4 Vets
DESCRIPTION:Every Thursday in May from 5:00pm to 8:00pm and we donate $1 from every Red Leg pint sold to the organization during that time.\nCome and Support your local brewery and your favorite Non-Profits!\nMay Non- Profits\nMay 2nd\, Guitars 4 Vets\nMay 9th\, UpaDowna\nMay 16th\, Frontline Gardens\nMay 23rd\, Catamount institute\nMay 30th\, Stable Strides
URL:https://redlegbrewing.com/event/craft-for-a-cause-nights-guitars-4-vets/
LOCATION:Red Leg Brewing Company\, 2323 Garden of the Gods Rd\, Colorado Springs\, CO\, 80907\, United States
CATEGORIES:Special Event
END:VEVENT
BEGIN:VEVENT
DTSTART;TZID=America/Denver:20240501T183000
DTEND;TZID=America/Denver:20240501T203000
DTSTAMP:20260425T042100
CREATED:20240102T205020Z
LAST-MODIFIED:20240102T205020Z
UID:17142-1714588200-1714595400@redlegbrewing.com
SUMMARY:Music Video Bingo
DESCRIPTION:Win FREE BEER while watching music videos!! Winners every round + Grand Prize!\nYour Host\, Allie\, will be playing a variety of classic and unique music videos from the last 60 years. You don’t need to know the title or artist to win so you can relax and have another pint! Just pay attention\, work that bingo dabber and drink on!
URL:https://redlegbrewing.com/event/music-video-bingo-75/
LOCATION:Red Leg Brewing Company\, 2323 Garden of the Gods Rd\, Colorado Springs\, CO\, 80907\, United States
CATEGORIES:Ongoing Event
END:VEVENT
BEGIN:VEVENT
DTSTART;TZID=America/Denver:20240430T183000
DTEND;TZID=America/Denver:20240430T203000
DTSTAMP:20260425T042100
CREATED:20240102T204050Z
LAST-MODIFIED:20240102T204050Z
UID:17106-1714501800-1714509000@redlegbrewing.com
SUMMARY:Trivia Night
DESCRIPTION:LIVE Trivia with a variety of questions including Picture Mashups\, Name That Year\, Music & Movie clips\, Retro TV Theme Song\, and more!\nEvery Tuesday starting at 6:30 pm with your host Allie! Prizes for 1st\, 2nd and 3rd.
URL:https://redlegbrewing.com/event/trivia-night-103/
LOCATION:Red Leg Brewing Company\, 2323 Garden of the Gods Rd\, Colorado Springs\, CO\, 80907\, United States
CATEGORIES:Ongoing Event
END:VEVENT
BEGIN:VEVENT
DTSTART;TZID=America/Denver:20240424T183000
DTEND;TZID=America/Denver:20240424T203000
DTSTAMP:20260425T042100
CREATED:20240402T174319Z
LAST-MODIFIED:20240402T191151Z
UID:18160-1713983400-1713990600@redlegbrewing.com
SUMMARY:World Beer Cup Awards Ceremony Watch Party
DESCRIPTION:Exciting News! 🍻 We’re thrilled to announce that we’ve entered 5 of our finest brews into the prestigious World Beer Cup Awards! 🏆 Join us for a FREE watch party in our taproom as we cheer on our submissions and celebrate our brewery’s passion for craft beer! \n🍺 Enjoy custom flights featuring our competition entries\, so you can taste and toast to our dedication to brewing excellence! 🥳 Don’t miss out on this fun-filled event! Bring your friends\, bring your cheers\, and let’s raise a glass together! 🍻 \nStay tuned for more details and mark your calendars! Let’s make this a night to remember! 🌟 \n  \nInformation About the Awards\nStream the Ceremonies
URL:https://redlegbrewing.com/event/world-beer-cup-awards-ceremony-watch-party/
LOCATION:CO
CATEGORIES:Special Event
END:VEVENT
BEGIN:VEVENT
DTSTART;TZID=America/Denver:20240424T183000
DTEND;TZID=America/Denver:20240424T203000
DTSTAMP:20260425T042100
CREATED:20240102T204938Z
LAST-MODIFIED:20240102T204949Z
UID:17140-1713983400-1713990600@redlegbrewing.com
SUMMARY:Music Video Bingo
DESCRIPTION:Win FREE BEER while watching music videos!! Winners every round + Grand Prize!\nYour Host\, Allie\, will be playing a variety of classic and unique music videos from the last 60 years. You don’t need to know the title or artist to win so you can relax and have another pint! Just pay attention\, work that bingo dabber and drink on!
URL:https://redlegbrewing.com/event/music-video-bingo-74/
LOCATION:Red Leg Brewing Company\, 2323 Garden of the Gods Rd\, Colorado Springs\, CO\, 80907\, United States
CATEGORIES:Ongoing Event
END:VEVENT
BEGIN:VEVENT
DTSTART;TZID=America/Denver:20240423T183000
DTEND;TZID=America/Denver:20240423T203000
DTSTAMP:20260425T042100
CREATED:20240102T204027Z
LAST-MODIFIED:20240102T204027Z
UID:17104-1713897000-1713904200@redlegbrewing.com
SUMMARY:Trivia Night
DESCRIPTION:LIVE Trivia with a variety of questions including Picture Mashups\, Name That Year\, Music & Movie clips\, Retro TV Theme Song\, and more!\nEvery Tuesday starting at 6:30 pm with your host Allie! Prizes for 1st\, 2nd and 3rd.
URL:https://redlegbrewing.com/event/trivia-night-102/
LOCATION:Red Leg Brewing Company\, 2323 Garden of the Gods Rd\, Colorado Springs\, CO\, 80907\, United States
CATEGORIES:Ongoing Event
END:VEVENT
BEGIN:VEVENT
DTSTART;TZID=America/Denver:20240421T090000
DTEND;TZID=America/Denver:20240421T120000
DTSTAMP:20260425T042100
CREATED:20240402T170509Z
LAST-MODIFIED:20240402T173741Z
UID:18155-1713690000-1713700800@redlegbrewing.com
SUMMARY:Great American Cleanup
DESCRIPTION:The Red Leg Brewing Crew will be tackling our beloved Sinton Trail that runs nearby. We will meet at the brewery to discuss the game plan and gather supplies and then after we wrap up cleaning and disposing of trash\, you will get a beer on us! \nPlease dress appropriately for Colorado’s ever-changing weather\, bring sunscreen and insect repellent\, wear closed-toe shoes\, and don’t forget your reusable water bottle to stay hydrated throughout the cleanup. \nParticipants aged 17 or younger must obtain a signature from a parent or guardian. \nRegister Here!
URL:https://redlegbrewing.com/event/great-american-cleanup-2/
LOCATION:Red Leg Brewing Company\, 2323 Garden of the Gods Rd\, Colorado Springs\, CO\, 80907\, United States
CATEGORIES:Special Event
END:VEVENT
BEGIN:VEVENT
DTSTART;TZID=America/Denver:20240420T170000
DTEND;TZID=America/Denver:20240420T190000
DTSTAMP:20260425T042100
CREATED:20240221T213925Z
LAST-MODIFIED:20240221T213926Z
UID:17726-1713632400-1713639600@redlegbrewing.com
SUMMARY:Networking Social Event
DESCRIPTION:Join us for an evening of brews\, cocktails\, and brilliant connections at Red Leg Brewing Company! On April 20th from 5-7 pm\, we’re hosting a lively networking event that’s open to all. Whether you’re a seasoned pro or just dipping your toes into the networking scene\, come mingle\, make new friends\, and explore opportunities in a relaxed and welcoming atmosphere. See you there! \nRegister for the event at www.redlegbrewing.com/networking! \nRegistered attendees will be given a complimentary welcome half pint or canned soda to enjoy while they break the ice! Don’t forget to bring an extra business card to enter for the chance to win a discounted private rental at the brewery.
URL:https://redlegbrewing.com/event/networking-social-event/
LOCATION:Red Leg Brewing Company\, 2323 Garden of the Gods Rd\, Colorado Springs\, CO\, 80907\, United States
CATEGORIES:Special Event
END:VEVENT
BEGIN:VEVENT
DTSTART;TZID=America/Denver:20240417T183000
DTEND;TZID=America/Denver:20240417T203000
DTSTAMP:20260425T042100
CREATED:20240102T204904Z
LAST-MODIFIED:20240102T204904Z
UID:17138-1713378600-1713385800@redlegbrewing.com
SUMMARY:Music Video Bingo
DESCRIPTION:Win FREE BEER while watching music videos!! Winners every round + Grand Prize!\nYour Host\, Allie\, will be playing a variety of classic and unique music videos from the last 60 years. You don’t need to know the title or artist to win so you can relax and have another pint! Just pay attention\, work that bingo dabber and drink on!
URL:https://redlegbrewing.com/event/music-video-bingo-73/
LOCATION:Red Leg Brewing Company\, 2323 Garden of the Gods Rd\, Colorado Springs\, CO\, 80907\, United States
CATEGORIES:Ongoing Event
END:VEVENT
BEGIN:VEVENT
DTSTART;TZID=America/Denver:20240416T183000
DTEND;TZID=America/Denver:20240416T203000
DTSTAMP:20260425T042100
CREATED:20240102T203958Z
LAST-MODIFIED:20240102T203958Z
UID:17102-1713292200-1713299400@redlegbrewing.com
SUMMARY:Trivia Night
DESCRIPTION:LIVE Trivia with a variety of questions including Picture Mashups\, Name That Year\, Music & Movie clips\, Retro TV Theme Song\, and more!\nEvery Tuesday starting at 6:30 pm with your host Allie! Prizes for 1st\, 2nd and 3rd.
URL:https://redlegbrewing.com/event/trivia-night-101/
LOCATION:Red Leg Brewing Company\, 2323 Garden of the Gods Rd\, Colorado Springs\, CO\, 80907\, United States
CATEGORIES:Ongoing Event
END:VEVENT
BEGIN:VEVENT
DTSTART;TZID=America/Denver:20240410T183000
DTEND;TZID=America/Denver:20240410T203000
DTSTAMP:20260425T042100
CREATED:20240102T204827Z
LAST-MODIFIED:20240102T204827Z
UID:17136-1712773800-1712781000@redlegbrewing.com
SUMMARY:Music Video Bingo
DESCRIPTION:Win FREE BEER while watching music videos!! Winners every round + Grand Prize!\nYour Host\, Allie\, will be playing a variety of classic and unique music videos from the last 60 years. You don’t need to know the title or artist to win so you can relax and have another pint! Just pay attention\, work that bingo dabber and drink on!
URL:https://redlegbrewing.com/event/music-video-bingo-72/
LOCATION:Red Leg Brewing Company\, 2323 Garden of the Gods Rd\, Colorado Springs\, CO\, 80907\, United States
CATEGORIES:Ongoing Event
END:VEVENT
BEGIN:VEVENT
DTSTART;VALUE=DATE:20240410
DTEND;VALUE=DATE:20240411
DTSTAMP:20260425T042100
CREATED:20240326T174946Z
LAST-MODIFIED:20240326T183323Z
UID:18079-1712707200-1712793599@redlegbrewing.com
SUMMARY:Colorado Pint Day
DESCRIPTION:What is Colorado Pint Day?\n\nIt is a day that select breweries sell limited edition pint glasses and a portion of those proceeds go to Colorado Brewers Guild for promoting\, protecting and propelling independent craft breweries in Colorado.\n\n\nBuy a beer\, get a glass for $4! Just want the glass? We will have separate tables set up that you can just buy the glass at for $8.\n\n\nSo mark it now and plan on grabbing your pint on April 10th \n\n*AVAILABLE UNTIL STOCKS RUN OUT!
URL:https://redlegbrewing.com/event/colorado-pint-day-3/
LOCATION:Red Leg Brewing Company\, 2323 Garden of the Gods Rd\, Colorado Springs\, CO\, 80907\, United States
END:VEVENT
BEGIN:VEVENT
DTSTART;TZID=America/Denver:20240409T183000
DTEND;TZID=America/Denver:20240409T203000
DTSTAMP:20260425T042100
CREATED:20240102T203925Z
LAST-MODIFIED:20240102T203925Z
UID:17100-1712687400-1712694600@redlegbrewing.com
SUMMARY:Trivia Night
DESCRIPTION:LIVE Trivia with a variety of questions including Picture Mashups\, Name That Year\, Music & Movie clips\, Retro TV Theme Song\, and more!\nEvery Tuesday starting at 6:30 pm with your host Allie! Prizes for 1st\, 2nd and 3rd.
URL:https://redlegbrewing.com/event/trivia-night-100/
LOCATION:Red Leg Brewing Company\, 2323 Garden of the Gods Rd\, Colorado Springs\, CO\, 80907\, United States
CATEGORIES:Ongoing Event
END:VEVENT
BEGIN:VEVENT
DTSTART;TZID=America/Denver:20240403T183000
DTEND;TZID=America/Denver:20240403T203000
DTSTAMP:20260425T042100
CREATED:20240102T204801Z
LAST-MODIFIED:20240102T204801Z
UID:17134-1712169000-1712176200@redlegbrewing.com
SUMMARY:Music Video Bingo
DESCRIPTION:Win FREE BEER while watching music videos!! Winners every round + Grand Prize!\nYour Host\, Allie\, will be playing a variety of classic and unique music videos from the last 60 years. You don’t need to know the title or artist to win so you can relax and have another pint! Just pay attention\, work that bingo dabber and drink on!
URL:https://redlegbrewing.com/event/music-video-bingo-71/
LOCATION:Red Leg Brewing Company\, 2323 Garden of the Gods Rd\, Colorado Springs\, CO\, 80907\, United States
CATEGORIES:Ongoing Event
END:VEVENT
BEGIN:VEVENT
DTSTART;TZID=America/Denver:20240402T183000
DTEND;TZID=America/Denver:20240402T203000
DTSTAMP:20260425T042100
CREATED:20240102T203901Z
LAST-MODIFIED:20240102T203901Z
UID:17098-1712082600-1712089800@redlegbrewing.com
SUMMARY:Trivia Night
DESCRIPTION:LIVE Trivia with a variety of questions including Picture Mashups\, Name That Year\, Music & Movie clips\, Retro TV Theme Song\, and more!\nEvery Tuesday starting at 6:30 pm with your host Allie! Prizes for 1st\, 2nd and 3rd.
URL:https://redlegbrewing.com/event/trivia-night-99/
LOCATION:Red Leg Brewing Company\, 2323 Garden of the Gods Rd\, Colorado Springs\, CO\, 80907\, United States
CATEGORIES:Ongoing Event
END:VEVENT
BEGIN:VEVENT
DTSTART;TZID=America/Denver:20240327T183000
DTEND;TZID=America/Denver:20240327T203000
DTSTAMP:20260425T042100
CREATED:20240102T204729Z
LAST-MODIFIED:20240102T204729Z
UID:17132-1711564200-1711571400@redlegbrewing.com
SUMMARY:Music Video Bingo
DESCRIPTION:Win FREE BEER while watching music videos!! Winners every round + Grand Prize!\nYour Host\, Allie\, will be playing a variety of classic and unique music videos from the last 60 years. You don’t need to know the title or artist to win so you can relax and have another pint! Just pay attention\, work that bingo dabber and drink on!
URL:https://redlegbrewing.com/event/music-video-bingo-70/
LOCATION:Red Leg Brewing Company\, 2323 Garden of the Gods Rd\, Colorado Springs\, CO\, 80907\, United States
CATEGORIES:Ongoing Event
END:VEVENT
BEGIN:VEVENT
DTSTART;TZID=America/Denver:20240326T183000
DTEND;TZID=America/Denver:20240326T203000
DTSTAMP:20260425T042100
CREATED:20240102T203836Z
LAST-MODIFIED:20240102T203836Z
UID:17096-1711477800-1711485000@redlegbrewing.com
SUMMARY:Trivia Night
DESCRIPTION:LIVE Trivia with a variety of questions including Picture Mashups\, Name That Year\, Music & Movie clips\, Retro TV Theme Song\, and more!\nEvery Tuesday starting at 6:30 pm with your host Allie! Prizes for 1st\, 2nd and 3rd.
URL:https://redlegbrewing.com/event/trivia-night-98/
LOCATION:Red Leg Brewing Company\, 2323 Garden of the Gods Rd\, Colorado Springs\, CO\, 80907\, United States
CATEGORIES:Ongoing Event
END:VEVENT
BEGIN:VEVENT
DTSTART;TZID=America/Denver:20240323T020000
DTEND;TZID=America/Denver:20240323T170000
DTSTAMP:20260425T042100
CREATED:20240322T211925Z
LAST-MODIFIED:20240322T213102Z
UID:18005-1711159200-1711213200@redlegbrewing.com
SUMMARY:Live Music: Key West Drew
DESCRIPTION:Originally from Key West\, Florida\, he now bring the island vibe to the greater Colorado area with acoustic covers of popular 70s\, 80s\, 90s\, and 2000s songs with a unique looping method. \nCome on out and support our local artists!
URL:https://redlegbrewing.com/event/live-music-key-west-drew-5/
LOCATION:Red Leg Brewing Company\, 2323 Garden of the Gods Rd\, Colorado Springs\, CO\, 80907\, United States
END:VEVENT
BEGIN:VEVENT
DTSTART;TZID=America/Denver:20240320T183000
DTEND;TZID=America/Denver:20240320T203000
DTSTAMP:20260425T042100
CREATED:20240102T204658Z
LAST-MODIFIED:20240102T204658Z
UID:17130-1710959400-1710966600@redlegbrewing.com
SUMMARY:Music Video Bingo
DESCRIPTION:Win FREE BEER while watching music videos!! Winners every round + Grand Prize!\nYour Host\, Allie\, will be playing a variety of classic and unique music videos from the last 60 years. You don’t need to know the title or artist to win so you can relax and have another pint! Just pay attention\, work that bingo dabber and drink on!
URL:https://redlegbrewing.com/event/music-video-bingo-69/
LOCATION:Red Leg Brewing Company\, 2323 Garden of the Gods Rd\, Colorado Springs\, CO\, 80907\, United States
CATEGORIES:Ongoing Event
END:VEVENT
BEGIN:VEVENT
DTSTART;TZID=America/Denver:20240319T183000
DTEND;TZID=America/Denver:20240319T203000
DTSTAMP:20260425T042100
CREATED:20240102T203810Z
LAST-MODIFIED:20240102T203810Z
UID:17094-1710873000-1710880200@redlegbrewing.com
SUMMARY:Trivia Night
DESCRIPTION:LIVE Trivia with a variety of questions including Picture Mashups\, Name That Year\, Music & Movie clips\, Retro TV Theme Song\, and more!\nEvery Tuesday starting at 6:30 pm with your host Allie! Prizes for 1st\, 2nd and 3rd.
URL:https://redlegbrewing.com/event/trivia-night-97/
LOCATION:Red Leg Brewing Company\, 2323 Garden of the Gods Rd\, Colorado Springs\, CO\, 80907\, United States
CATEGORIES:Ongoing Event
END:VEVENT
BEGIN:VEVENT
DTSTART;TZID=America/Denver:20240318T180000
DTEND;TZID=America/Denver:20240318T200000
DTSTAMP:20260425T042100
CREATED:20240221T214301Z
LAST-MODIFIED:20240221T214359Z
UID:17728-1710784800-1710792000@redlegbrewing.com
SUMMARY:Macrame Workshop: Tree of Life
DESCRIPTION:Let’s get knotty and make memories! Register Here! \nThis class is perfect for the ambitious beginner; you will learn 3 knots while creating your masterpiece. \nIn this hands-on macrame class\, you’ll be working with high-quality recycled cotton rope to create a piece of fiber art you’ll enjoy for years to come. \nOur Fiber Artist & Instructor Janel will provide group instruction as well as one-on-one guidance (as needed)\, so you leave with a complete project along with a sense of accomplishment and the desire to continue creating at home! \nYour ticket gets you knowledge\, experience\, and a seasonal project that you make yourself. Space is limited to just 12 spots\, so get your tickets today! Open to participants 16+. \nALL SUPPLIES PROVIDED AT CLASS. Your project will be made of natural rope\, and there will be gold or silver hoops to choose from in class. Hoops measure 10 inches in diameter\, and the final project length will vary based on how you choose to style your fringe. \nYou are encouraged to support this business while we enjoy their space\, please arrive 10-15 minutes before class to order a drink (or 2!) and/or food then get settled in so you’re ready to start promptly at 6:00 pm.
URL:https://redlegbrewing.com/event/macrame-workshop-tree-of-life/
LOCATION:Red Leg Brewing Company\, 2323 Garden of the Gods Rd\, Colorado Springs\, CO\, 80907\, United States
CATEGORIES:Special Event
END:VEVENT
END:VCALENDAR