BEGIN:VCALENDAR
VERSION:2.0
PRODID:-//Red Leg Brewing Company - ECPv6.15.18//NONSGML v1.0//EN
CALSCALE:GREGORIAN
METHOD:PUBLISH
X-ORIGINAL-URL:https://redlegbrewing.com
X-WR-CALDESC:Events for Red Leg Brewing Company
REFRESH-INTERVAL;VALUE=DURATION:PT1H
X-Robots-Tag:noindex
X-PUBLISHED-TTL:PT1H
BEGIN:VTIMEZONE
TZID:America/Denver
BEGIN:DAYLIGHT
TZOFFSETFROM:-0700
TZOFFSETTO:-0600
TZNAME:MDT
DTSTART:20230312T090000
END:DAYLIGHT
BEGIN:STANDARD
TZOFFSETFROM:-0600
TZOFFSETTO:-0700
TZNAME:MST
DTSTART:20231105T080000
END:STANDARD
BEGIN:DAYLIGHT
TZOFFSETFROM:-0700
TZOFFSETTO:-0600
TZNAME:MDT
DTSTART:20240310T090000
END:DAYLIGHT
BEGIN:STANDARD
TZOFFSETFROM:-0600
TZOFFSETTO:-0700
TZNAME:MST
DTSTART:20241103T080000
END:STANDARD
BEGIN:DAYLIGHT
TZOFFSETFROM:-0700
TZOFFSETTO:-0600
TZNAME:MDT
DTSTART:20250309T090000
END:DAYLIGHT
BEGIN:STANDARD
TZOFFSETFROM:-0600
TZOFFSETTO:-0700
TZNAME:MST
DTSTART:20251102T080000
END:STANDARD
BEGIN:DAYLIGHT
TZOFFSETFROM:-0700
TZOFFSETTO:-0600
TZNAME:MDT
DTSTART:20260308T090000
END:DAYLIGHT
BEGIN:STANDARD
TZOFFSETFROM:-0600
TZOFFSETTO:-0700
TZNAME:MST
DTSTART:20261101T080000
END:STANDARD
END:VTIMEZONE
BEGIN:VEVENT
DTSTART;TZID=America/Denver:20241113T183000
DTEND;TZID=America/Denver:20241113T200000
DTSTAMP:20260425T042046
CREATED:20241106T231050Z
LAST-MODIFIED:20241106T231050Z
UID:41528-1731522600-1731528000@redlegbrewing.com
SUMMARY:Music Video Bingo
DESCRIPTION:Wednesdays are for Music Video BINGO! Win FREE BEER while watching music videos! Join the fun in the taproom from 6:30-8:30 pm – it’s free to play!Your Host will be playing a variety of classic & unique music videos from the last 60 years. You don’t need to know the title or artist to win so relax & have another pint! Just pay attention\, work that bingo dabber & drink on! Winners every round + Grand Prize!
URL:https://redlegbrewing.com/event/music-video-bingo-98/
LOCATION:Red Leg Brewing Company\, 2323 Garden of the Gods Rd\, Colorado Springs\, CO\, 80907\, United States
CATEGORIES:Ongoing Event
END:VEVENT
BEGIN:VEVENT
DTSTART;TZID=America/Denver:20241117T170000
DTEND;TZID=America/Denver:20241117T190000
DTSTAMP:20260425T042046
CREATED:20230815T195612Z
LAST-MODIFIED:20241118T174227Z
UID:15755-1731862800-1731870000@redlegbrewing.com
SUMMARY:Artist Showcase feat. John Heritage
DESCRIPTION:“Where Community & Culture Meet” \nJoin us Sunday\, November 17th\, in the taproom for our Artist Showcase from 2-4 pm featuring John Heritage! John will be at the showcase\, so you can meet him while enjoying his art and a few craft brews! We hope to see you there! \nAbout the Artist:\nLover of family and friends\, of being in the natural world\, of challenges great and small\, and hanging out at Red Leg!
URL:https://redlegbrewing.com/event/august-artist-showcase-feat-john-heritage/
LOCATION:Red Leg Brewing Company\, 2323 Garden of the Gods Rd\, Colorado Springs\, CO\, 80907\, United States
CATEGORIES:Special Event
END:VEVENT
BEGIN:VEVENT
DTSTART;TZID=America/Denver:20241119T183000
DTEND;TZID=America/Denver:20241119T200000
DTSTAMP:20260425T042046
CREATED:20241106T230355Z
LAST-MODIFIED:20241106T230355Z
UID:41518-1732041000-1732046400@redlegbrewing.com
SUMMARY:Trivia Night
DESCRIPTION:LIVE Trivia with a variety of questions including Picture Mashups\, Name That Year\, Music & Movie clips\, Retro TV Theme Song\, and more!\nEvery Tuesday starting at 6:30 pm with your host Allie! Prizes for 1st\, 2nd and 3rd.
URL:https://redlegbrewing.com/event/trivia-night-131/
LOCATION:Red Leg Brewing Company\, 2323 Garden of the Gods Rd\, Colorado Springs\, CO\, 80907\, United States
CATEGORIES:Ongoing Event
END:VEVENT
BEGIN:VEVENT
DTSTART;TZID=America/Denver:20241120T063000
DTEND;TZID=America/Denver:20241120T200000
DTSTAMP:20260425T042046
CREATED:20241106T231145Z
LAST-MODIFIED:20241106T231202Z
UID:41532-1732084200-1732132800@redlegbrewing.com
SUMMARY:Music Video Bingo
DESCRIPTION:Wednesdays are for Music Video BINGO! Win FREE BEER while watching music videos! Join the fun in the taproom from 6:30-8:30 pm – it’s free to play!Your Host will be playing a variety of classic & unique music videos from the last 60 years. You don’t need to know the title or artist to win so relax & have another pint! Just pay attention\, work that bingo dabber & drink on! Winners every round + Grand Prize!
URL:https://redlegbrewing.com/event/music-video-bingo-99/
LOCATION:Red Leg Brewing Company\, 2323 Garden of the Gods Rd\, Colorado Springs\, CO\, 80907\, United States
CATEGORIES:Ongoing Event
END:VEVENT
BEGIN:VEVENT
DTSTART;TZID=America/Denver:20241124T160000
DTEND;TZID=America/Denver:20241124T180000
DTSTAMP:20260425T042046
CREATED:20241104T215521Z
LAST-MODIFIED:20241105T164048Z
UID:41493-1732464000-1732471200@redlegbrewing.com
SUMMARY:Fly Tying Class with Anglers Covey November 24th
DESCRIPTION:Curious about fly tying or looking to expand your skills? This class offers a comprehensive introduction to fly tying\, covering essential tools and beginner techniques. In the second half\, dive into advanced techniques and learn to tie multiple fly types. \nNo experience needed\, and all materials are provided—sign up now to secure your spot\, as class sizes are limited to 10! \nClass will take place at the brewery from 4pm-6pm. NOVEMBER 24th Fly Tying Class $30
URL:https://redlegbrewing.com/event/fly-tying-class-with-angels-covey-november-24th/
LOCATION:Red Leg Brewing Company\, 2323 Garden of the Gods Rd\, Colorado Springs\, CO\, 80907\, United States
CATEGORIES:Special Event
END:VEVENT
BEGIN:VEVENT
DTSTART;TZID=America/Denver:20241126T180000
DTEND;TZID=America/Denver:20241126T200000
DTSTAMP:20260425T042046
CREATED:20241106T230431Z
LAST-MODIFIED:20241106T230431Z
UID:41520-1732644000-1732651200@redlegbrewing.com
SUMMARY:Trivia Night
DESCRIPTION:LIVE Trivia with a variety of questions including Picture Mashups\, Name That Year\, Music & Movie clips\, Retro TV Theme Song\, and more!\nEvery Tuesday starting at 6:30 pm with your host Allie! Prizes for 1st\, 2nd and 3rd.
URL:https://redlegbrewing.com/event/trivia-night-132/
LOCATION:CO
CATEGORIES:Ongoing Event
END:VEVENT
BEGIN:VEVENT
DTSTART;TZID=America/Denver:20241201T110000
DTEND;TZID=America/Denver:20241201T150000
DTSTAMP:20260425T042046
CREATED:20240103T184317Z
LAST-MODIFIED:20241121T185518Z
UID:17178-1733050800-1733065200@redlegbrewing.com
SUMMARY:Holiday Makers Market
DESCRIPTION:Have some holiday shopping you need to take care of and want to support small\, local businesses? Then this is the event for you! \nOur Makers Markets feature a rotating selection of local artists\, makers\, and farmers. A fun combination of farm and art market! Head on over to the brewery for our outdoor market and support small local businesses all in one convenient stop! \nWe are also going to have pictures with Santa  and holiday cocktails available for purchase! \nVendors: \n Saturday Side Hustle | Pfarrside Creations | Lonnie Eli & Co. | Mountinspire | Doughkota llc | Jenny P Photography | The Orange Hutch | Colorado Wood Worker | Wild Braid Studio | Ryn Studios | Trail’s End Candle Co. | Infuseable Cocktails | Rootfoot | CO14k |  Mountain Post Spouse’s Club | Colorado Pure Designs | L & L Embroidery | Rose of the West Tattoo | Internal Bakery Co. | My Momotaro | Harper May Crochet | Curly QT Designs | Cabin Light Candle | Tutas Leather |Earth and Sun Pottery | Occult Herbs + Tonics | Poppy Ranch Boutique  \nVendors & festivities will be announced as we get closer to the event!
URL:https://redlegbrewing.com/event/holiday-makers-market-3/
LOCATION:Red Leg Brewing Company\, 2323 Garden of the Gods Rd\, Colorado Springs\, CO\, 80907\, United States
CATEGORIES:Special Event
END:VEVENT
BEGIN:VEVENT
DTSTART;TZID=America/Denver:20241201T140000
DTEND;TZID=America/Denver:20241201T160000
DTSTAMP:20260425T042046
CREATED:20241126T203700Z
LAST-MODIFIED:20241126T203953Z
UID:41642-1733061600-1733068800@redlegbrewing.com
SUMMARY:Artist Showcase - Mary Kaye Podschweit
DESCRIPTION:Mary Kaye Podschweit’s vibrant paintings are a celebration of color\, life\, and movement. Her work radiates energy\, capturing moments of dynamic motion and emotional depth. Through bold strokes and striking palettes\, she invites the viewer to experience the world with heightened intensity and joy. Each piece reflects her unique perspective\, merging abstraction and expressionism to evoke feeling\, spirit\, and a sense of constant flow.
URL:https://redlegbrewing.com/event/artist-showcase-mary-kaye-podschweit/
LOCATION:Red Leg Brewing Company\, 2323 Garden of the Gods Rd\, Colorado Springs\, CO\, 80907\, United States
CATEGORIES:Special Event
END:VEVENT
BEGIN:VEVENT
DTSTART;TZID=America/Denver:20241203T183000
DTEND;TZID=America/Denver:20241203T200000
DTSTAMP:20260425T042046
CREATED:20241106T230522Z
LAST-MODIFIED:20241106T230522Z
UID:41522-1733250600-1733256000@redlegbrewing.com
SUMMARY:Trivia Night
DESCRIPTION:LIVE Trivia with a variety of questions including Picture Mashups\, Name That Year\, Music & Movie clips\, Retro TV Theme Song\, and more!\nEvery Tuesday starting at 6:30 pm with your host Allie! Prizes for 1st\, 2nd and 3rd.
URL:https://redlegbrewing.com/event/trivia-night-133/
LOCATION:Red Leg Brewing Company\, 2323 Garden of the Gods Rd\, Colorado Springs\, CO\, 80907\, United States
CATEGORIES:Ongoing Event
END:VEVENT
BEGIN:VEVENT
DTSTART;TZID=America/Denver:20241204T183000
DTEND;TZID=America/Denver:20241204T200000
DTSTAMP:20260425T042046
CREATED:20241202T173158Z
LAST-MODIFIED:20241202T173257Z
UID:41686-1733337000-1733342400@redlegbrewing.com
SUMMARY:Music Video Bingo
DESCRIPTION:Wednesdays are for Music Video BINGO! Win FREE BEER while watching music videos! Join the fun in the taproom from 6:30-8:30 pm – it’s free to play!Your Host will be playing a variety of classic & unique music videos from the last 60 years. You don’t need to know the title or artist to win so relax & have another pint! Just pay attention\, work that bingo dabber & drink on! Winners every round + Grand Prize!
URL:https://redlegbrewing.com/event/music-video-bingo-100/
LOCATION:Red Leg Brewing Company\, 2323 Garden of the Gods Rd\, Colorado Springs\, CO\, 80907\, United States
CATEGORIES:Ongoing Event
END:VEVENT
BEGIN:VEVENT
DTSTART;TZID=America/Denver:20241208T160000
DTEND;TZID=America/Denver:20241208T180000
DTSTAMP:20260425T042046
CREATED:20241104T215900Z
LAST-MODIFIED:20241105T164021Z
UID:41497-1733673600-1733680800@redlegbrewing.com
SUMMARY:Fly Tying 101/201 Class with Anglers Covey December 8th
DESCRIPTION:Curious about fly tying or looking to expand your skills? This class offers a comprehensive introduction to fly tying\, covering essential tools and beginner techniques. In the second half\, dive into advanced techniques and learn to tie multiple fly types. \nNo experience needed\, and all materials are provided—sign up now to secure your spot\, as class sizes are limited to 10! \nClass will take place at the brewery from 4pm-6pm. \n December 8th Fly Tying Class $30
URL:https://redlegbrewing.com/event/fly-tying-101-201-class-with-anglers-covey-december-8th/
LOCATION:Red Leg Brewing Company\, 2323 Garden of the Gods Rd\, Colorado Springs\, CO\, 80907\, United States
CATEGORIES:Special Event
END:VEVENT
BEGIN:VEVENT
DTSTART;TZID=America/Denver:20241210T183000
DTEND;TZID=America/Denver:20241210T200000
DTSTAMP:20260425T042046
CREATED:20241106T230621Z
LAST-MODIFIED:20241106T230621Z
UID:41524-1733855400-1733860800@redlegbrewing.com
SUMMARY:Trivia Night
DESCRIPTION:LIVE Trivia with a variety of questions including Picture Mashups\, Name That Year\, Music & Movie clips\, Retro TV Theme Song\, and more!\nEvery Tuesday starting at 6:30 pm with your host Allie! Prizes for 1st\, 2nd and 3rd.
URL:https://redlegbrewing.com/event/trivia-night-134/
LOCATION:CO
CATEGORIES:Ongoing Event
END:VEVENT
BEGIN:VEVENT
DTSTART;TZID=America/Denver:20241211T183000
DTEND;TZID=America/Denver:20241211T200000
DTSTAMP:20260425T042046
CREATED:20241202T175354Z
LAST-MODIFIED:20241202T175354Z
UID:41690-1733941800-1733947200@redlegbrewing.com
SUMMARY:Music Video Bingo
DESCRIPTION:Wednesdays are for Music Video BINGO! Win FREE BEER while watching music videos! Join the fun in the taproom from 6:30-8:30 pm – it’s free to play!Your Host will be playing a variety of classic & unique music videos from the last 60 years. You don’t need to know the title or artist to win so relax & have another pint! Just pay attention\, work that bingo dabber & drink on! Winners every round + Grand Prize!
URL:https://redlegbrewing.com/event/music-video-bingo-102/
LOCATION:Red Leg Brewing Company\, 2323 Garden of the Gods Rd\, Colorado Springs\, CO\, 80907\, United States
CATEGORIES:Ongoing Event
END:VEVENT
BEGIN:VEVENT
DTSTART;TZID=America/Denver:20241215T060000
DTEND;TZID=America/Denver:20241215T193000
DTSTAMP:20260425T042046
CREATED:20241108T200002Z
LAST-MODIFIED:20241113T224516Z
UID:41547-1734242400-1734291000@redlegbrewing.com
SUMMARY:Gingerbread House Decorating Competition
DESCRIPTION:2 people per team\, 1 team per gingerbread house \nGet ready to build\, decorate\, and show off your masterpiece! \nGuests: Friends are welcome to watch\, but seating may be limited. \nTaproom Access: The entire Taproom will be dedicated to gingerbread house building\, with some overflow seating available in the Social Scene. \n Gingerbread Decorating Competition $30 PER TEAM OF 2
URL:https://redlegbrewing.com/event/gingerbread-house-decorating-competition-2/
LOCATION:Red Leg Brewing Company\, 2323 Garden of the Gods Rd\, Colorado Springs\, CO\, 80907\, United States
CATEGORIES:Special Event
END:VEVENT
BEGIN:VEVENT
DTSTART;TZID=America/Denver:20241217T183000
DTEND;TZID=America/Denver:20241217T200000
DTSTAMP:20260425T042046
CREATED:20241202T175540Z
LAST-MODIFIED:20241202T175540Z
UID:41692-1734460200-1734465600@redlegbrewing.com
SUMMARY:Trivia Night
DESCRIPTION:LIVE Trivia with a variety of questions including Picture Mashups\, Name That Year\, Music & Movie clips\, Retro TV Theme Song\, and more!\nEvery Tuesday starting at 6:30 pm with your host Allie! Prizes for 1st\, 2nd and 3rd.
URL:https://redlegbrewing.com/event/trivia-night-129/
LOCATION:Red Leg Brewing Company\, 2323 Garden of the Gods Rd\, Colorado Springs\, CO\, 80907\, United States
CATEGORIES:Ongoing Event
END:VEVENT
BEGIN:VEVENT
DTSTART;TZID=America/Denver:20241218T183000
DTEND;TZID=America/Denver:20241218T200000
DTSTAMP:20260425T042046
CREATED:20241202T175257Z
LAST-MODIFIED:20241202T175257Z
UID:41688-1734546600-1734552000@redlegbrewing.com
SUMMARY:Music Video Bingo
DESCRIPTION:Wednesdays are for Music Video BINGO! Win FREE BEER while watching music videos! Join the fun in the taproom from 6:30-8:30 pm – it’s free to play!Your Host will be playing a variety of classic & unique music videos from the last 60 years. You don’t need to know the title or artist to win so relax & have another pint! Just pay attention\, work that bingo dabber & drink on! Winners every round + Grand Prize!
URL:https://redlegbrewing.com/event/music-video-bingo-101/
LOCATION:Red Leg Brewing Company\, 2323 Garden of the Gods Rd\, Colorado Springs\, CO\, 80907\, United States
CATEGORIES:Ongoing Event
END:VEVENT
BEGIN:VEVENT
DTSTART;TZID=America/Denver:20241221T190000
DTEND;TZID=America/Denver:20241221T220000
DTSTAMP:20260425T042046
CREATED:20241126T202618Z
LAST-MODIFIED:20241209T211928Z
UID:41640-1734807600-1734818400@redlegbrewing.com
SUMMARY:Jingle Jam at Red Leg Brewing Company
DESCRIPTION:Join us on Saturday\, December 21 for our Jingle Jam Dance Party – a 21+ event starting at 7 PM that’s packed with holiday cheer! 🎄\n\n\n \n\n\nHere’s what’s in store:\n\n\n🎧 DJ spinning your favorite hits to keep the dance floor rocking all night.\n\n\n🎅 Limbo Competition – How low can you go? Show off your moves and holiday spirit!\n\n\n🏆 Holiday Cheermister Award – Dress to impress and bring your festive A-game. The most spirited person wins!\n\n\n \n\n\nBring your friends\, your best dance moves\, and plenty of holiday cheer. Let’s make it a night to remember!\n\n\n \n\n\n📅 When: Saturday December 21\n\n\n⏰ Time: 7 PM – 10 pm\n\n\n📍 Red Leg Brewing Company!
URL:https://redlegbrewing.com/event/jingle-jam-at-red-leg-brewing-company/
LOCATION:Red Leg Brewing Company\, 2323 Garden of the Gods Rd\, Colorado Springs\, CO\, 80907\, United States
CATEGORIES:Live Entertainment,Special Event
END:VEVENT
BEGIN:VEVENT
DTSTART;TZID=America/Denver:20241222T160000
DTEND;TZID=America/Denver:20241222T180000
DTSTAMP:20260425T042046
CREATED:20241210T163033Z
LAST-MODIFIED:20241212T210858Z
UID:41777-1734883200-1734890400@redlegbrewing.com
SUMMARY:Fly Tying Class with Anglers Covey December 22nd
DESCRIPTION:Curious about fly tying or looking to expand your skills? This class offers a comprehensive introduction to fly tying\, covering essential tools and beginner techniques. In the second half\, dive into advanced techniques and learn to tie multiple fly types. \nNo experience needed\, and all materials are provided—sign up now to secure your spot\, as class sizes are limited to 10! \nClass will take place at the brewery from 4pm-6pm. \n Fly Tying Class with Anglers Covey$30 \n  \n 
URL:https://redlegbrewing.com/event/fly-tying-class-with-anglers-covey-december-22nd/
LOCATION:Red Leg Brewing Company\, 2323 Garden of the Gods Rd\, Colorado Springs\, CO\, 80907\, United States
CATEGORIES:Special Event
END:VEVENT
BEGIN:VEVENT
DTSTART;TZID=America/Denver:20241224T110000
DTEND;TZID=America/Denver:20241224T160000
DTSTAMP:20260425T042046
CREATED:20241223T173817Z
LAST-MODIFIED:20241223T174031Z
UID:41905-1735038000-1735056000@redlegbrewing.com
SUMMARY:Christmas Eve
DESCRIPTION:We will be opened from 11am- 4pm on Christmas Eve.
URL:https://redlegbrewing.com/event/christmas-eve/
LOCATION:Red Leg Brewing Company\, 2323 Garden of the Gods Rd\, Colorado Springs\, CO\, 80907\, United States
CATEGORIES:Special Event
END:VEVENT
BEGIN:VEVENT
DTSTART;VALUE=DATE:20241225
DTEND;VALUE=DATE:20241226
DTSTAMP:20260425T042046
CREATED:20241223T173918Z
LAST-MODIFIED:20241223T173946Z
UID:41907-1735084800-1735171199@redlegbrewing.com
SUMMARY:CLOSED - Christmas Day
DESCRIPTION:On Christmas day we will be closed for the holiday to spend time with our families and friends!
URL:https://redlegbrewing.com/event/closed-christmas-day-2/
LOCATION:Red Leg Brewing Company\, 2323 Garden of the Gods Rd\, Colorado Springs\, CO\, 80907\, United States
CATEGORIES:Special Event
END:VEVENT
BEGIN:VEVENT
DTSTART;TZID=America/Denver:20241231T120000
DTEND;TZID=America/Denver:20241231T210000
DTSTAMP:20260425T042046
CREATED:20241223T174711Z
LAST-MODIFIED:20241223T174711Z
UID:41912-1735646400-1735678800@redlegbrewing.com
SUMMARY:New Years Eve
DESCRIPTION:🎄✨ Holiday Hours at Red Leg Brewing Co. ✨🎄 \nNew Year’s Hours\n🎉 New Year’s Eve (12/31): 12 PM – 9 PM\n🎉 New Year’s Day (1/1): 11 AM – 9 PM \nCome by\, grab your favorite brew\, and let’s cheers to an incredible holiday season and an even better 2025! 🍻
URL:https://redlegbrewing.com/event/new-years-eve/
LOCATION:CO
CATEGORIES:Special Event
END:VEVENT
BEGIN:VEVENT
DTSTART;TZID=America/Denver:20250101T110000
DTEND;TZID=America/Denver:20250101T210000
DTSTAMP:20260425T042046
CREATED:20241223T174858Z
LAST-MODIFIED:20241223T180744Z
UID:41914-1735729200-1735765200@redlegbrewing.com
SUMMARY:New Years Day
DESCRIPTION:🎄✨ Holiday Hours at Red Leg Brewing Co. ✨🎄 \nNew Year’s Hours\n🎉 New Year’s Day (1/1): 11 AM – 9 PM \nCome by\, grab your favorite brew\, and let’s cheers to an incredible holiday season and an even better 2025! 🍻
URL:https://redlegbrewing.com/event/new-years-day/
LOCATION:CO
CATEGORIES:Special Event
END:VEVENT
BEGIN:VEVENT
DTSTART;TZID=America/Denver:20250107T183000
DTEND;TZID=America/Denver:20250107T203000
DTSTAMP:20260425T042046
CREATED:20241213T181108Z
LAST-MODIFIED:20241224T164618Z
UID:41813-1736274600-1736281800@redlegbrewing.com
SUMMARY:Trivia Night
DESCRIPTION:LIVE Trivia with a variety of questions including Picture Mashups\, Name That Year\, Music & Movie clips\, Retro TV Theme Song\, and more!\nEvery Tuesday starting at 6:30 pm! Prizes for 1st\, 2nd and 3rd.
URL:https://redlegbrewing.com/event/trivia-night-135/
LOCATION:Red Leg Brewing Company\, 2323 Garden of the Gods Rd\, Colorado Springs\, CO\, 80907\, United States
CATEGORIES:Special Event
END:VEVENT
BEGIN:VEVENT
DTSTART;TZID=America/Denver:20250108T183000
DTEND;TZID=America/Denver:20250108T203000
DTSTAMP:20260425T042046
CREATED:20241213T183414Z
LAST-MODIFIED:20241224T164057Z
UID:41825-1736361000-1736368200@redlegbrewing.com
SUMMARY:Music Video Bingo
DESCRIPTION:Wednesdays are for Music Video BINGO! Win FREE BEER while watching music videos! Join the fun in the taproom from 6:30-8:30 pm – it’s free to play!Your Host will be playing a variety of classic & unique music videos from the last 60 years. You don’t need to know the title or artist to win so relax & have another pint! Just pay attention\, work that bingo dabber & drink on! Winners every round + Grand Prize!
URL:https://redlegbrewing.com/event/music-video-bingo-103/
LOCATION:Red Leg Brewing Company\, 2323 Garden of the Gods Rd\, Colorado Springs\, CO\, 80907\, United States
CATEGORIES:Special Event
END:VEVENT
BEGIN:VEVENT
DTSTART;TZID=America/Denver:20250112T160000
DTEND;TZID=America/Denver:20250112T180000
DTSTAMP:20260425T042046
CREATED:20241212T211805Z
LAST-MODIFIED:20241212T213159Z
UID:41801-1736697600-1736704800@redlegbrewing.com
SUMMARY:Fly Tying Class With Anglers Covey January 12th
DESCRIPTION:Curious about fly tying or looking to expand your skills? This class offers a comprehensive introduction to fly tying\, covering essential tools and beginner techniques. In the second half\, dive into advanced techniques and learn to tie multiple fly types. \nNo experience needed\, and all materials are provided—sign up now to secure your spot\, as class sizes are limited to 10! \nClass will take place at the brewery from 4pm-6pm. \n  \n Fly Tying Class with Anglers Covey January 12th$30
URL:https://redlegbrewing.com/event/fly-tying-class-with-anglers-covey-january-12th/
LOCATION:Red Leg Brewing Company\, 2323 Garden of the Gods Rd\, Colorado Springs\, CO\, 80907\, United States
CATEGORIES:Special Event
END:VEVENT
BEGIN:VEVENT
DTSTART;TZID=America/Denver:20250114T183000
DTEND;TZID=America/Denver:20250114T203000
DTSTAMP:20260425T042046
CREATED:20241213T182214Z
LAST-MODIFIED:20241224T170145Z
UID:41815-1736879400-1736886600@redlegbrewing.com
SUMMARY:Trivia Night
DESCRIPTION:LIVE Trivia with a variety of questions including Picture Mashups\, Name That Year\, Music & Movie clips\, Retro TV Theme Song\, and more!\nEvery Tuesday starting at 6:30 pm with your host Allie! Prizes for 1st\, 2nd and 3rd.
URL:https://redlegbrewing.com/event/trivia-night-136/
LOCATION:Red Leg Brewing Company\, 2323 Garden of the Gods Rd\, Colorado Springs\, CO\, 80907\, United States
CATEGORIES:Special Event
END:VEVENT
BEGIN:VEVENT
DTSTART;TZID=America/Denver:20250115T183000
DTEND;TZID=America/Denver:20250115T200000
DTSTAMP:20260425T042046
CREATED:20241213T183449Z
LAST-MODIFIED:20241224T171429Z
UID:41827-1736965800-1736971200@redlegbrewing.com
SUMMARY:Music Video Bingo
DESCRIPTION:Wednesdays are for Music Video BINGO! Win FREE BEER while watching music videos! Join the fun in the taproom from 6:30-8:30 pm – it’s free to play!Your Host will be playing a variety of classic & unique music videos from the last 60 years. You don’t need to know the title or artist to win so relax & have another pint! Just pay attention\, work that bingo dabber & drink on! Winners every round + Grand Prize!
URL:https://redlegbrewing.com/event/music-video-bingo-104/
LOCATION:Red Leg Brewing Company\, 2323 Garden of the Gods Rd\, Colorado Springs\, CO\, 80907\, United States
CATEGORIES:Special Event
END:VEVENT
BEGIN:VEVENT
DTSTART;TZID=America/Denver:20250121T183000
DTEND;TZID=America/Denver:20250121T203000
DTSTAMP:20260425T042046
CREATED:20241213T182256Z
LAST-MODIFIED:20241224T180225Z
UID:41817-1737484200-1737491400@redlegbrewing.com
SUMMARY:Trivia Night
DESCRIPTION:LIVE Trivia with a variety of questions including Picture Mashups\, Name That Year\, Music & Movie clips\, Retro TV Theme Song\, and more!\nEvery Tuesday starting at 6:30 pm! Prizes for 1st\, 2nd and 3rd.
URL:https://redlegbrewing.com/event/trivia-night-137/
LOCATION:Red Leg Brewing Company\, 2323 Garden of the Gods Rd\, Colorado Springs\, CO\, 80907\, United States
CATEGORIES:Special Event
END:VEVENT
BEGIN:VEVENT
DTSTART;TZID=America/Denver:20250122T183000
DTEND;TZID=America/Denver:20250122T203000
DTSTAMP:20260425T042046
CREATED:20241213T184608Z
LAST-MODIFIED:20241224T210057Z
UID:41829-1737570600-1737577800@redlegbrewing.com
SUMMARY:Music Video Bingo
DESCRIPTION:Wednesdays are for Music Video BINGO! Win FREE BEER while watching music videos! Join the fun in the taproom from 6:30-8:30 pm – it’s free to play!Your Host will be playing a variety of classic & unique music videos from the last 60 years. You don’t need to know the title or artist to win so relax & have another pint! Just pay attention\, work that bingo dabber & drink on! Winners every round + Grand Prize!
URL:https://redlegbrewing.com/event/music-video-bingo-105/
LOCATION:Red Leg Brewing Company\, 2323 Garden of the Gods Rd\, Colorado Springs\, CO\, 80907\, United States
CATEGORIES:Special Event
END:VEVENT
BEGIN:VEVENT
DTSTART;TZID=America/Denver:20250126T160000
DTEND;TZID=America/Denver:20250126T180000
DTSTAMP:20260425T042046
CREATED:20241212T213015Z
LAST-MODIFIED:20241212T214802Z
UID:41803-1737907200-1737914400@redlegbrewing.com
SUMMARY:Fly Fish Tying with Anglers Covey January 26th
DESCRIPTION:Curious about fly tying or looking to expand your skills? This class offers a comprehensive introduction to fly tying\, covering essential tools and beginner techniques. In the second half\, dive into advanced techniques and learn to tie multiple fly types. \nNo experience needed\, and all materials are provided—sign up now to secure your spot\, as class sizes are limited to 10! \nClass will take place at the brewery from 4pm-6pm. \n $30 Fly Tying Class with Anglers Covey January 26th[/su_button
URL:https://redlegbrewing.com/event/fly-fish-tying-with-anglers-covey-january-26th/
LOCATION:Red Leg Brewing Company\, 2323 Garden of the Gods Rd\, Colorado Springs\, CO\, 80907\, United States
CATEGORIES:Special Event
END:VEVENT
END:VCALENDAR