BEGIN:VCALENDAR
VERSION:2.0
PRODID:-//Red Leg Brewing Company - ECPv6.15.18//NONSGML v1.0//EN
CALSCALE:GREGORIAN
METHOD:PUBLISH
X-ORIGINAL-URL:https://redlegbrewing.com
X-WR-CALDESC:Events for Red Leg Brewing Company
REFRESH-INTERVAL;VALUE=DURATION:PT1H
X-Robots-Tag:noindex
X-PUBLISHED-TTL:PT1H
BEGIN:VTIMEZONE
TZID:America/Denver
BEGIN:DAYLIGHT
TZOFFSETFROM:-0700
TZOFFSETTO:-0600
TZNAME:MDT
DTSTART:20250309T090000
END:DAYLIGHT
BEGIN:STANDARD
TZOFFSETFROM:-0600
TZOFFSETTO:-0700
TZNAME:MST
DTSTART:20251102T080000
END:STANDARD
BEGIN:DAYLIGHT
TZOFFSETFROM:-0700
TZOFFSETTO:-0600
TZNAME:MDT
DTSTART:20260308T090000
END:DAYLIGHT
BEGIN:STANDARD
TZOFFSETFROM:-0600
TZOFFSETTO:-0700
TZNAME:MST
DTSTART:20261101T080000
END:STANDARD
BEGIN:DAYLIGHT
TZOFFSETFROM:-0700
TZOFFSETTO:-0600
TZNAME:MDT
DTSTART:20270314T090000
END:DAYLIGHT
BEGIN:STANDARD
TZOFFSETFROM:-0600
TZOFFSETTO:-0700
TZNAME:MST
DTSTART:20271107T080000
END:STANDARD
END:VTIMEZONE
BEGIN:VEVENT
DTSTART;TZID=America/Denver:20260624T183000
DTEND;TZID=America/Denver:20260624T203000
DTSTAMP:20260425T042058
CREATED:20251230T233704Z
LAST-MODIFIED:20260407T223303Z
UID:82209-1782325800-1782333000@redlegbrewing.com
SUMMARY:Music Video BINGO!
DESCRIPTION:Join us every Wednesday for Music Video BINGO to win FREE BEER while watching music videos! Join the fun in the taproom from 6:30-8:30 pm – it’s free to play.\nYour Host will be playing a variety of classic & unique music videos from the last 60 years. You don’t need to know the title or artist to win so relax & have another pint! Winners every round + Grand Prize!
URL:https://redlegbrewing.com/event/music-video-bingo-147/
LOCATION:Red Leg Brewing Company\, 2323 Garden of the Gods Rd\, Colorado Springs\, CO\, 80907\, United States
CATEGORIES:Ongoing Event
ATTACH;FMTTYPE=image/png:https://redlegbrewing.com/wp-content/uploads/2025/11/Music-Video-BINGO-400x400-1.png
END:VEVENT
BEGIN:VEVENT
DTSTART;TZID=America/Denver:20260630T183000
DTEND;TZID=America/Denver:20260630T203000
DTSTAMP:20260425T042058
CREATED:20251230T233206Z
LAST-MODIFIED:20260406T194452Z
UID:82205-1782844200-1782851400@redlegbrewing.com
SUMMARY:Tuesday Trivia
DESCRIPTION:Test your knowledge every Tuesday at Red Leg with Trivia Nights! Grab your team\, sip some beer\, and compete to win fun prizes. \nFREE to enter!\nGreat beer and prizes!
URL:https://redlegbrewing.com/event/tuesday-trivia-27/
LOCATION:Red Leg Brewing Company\, 2323 Garden of the Gods Rd\, Colorado Springs\, CO\, 80907\, United States
CATEGORIES:Ongoing Event
ATTACH;FMTTYPE=image/png:https://redlegbrewing.com/wp-content/uploads/2025/12/Tuesday-Trivia-Website.png
END:VEVENT
BEGIN:VEVENT
DTSTART;TZID=America/Denver:20260701T183000
DTEND;TZID=America/Denver:20260701T203000
DTSTAMP:20260425T042058
CREATED:20260407T224345Z
LAST-MODIFIED:20260407T224345Z
UID:83067-1782930600-1782937800@redlegbrewing.com
SUMMARY:Music Video BINGO!
DESCRIPTION:Join us every Wednesday for Music Video BINGO to win FREE BEER while watching music videos! Join the fun in the taproom from 6:30-8:30 pm – it’s free to play. \nYour Host will be playing a variety of classic & unique music videos from the last 60 years. You don’t need to know the title or artist to win so relax & have another pint! Winners every round + Grand Prize!
URL:https://redlegbrewing.com/event/music-video-bingo-165/
LOCATION:Red Leg Brewing Company\, 2323 Garden of the Gods Rd\, Colorado Springs\, CO\, 80907\, United States
CATEGORIES:Ongoing Event
ATTACH;FMTTYPE=image/png:https://redlegbrewing.com/wp-content/uploads/2025/11/Music-Video-BINGO-400x400-1.png
END:VEVENT
BEGIN:VEVENT
DTSTART;TZID=America/Denver:20260703T170000
DTEND;TZID=America/Denver:20260703T200000
DTSTAMP:20260425T042058
CREATED:20260303T174950Z
LAST-MODIFIED:20260303T180749Z
UID:82673-1783098000-1783108800@redlegbrewing.com
SUMMARY:Live Music: School of Rock
DESCRIPTION:You’ve seen the movie\, now enjoy music from actual School of Rock students. Enjoy the School of Rock performing live at Red Leg Brewing Company!\nCatch live music all summer! Watch our Facebook calendar or visit redlegbrewing.com/events. 
URL:https://redlegbrewing.com/event/live-music-school-of-rock-3/
LOCATION:Red Leg Brewing Company\, 2323 Garden of the Gods Rd\, Colorado Springs\, CO\, 80907\, United States
CATEGORIES:Live Entertainment,Special Event
ATTACH;FMTTYPE=image/png:https://redlegbrewing.com/wp-content/uploads/2026/03/2026-Live-Music-Template-400x400-1.png
END:VEVENT
BEGIN:VEVENT
DTSTART;TZID=America/Denver:20260705T113000
DTEND;TZID=America/Denver:20260705T150000
DTSTAMP:20260425T042058
CREATED:20260422T174721Z
LAST-MODIFIED:20260422T174721Z
UID:83188-1783251000-1783263600@redlegbrewing.com
SUMMARY:Makers Market
DESCRIPTION:Red Leg Brewing Company Makers Markets feature a rotating selection of local artists\, bakers\, makers\, and farmers. A fun combination of farm and art market! Head on over to the brewery for our outdoor market and support small local businesses all in one convenient stop! \nFirst Sunday every month from May – October 11:00 AM – 3:00 PM \nRed Leg Brewing Makers Markets feature a rotating selection of local artists\, bakers\, makers\, and farmers. A fun combination of farm and art market! Due to high interest and a large number of applications\, approved vendors will receive a few market dates\, and not all 6 markets.
URL:https://redlegbrewing.com/event/makers-market-7/
LOCATION:Red Leg Brewing Company\, 2323 Garden of the Gods Rd\, Colorado Springs\, CO\, 80907\, United States
CATEGORIES:Ongoing Event,Special Event
ATTACH;FMTTYPE=image/png:https://redlegbrewing.com/wp-content/uploads/2026/04/July.png
END:VEVENT
BEGIN:VEVENT
DTSTART;TZID=America/Denver:20260707T183000
DTEND;TZID=America/Denver:20260707T203000
DTSTAMP:20260425T042058
CREATED:20260129T215306Z
LAST-MODIFIED:20260406T194538Z
UID:82407-1783449000-1783456200@redlegbrewing.com
SUMMARY:Tuesday Trivia
DESCRIPTION:Test your knowledge every Tuesday at Red Leg with Trivia Nights! Grab your team\, sip some beer\, and compete to win fun prizes. \nFREE to enter!\nGreat beer and prizes!
URL:https://redlegbrewing.com/event/tuesday-trivia-28/
LOCATION:Red Leg Brewing Company\, 2323 Garden of the Gods Rd\, Colorado Springs\, CO\, 80907\, United States
CATEGORIES:Ongoing Event
ATTACH;FMTTYPE=image/png:https://redlegbrewing.com/wp-content/uploads/2025/12/Tuesday-Trivia-Website.png
END:VEVENT
BEGIN:VEVENT
DTSTART;TZID=America/Denver:20260708T183000
DTEND;TZID=America/Denver:20260708T203000
DTSTAMP:20260425T042058
CREATED:20260129T215045Z
LAST-MODIFIED:20260407T223233Z
UID:82403-1783535400-1783542600@redlegbrewing.com
SUMMARY:Music Video BINGO!
DESCRIPTION:Join us every Wednesday for Music Video BINGO to win FREE BEER while watching music videos! Join the fun in the taproom from 6:30-8:30 pm – it’s free to play. \nYour Host will be playing a variety of classic & unique music videos from the last 60 years. You don’t need to know the title or artist to win so relax & have another pint! Winners every round + Grand Prize!
URL:https://redlegbrewing.com/event/music-video-bingo-149/
LOCATION:Red Leg Brewing Company\, 2323 Garden of the Gods Rd\, Colorado Springs\, CO\, 80907\, United States
CATEGORIES:Ongoing Event
ATTACH;FMTTYPE=image/png:https://redlegbrewing.com/wp-content/uploads/2025/11/Music-Video-BINGO-400x400-1.png
END:VEVENT
BEGIN:VEVENT
DTSTART;TZID=America/Denver:20260711T160000
DTEND;TZID=America/Denver:20260711T190000
DTSTAMP:20260425T042058
CREATED:20260303T164724Z
LAST-MODIFIED:20260303T164724Z
UID:82669-1783785600-1783796400@redlegbrewing.com
SUMMARY:Live Music: SofaKillers
DESCRIPTION:Enjoy the SofaKillers performing live at Red Leg Brewing Company!\nCatch live music all summer! Watch our Facebook calendar or visit redlegbrewing.com/events.
URL:https://redlegbrewing.com/event/live-music-sofakillers-4/
LOCATION:Red Leg Brewing Company\, 2323 Garden of the Gods Rd\, Colorado Springs\, CO\, 80907\, United States
CATEGORIES:Live Entertainment,Special Event
ATTACH;FMTTYPE=image/png:https://redlegbrewing.com/wp-content/uploads/2026/03/6.png
END:VEVENT
BEGIN:VEVENT
DTSTART;TZID=America/Denver:20260714T183000
DTEND;TZID=America/Denver:20260714T203000
DTSTAMP:20260425T042058
CREATED:20260129T215403Z
LAST-MODIFIED:20260406T194632Z
UID:82409-1784053800-1784061000@redlegbrewing.com
SUMMARY:Tuesday Trivia
DESCRIPTION:Test your knowledge every Tuesday at Red Leg with Trivia Nights! Grab your team\, sip some beer\, and compete to win fun prizes. \nFREE to enter!\nGreat beer and prizes!
URL:https://redlegbrewing.com/event/tuesday-trivia-29/
LOCATION:Red Leg Brewing Company\, 2323 Garden of the Gods Rd\, Colorado Springs\, CO\, 80907\, United States
CATEGORIES:Ongoing Event
ATTACH;FMTTYPE=image/png:https://redlegbrewing.com/wp-content/uploads/2025/12/Tuesday-Trivia-Website.png
END:VEVENT
BEGIN:VEVENT
DTSTART;TZID=America/Denver:20260715T183000
DTEND;TZID=America/Denver:20260715T203000
DTSTAMP:20260425T042058
CREATED:20260407T224446Z
LAST-MODIFIED:20260407T224446Z
UID:83069-1784140200-1784147400@redlegbrewing.com
SUMMARY:Music Video BINGO!
DESCRIPTION:Join us every Wednesday for Music Video BINGO to win FREE BEER while watching music videos! Join the fun in the taproom from 6:30-8:30 pm – it’s free to play. \nYour Host will be playing a variety of classic & unique music videos from the last 60 years. You don’t need to know the title or artist to win so relax & have another pint! Winners every round + Grand Prize!
URL:https://redlegbrewing.com/event/music-video-bingo-167/
LOCATION:Red Leg Brewing Company\, 2323 Garden of the Gods Rd\, Colorado Springs\, CO\, 80907\, United States
CATEGORIES:Ongoing Event
ATTACH;FMTTYPE=image/png:https://redlegbrewing.com/wp-content/uploads/2025/11/Music-Video-BINGO-400x400-1.png
END:VEVENT
BEGIN:VEVENT
DTSTART;TZID=America/Denver:20260721T183000
DTEND;TZID=America/Denver:20260721T203000
DTSTAMP:20260425T042058
CREATED:20260129T215549Z
LAST-MODIFIED:20260406T194714Z
UID:82411-1784658600-1784665800@redlegbrewing.com
SUMMARY:Tuesday Trivia
DESCRIPTION:Test your knowledge every Tuesday at Red Leg with Trivia Nights! Grab your team\, sip some beer\, and compete to win fun prizes. \nFREE to enter!\nGreat beer and prizes!
URL:https://redlegbrewing.com/event/tuesday-trivia-30/
LOCATION:Red Leg Brewing Company\, 2323 Garden of the Gods Rd\, Colorado Springs\, CO\, 80907\, United States
CATEGORIES:Ongoing Event
ATTACH;FMTTYPE=image/png:https://redlegbrewing.com/wp-content/uploads/2025/12/Tuesday-Trivia-Website.png
END:VEVENT
BEGIN:VEVENT
DTSTART;TZID=America/Denver:20260722T183000
DTEND;TZID=America/Denver:20260722T203000
DTSTAMP:20260425T042058
CREATED:20260129T215156Z
LAST-MODIFIED:20260407T223208Z
UID:82405-1784745000-1784752200@redlegbrewing.com
SUMMARY:Music Video BINGO!
DESCRIPTION:Join us every Wednesday for Music Video BINGO to win FREE BEER while watching music videos! Join the fun in the taproom from 6:30-8:30 pm – it’s free to play. \nYour Host will be playing a variety of classic & unique music videos from the last 60 years. You don’t need to know the title or artist to win so relax & have another pint! Winners every round + Grand Prize!
URL:https://redlegbrewing.com/event/music-video-bingo-151/
LOCATION:Red Leg Brewing Company\, 2323 Garden of the Gods Rd\, Colorado Springs\, CO\, 80907\, United States
CATEGORIES:Ongoing Event
ATTACH;FMTTYPE=image/png:https://redlegbrewing.com/wp-content/uploads/2025/11/Music-Video-BINGO-400x400-1.png
END:VEVENT
BEGIN:VEVENT
DTSTART;TZID=America/Denver:20260727T180000
DTEND;TZID=America/Denver:20260727T220000
DTSTAMP:20260425T042058
CREATED:20260421T155805Z
LAST-MODIFIED:20260421T155805Z
UID:83164-1785175200-1785189600@redlegbrewing.com
SUMMARY:Colorado Springs Chess Club
DESCRIPTION:The Colorado Springs Chess Club will be at Red Leg on Monday\, July 27th for another round of their Speed Chess Qualifier!\n\nSpeed Chess Qualifier\n\nEvent: One night\, OTB\, 5-Round\, Double Swiss System\nSections: Qualifier\n\nQualifier Section: 5-Round\, Double Swiss System\nMembership: Unrated\, no membership required\nTime Control: G/5+0\nEntry Fee: $5 (FREE for CSCC Supporting Members)\nPrizes: 1st place winner will qualify for the 31st City Speed Chess Championship\n\nInformation:\n\nPlayers will be seeded for the 31st City Speed Chess Championship (December 29th) as follows:\n1. 2025 Champion – Rhett Langseth\n2. 2025 Challenger winner – Jonathan Brown\n3. 2025 Challenger runner-up – Joel Brown\n4. April Qualifier winner – ?\n5. July Qualifier winner – ?\n6. October Qualifier winner – ?\n\nRegistration: About 6:00pm until 6:45pm.\nSite: 2323 Garden of the Gods Rd Suite 107\, Colorado Springs\, CO 80907.\nRounds: 7:00pm\n\nEntries: Paul Anderson\nPayment: Cash or Paypal (cschess@juno.com)\nPhone: (719) 551-9833 SMS\nE-mail: cschess@juno.com
URL:https://redlegbrewing.com/event/colorado-springs-chess-club-2/
LOCATION:Red Leg Brewing Company\, 2323 Garden of the Gods Rd\, Colorado Springs\, CO\, 80907\, United States
ATTACH;FMTTYPE=image/png:https://redlegbrewing.com/wp-content/uploads/2026/04/ChessClubJuly27.png
END:VEVENT
BEGIN:VEVENT
DTSTART;TZID=America/Denver:20260728T183000
DTEND;TZID=America/Denver:20260728T203000
DTSTAMP:20260425T042058
CREATED:20260129T215644Z
LAST-MODIFIED:20260406T194801Z
UID:82413-1785263400-1785270600@redlegbrewing.com
SUMMARY:Tuesday Trivia
DESCRIPTION:Test your knowledge every Tuesday at Red Leg with Trivia Nights! Grab your team\, sip some beer\, and compete to win fun prizes. \nFREE to enter!\nGreat beer and prizes!
URL:https://redlegbrewing.com/event/tuesday-trivia-31/
LOCATION:Red Leg Brewing Company\, 2323 Garden of the Gods Rd\, Colorado Springs\, CO\, 80907\, United States
CATEGORIES:Ongoing Event
ATTACH;FMTTYPE=image/png:https://redlegbrewing.com/wp-content/uploads/2025/12/Tuesday-Trivia-Website.png
END:VEVENT
BEGIN:VEVENT
DTSTART;TZID=America/Denver:20260729T183000
DTEND;TZID=America/Denver:20260729T203000
DTSTAMP:20260425T042058
CREATED:20260407T224543Z
LAST-MODIFIED:20260407T224543Z
UID:83071-1785349800-1785357000@redlegbrewing.com
SUMMARY:Music Video BINGO!
DESCRIPTION:Join us every Wednesday for Music Video BINGO to win FREE BEER while watching music videos! Join the fun in the taproom from 6:30-8:30 pm – it’s free to play. \nYour Host will be playing a variety of classic & unique music videos from the last 60 years. You don’t need to know the title or artist to win so relax & have another pint! Winners every round + Grand Prize!
URL:https://redlegbrewing.com/event/music-video-bingo-168/
LOCATION:Red Leg Brewing Company\, 2323 Garden of the Gods Rd\, Colorado Springs\, CO\, 80907\, United States
CATEGORIES:Ongoing Event
ATTACH;FMTTYPE=image/png:https://redlegbrewing.com/wp-content/uploads/2025/11/Music-Video-BINGO-400x400-1.png
END:VEVENT
BEGIN:VEVENT
DTSTART;TZID=America/Denver:20260801T160000
DTEND;TZID=America/Denver:20260801T190000
DTSTAMP:20260425T042058
CREATED:20260303T175946Z
LAST-MODIFIED:20260303T180103Z
UID:82681-1785600000-1785610800@redlegbrewing.com
SUMMARY:Live Music: Lack Family
DESCRIPTION:Enjoy the Lack Family performing live at Red Leg Brewing Company!\nCatch live music all summer! Watch our Facebook calendar or visit redlegbrewing.com/events.  
URL:https://redlegbrewing.com/event/82681/
LOCATION:Red Leg Brewing Company\, 2323 Garden of the Gods Rd\, Colorado Springs\, CO\, 80907\, United States
CATEGORIES:Live Entertainment,Special Event
END:VEVENT
BEGIN:VEVENT
DTSTART;TZID=America/Denver:20260802T110000
DTEND;TZID=America/Denver:20260802T150000
DTSTAMP:20260425T042058
CREATED:20260422T174817Z
LAST-MODIFIED:20260422T174817Z
UID:83191-1785668400-1785682800@redlegbrewing.com
SUMMARY:Makers Market
DESCRIPTION:Red Leg Brewing Company Makers Markets feature a rotating selection of local artists\, bakers\, makers\, and farmers. A fun combination of farm and art market! Head on over to the brewery for our outdoor market and support small local businesses all in one convenient stop! \nFirst Sunday every month from May – October 11:00 AM – 3:00 PM \nRed Leg Brewing Makers Markets feature a rotating selection of local artists\, bakers\, makers\, and farmers. A fun combination of farm and art market! Due to high interest and a large number of applications\, approved vendors will receive a few market dates\, and not all 6 markets.
URL:https://redlegbrewing.com/event/makers-market-8/
LOCATION:Red Leg Brewing Company\, 2323 Garden of the Gods Rd\, Colorado Springs\, CO\, 80907\, United States
CATEGORIES:Ongoing Event,Special Event
ATTACH;FMTTYPE=image/png:https://redlegbrewing.com/wp-content/uploads/2026/04/August.png
END:VEVENT
BEGIN:VEVENT
DTSTART;TZID=America/Denver:20260829T160000
DTEND;TZID=America/Denver:20260829T190000
DTSTAMP:20260425T042058
CREATED:20260303T175302Z
LAST-MODIFIED:20260303T175416Z
UID:82677-1788019200-1788030000@redlegbrewing.com
SUMMARY:Live Music: SofaKillers
DESCRIPTION:Enjoy the SofaKillers performing live at Red Leg Brewing Company!\nCatch live music all summer! Watch our Facebook calendar or visit redlegbrewing.com/events. 
URL:https://redlegbrewing.com/event/live-music-sofakillers-5/
LOCATION:Red Leg Brewing Company\, 2323 Garden of the Gods Rd\, Colorado Springs\, CO\, 80907\, United States
CATEGORIES:Live Entertainment,Special Event
ATTACH;FMTTYPE=image/png:https://redlegbrewing.com/wp-content/uploads/2026/03/7.png
END:VEVENT
BEGIN:VEVENT
DTSTART;TZID=America/Denver:20260906T110000
DTEND;TZID=America/Denver:20260906T150000
DTSTAMP:20260425T042058
CREATED:20260422T174912Z
LAST-MODIFIED:20260422T174912Z
UID:83194-1788692400-1788706800@redlegbrewing.com
SUMMARY:Makers Market
DESCRIPTION:Red Leg Brewing Company Makers Markets feature a rotating selection of local artists\, bakers\, makers\, and farmers. A fun combination of farm and art market! Head on over to the brewery for our outdoor market and support small local businesses all in one convenient stop! \nFirst Sunday every month from May – October 11:00 AM – 3:00 PM \nRed Leg Brewing Makers Markets feature a rotating selection of local artists\, bakers\, makers\, and farmers. A fun combination of farm and art market! Due to high interest and a large number of applications\, approved vendors will receive a few market dates\, and not all 6 markets.
URL:https://redlegbrewing.com/event/makers-market-9/
LOCATION:Red Leg Brewing Company\, 2323 Garden of the Gods Rd\, Colorado Springs\, CO\, 80907\, United States
CATEGORIES:Ongoing Event,Special Event
ATTACH;FMTTYPE=image/png:https://redlegbrewing.com/wp-content/uploads/2026/04/September.png
END:VEVENT
BEGIN:VEVENT
DTSTART;TZID=America/Denver:20261004T110000
DTEND;TZID=America/Denver:20261004T150000
DTSTAMP:20260425T042058
CREATED:20260422T175001Z
LAST-MODIFIED:20260422T175001Z
UID:83197-1791111600-1791126000@redlegbrewing.com
SUMMARY:Makers Market
DESCRIPTION:Red Leg Brewing Company Makers Markets feature a rotating selection of local artists\, bakers\, makers\, and farmers. A fun combination of farm and art market! Head on over to the brewery for our outdoor market and support small local businesses all in one convenient stop! \nFirst Sunday every month from May – October 11:00 AM – 3:00 PM \nRed Leg Brewing Makers Markets feature a rotating selection of local artists\, bakers\, makers\, and farmers. A fun combination of farm and art market! Due to high interest and a large number of applications\, approved vendors will receive a few market dates\, and not all 6 markets.
URL:https://redlegbrewing.com/event/makers-market-10/
LOCATION:Red Leg Brewing Company\, 2323 Garden of the Gods Rd\, Colorado Springs\, CO\, 80907\, United States
CATEGORIES:Ongoing Event,Special Event
ATTACH;FMTTYPE=image/png:https://redlegbrewing.com/wp-content/uploads/2026/04/October.png
END:VEVENT
BEGIN:VEVENT
DTSTART;TZID=America/Denver:20261017T140000
DTEND;TZID=America/Denver:20261017T170000
DTSTAMP:20260425T042058
CREATED:20260303T175703Z
LAST-MODIFIED:20260303T175703Z
UID:82679-1792245600-1792256400@redlegbrewing.com
SUMMARY:Live Music: SofaKillers
DESCRIPTION:Enjoy the SofaKillers performing live at Red Leg Brewing Company!\nCatch live music all summer! Watch our Facebook calendar or visit redlegbrewing.com/events. 
URL:https://redlegbrewing.com/event/live-music-sofakillers-6/
LOCATION:Red Leg Brewing Company\, 2323 Garden of the Gods Rd\, Colorado Springs\, CO\, 80907\, United States
CATEGORIES:Live Entertainment,Special Event
ATTACH;FMTTYPE=image/png:https://redlegbrewing.com/wp-content/uploads/2026/03/8.png
END:VEVENT
BEGIN:VEVENT
DTSTART;TZID=America/Denver:20261026T180000
DTEND;TZID=America/Denver:20261026T220000
DTSTAMP:20260425T042058
CREATED:20260421T155924Z
LAST-MODIFIED:20260421T155924Z
UID:83166-1793037600-1793052000@redlegbrewing.com
SUMMARY:Colorado Springs Chess Club
DESCRIPTION:The Colorado Springs Chess Club will be at Red Leg on Monday\, October 26th for another round of their Speed Chess Qualifier!\n\nSpeed Chess Qualifier\n\nEvent: One night\, OTB\, 5-Round\, Double Swiss System\nSections: Qualifier\n\nQualifier Section: 5-Round\, Double Swiss System\nMembership: Unrated\, no membership required\nTime Control: G/5+0\nEntry Fee: $5 (FREE for CSCC Supporting Members)\nPrizes: 1st place winner will qualify for the 31st City Speed Chess Championship\n\nInformation:\n\nPlayers will be seeded for the 31st City Speed Chess Championship (December 29th) as follows:\n1. 2025 Champion – Rhett Langseth\n2. 2025 Challenger winner – Jonathan Brown\n3. 2025 Challenger runner-up – Joel Brown\n4. April Qualifier winner – ?\n5. July Qualifier winner – ?\n6. October Qualifier winner – ?\n\nRegistration: About 6:00pm until 6:45pm.\nSite: 2323 Garden of the Gods Rd Suite 107\, Colorado Springs\, CO 80907.\nRounds: 7:00pm\n\nEntries: Paul Anderson\nPayment: Cash or Paypal (cschess@juno.com)\nPhone: (719) 551-9833 SMS\nE-mail: cschess@juno.com
URL:https://redlegbrewing.com/event/colorado-springs-chess-club-3/
LOCATION:Red Leg Brewing Company\, 2323 Garden of the Gods Rd\, Colorado Springs\, CO\, 80907\, United States
ATTACH;FMTTYPE=image/png:https://redlegbrewing.com/wp-content/uploads/2026/04/ChessClubOctober26.png
END:VEVENT
END:VCALENDAR