BEGIN:VCALENDAR
VERSION:2.0
PRODID:-//Red Leg Brewing Company - ECPv6.15.18//NONSGML v1.0//EN
CALSCALE:GREGORIAN
METHOD:PUBLISH
X-WR-CALNAME:Red Leg Brewing Company
X-ORIGINAL-URL:https://redlegbrewing.com
X-WR-CALDESC:Events for Red Leg Brewing Company
REFRESH-INTERVAL;VALUE=DURATION:PT1H
X-Robots-Tag:noindex
X-PUBLISHED-TTL:PT1H
BEGIN:VTIMEZONE
TZID:America/Denver
BEGIN:DAYLIGHT
TZOFFSETFROM:-0700
TZOFFSETTO:-0600
TZNAME:MDT
DTSTART:20230312T090000
END:DAYLIGHT
BEGIN:STANDARD
TZOFFSETFROM:-0600
TZOFFSETTO:-0700
TZNAME:MST
DTSTART:20231105T080000
END:STANDARD
BEGIN:DAYLIGHT
TZOFFSETFROM:-0700
TZOFFSETTO:-0600
TZNAME:MDT
DTSTART:20240310T090000
END:DAYLIGHT
BEGIN:STANDARD
TZOFFSETFROM:-0600
TZOFFSETTO:-0700
TZNAME:MST
DTSTART:20241103T080000
END:STANDARD
BEGIN:DAYLIGHT
TZOFFSETFROM:-0700
TZOFFSETTO:-0600
TZNAME:MDT
DTSTART:20250309T090000
END:DAYLIGHT
BEGIN:STANDARD
TZOFFSETFROM:-0600
TZOFFSETTO:-0700
TZNAME:MST
DTSTART:20251102T080000
END:STANDARD
END:VTIMEZONE
BEGIN:VEVENT
DTSTART;TZID=America/Denver:20240724T183000
DTEND;TZID=America/Denver:20240724T203000
DTSTAMP:20260425T041927
CREATED:20240620T173935Z
LAST-MODIFIED:20240620T175049Z
UID:37557-1721845800-1721853000@redlegbrewing.com
SUMMARY:Music Video Bingo
DESCRIPTION:Wednesdays are for Music Video BINGO! Win FREE BEER while watching music videos! Join the fun in the taproom from 6:30-8:30 pm – it’s free to play!Your Host will be playing a variety of classic & unique music videos from the last 60 years. You don’t need to know the title or artist to win so relax & have another pint! Just pay attention\, work that bingo dabber & drink on! Winners every round + Grand Prize!
URL:https://redlegbrewing.com/event/music-video-bingo-85/
LOCATION:Red Leg Brewing Company\, 2323 Garden of the Gods Rd\, Colorado Springs\, CO\, 80907\, United States
CATEGORIES:Ongoing Event
END:VEVENT
BEGIN:VEVENT
DTSTART;TZID=America/Denver:20240723T183000
DTEND;TZID=America/Denver:20240723T203000
DTSTAMP:20260425T041927
CREATED:20240610T223742Z
LAST-MODIFIED:20240610T223742Z
UID:37225-1721759400-1721766600@redlegbrewing.com
SUMMARY:Trivia Night
DESCRIPTION:LIVE Trivia with a variety of questions including Picture Mashups\, Name That Year\, Music & Movie clips\, Retro TV Theme Song\, and more!\nEvery Tuesday starting at 6:30 pm with your host Allie! Prizes for 1st\, 2nd and 3rd.
URL:https://redlegbrewing.com/event/trivia-night-113/
LOCATION:CO
CATEGORIES:Ongoing Event
END:VEVENT
BEGIN:VEVENT
DTSTART;TZID=America/Denver:20240720T160000
DTEND;TZID=America/Denver:20240720T190000
DTSTAMP:20260425T041927
CREATED:20240708T172448Z
LAST-MODIFIED:20240708T172511Z
UID:37801-1721491200-1721502000@redlegbrewing.com
SUMMARY:Live Music: Sofa Killers
DESCRIPTION:Get Off Your Sofa and Come Dance to Some Killer Music! \nBring your lawn chairs and lawn blankets for some extra seating!
URL:https://redlegbrewing.com/event/live-music-sofa-killers-4/
LOCATION:Red Leg Brewing Company\, 2323 Garden of the Gods Rd\, Colorado Springs\, CO\, 80907\, United States
CATEGORIES:Live Entertainment
END:VEVENT
BEGIN:VEVENT
DTSTART;TZID=America/Denver:20240718T080000
DTEND;TZID=America/Denver:20240718T170000
DTSTAMP:20260425T041927
CREATED:20240610T220845Z
LAST-MODIFIED:20240610T220912Z
UID:37208-1721289600-1721322000@redlegbrewing.com
SUMMARY:Craft For a Cause : A Safe Place for Pets
DESCRIPTION:Every Thursday in June from 5:00pm to 8:00pm and we donate $1 from every Red Leg pint sold to the organization during that time.\nCome and Support your local brewery and your favorite Non-Profits! \nThis week is A Safe Place for Pets! \n A Safe Place for PetsClick to Learn \n 
URL:https://redlegbrewing.com/event/craft-for-a-cause-a-safe-place-for-pets/
LOCATION:Red Leg Brewing Company\, 2323 Garden of the Gods Rd\, Colorado Springs\, CO\, 80907\, United States
CATEGORIES:Ongoing Event
END:VEVENT
BEGIN:VEVENT
DTSTART;TZID=America/Denver:20240717T183000
DTEND;TZID=America/Denver:20240717T183000
DTSTAMP:20260425T041927
CREATED:20240620T173309Z
LAST-MODIFIED:20240620T173823Z
UID:37552-1721241000-1721241000@redlegbrewing.com
SUMMARY:Music Video Bingo
DESCRIPTION:Wednesdays are for Music Video BINGO! Win FREE BEER while watching music videos! Join the fun in the taproom from 6:30-8:30 pm – it’s free to play!Your Host will be playing a variety of classic & unique music videos from the last 60 years. You don’t need to know the title or artist to win so relax & have another pint! Just pay attention\, work that bingo dabber & drink on! Winners every round + Grand Prize!
URL:https://redlegbrewing.com/event/music-video-bingo-84/
LOCATION:CO
CATEGORIES:Ongoing Event
END:VEVENT
BEGIN:VEVENT
DTSTART;TZID=America/Denver:20240716T183000
DTEND;TZID=America/Denver:20240716T203000
DTSTAMP:20260425T041927
CREATED:20240610T223615Z
LAST-MODIFIED:20240610T223624Z
UID:37223-1721154600-1721161800@redlegbrewing.com
SUMMARY:Trivia Night
DESCRIPTION:LIVE Trivia with a variety of questions including Picture Mashups\, Name That Year\, Music & Movie clips\, Retro TV Theme Song\, and more!\nEvery Tuesday starting at 6:30 pm with your host Allie! Prizes for 1st\, 2nd and 3rd.
URL:https://redlegbrewing.com/event/trivia-night-112/
LOCATION:Red Leg Brewing Company\, 2323 Garden of the Gods Rd\, Colorado Springs\, CO\, 80907\, United States
CATEGORIES:Ongoing Event
END:VEVENT
BEGIN:VEVENT
DTSTART;TZID=America/Denver:20240713T170000
DTEND;TZID=America/Denver:20240713T200000
DTSTAMP:20260425T041927
CREATED:20240708T171912Z
LAST-MODIFIED:20240708T171912Z
UID:37796-1720890000-1720900800@redlegbrewing.com
SUMMARY:Live Music: GigaHorse
DESCRIPTION:Come over on Saturday evening and listen to the jams of Gigahorse at Red Leg Brewing Company!
URL:https://redlegbrewing.com/event/live-music-gigahorse-2/
LOCATION:Red Leg Brewing Company\, 2323 Garden of the Gods Rd\, Colorado Springs\, CO\, 80907\, United States
CATEGORIES:Special Event
END:VEVENT
BEGIN:VEVENT
DTSTART;TZID=America/Denver:20240713T170000
DTEND;TZID=America/Denver:20240713T190000
DTSTAMP:20260425T041927
CREATED:20240618T145627Z
LAST-MODIFIED:20240618T145627Z
UID:37501-1720890000-1720897200@redlegbrewing.com
SUMMARY:Networking Social Event - Q3
DESCRIPTION:Join us for an evening of brews\, cocktails\, and brilliant connections at Red Leg Brewing Company! On July 13 from 5-7 pm\, we’re hosting a lively networking event that’s open to all. Whether you’re a seasoned pro or just dipping your toes into the networking scene\, come mingle\, make new friends\, and explore opportunities in a relaxed and welcoming atmosphere. See you there! \nRegister for the event at www.redlegbrewing.com/networking! \nRegistered attendees will be given a complimentary welcome half pint or canned soda to enjoy while they break the ice! Don’t forget to bring an extra business card to enter for the chance to win a discounted private rental at the brewery.
URL:https://redlegbrewing.com/event/networking-social-event-q3/
LOCATION:Red Leg Brewing Company\, 2323 Garden of the Gods Rd\, Colorado Springs\, CO\, 80907\, United States
CATEGORIES:Special Event
END:VEVENT
BEGIN:VEVENT
DTSTART;TZID=America/Denver:20240713T140000
DTEND;TZID=America/Denver:20240713T160000
DTSTAMP:20260425T041927
CREATED:20240708T172045Z
LAST-MODIFIED:20240708T172045Z
UID:37798-1720879200-1720886400@redlegbrewing.com
SUMMARY:Live Music: Bloodline
DESCRIPTION:Come and jam out with us and Bloodline on Saturday afternoon!
URL:https://redlegbrewing.com/event/live-music-bloodline-2/
LOCATION:Red Leg Brewing Company\, 2323 Garden of the Gods Rd\, Colorado Springs\, CO\, 80907\, United States
CATEGORIES:Live Entertainment
END:VEVENT
BEGIN:VEVENT
DTSTART;TZID=America/Denver:20240712T200000
DTEND;TZID=America/Denver:20240712T213000
DTSTAMP:20260425T041927
CREATED:20240507T225340Z
LAST-MODIFIED:20240625T190119Z
UID:18668-1720814400-1720819800@redlegbrewing.com
SUMMARY:Sensual Summer - A Burlesque Variety Show
DESCRIPTION:Step into a world of glamour\, laughter\, and sheer entertainment at our dazzling Burlesque Variety Show!\n Get ready to be captivated by a lineup that promises to leave you breathless!\n\nDoors open at 7 pmShow 8 pm – 9:30 pm\n\nPerformers: Billie Jo Gillispie – Brace yourself for belly-aching laughter as comedian extraordinaire Billie Jo takes the stage\, delivering punchlines that hit just right!\nDiamond Dollface – Prepare to be mesmerized by the enchanting burlesque performances of Diamond Dollface.\n X – Get ready for a spectacle as X takes center stage in a whirlwind of fabulous drag performance.\nDomina Daemonium – Experience the tantalizing allure of burlesque with Domina Daemonium.\nRain Boa – Prepare to be dazzled by the vivacious performances of Rain Boa.\nAnd guiding you through this unforgettable evening is our charming host\, Finnish Hymn Alnite\, whose wit and charm will keep the night rolling with seamless grace.\nAdding to the magic are our delightful stage kittens\, Miss Mishmash & Lorna Night\, who will ensure that every transition is as smooth as silk.\nJoin us for a night of pure spectacle\, where the art of burlesque meets comedy\, drag\, and so much more!\n\n\n GET YOUR TICKETS TODAY$25
URL:https://redlegbrewing.com/event/sensual-summer-a-burlesque-variety-show/
LOCATION:Red Leg Brewing Company\, 2323 Garden of the Gods Rd\, Colorado Springs\, CO\, 80907\, United States
CATEGORIES:Special Event
END:VEVENT
BEGIN:VEVENT
DTSTART;TZID=America/Denver:20240711T170000
DTEND;TZID=America/Denver:20240711T200000
DTSTAMP:20260425T041927
CREATED:20240610T220559Z
LAST-MODIFIED:20240610T221034Z
UID:37206-1720717200-1720728000@redlegbrewing.com
SUMMARY:Craft For a Cause : Forever\, Never Forgotten/Wardogs Baseball
DESCRIPTION:Every Thursday in July from 5:00pm to 8:00pm and we donate $1 from every Red Leg pint sold to the organization during that time.\nCome and Support your local brewery and your favorite Non-Profits! \nThis week is War Dogs! \n  \n WAR DOGS BASEBALLClick to Learn
URL:https://redlegbrewing.com/event/craft-for-a-cause-forever-never-forgotten-wardogs-baseball/
LOCATION:Red Leg Brewing Company\, 2323 Garden of the Gods Rd\, Colorado Springs\, CO\, 80907\, United States
CATEGORIES:Special Event
END:VEVENT
BEGIN:VEVENT
DTSTART;TZID=America/Denver:20240710T203000
DTEND;TZID=America/Denver:20240710T220000
DTSTAMP:20260425T041927
CREATED:20240702T154422Z
LAST-MODIFIED:20240702T192438Z
UID:37734-1720643400-1720648800@redlegbrewing.com
SUMMARY:Movie On The Lawn: Sandlot
DESCRIPTION:Join us for a nostalgic evening under the stars at Red Leg Brewing with a special Movie on the Lawn screening of “The Sandlot”! Bring your blankets\, lawn chairs\, and love for classic films to enjoy this beloved coming-of-age story in the great outdoors\, paired perfectly with our finest brews. \n“You’re killing me\, Smalls!” \nEvent Details: \n\nDate: July 10th\, 8:30pm\nLocation: Red Leg Brewing Company\n\nEnjoy delicious foods like burgers\, pizza\, and cookies that will be available from on-site vendors for movie snacks. \nDon’t forget to grab a pint of your favorite Red Leg brew to enhance the movie-watching experience and wear your best baseball cap in honor of this timeless classic. \nWhether you’re introducing your kids to the magic of “The Sandlot” or reliving your own childhood memories\, this is an event you won’t want to miss. Gather your friends and family for an evening of fun\, laughter\, and heartfelt moments. \nSee you on the lawn at Red Leg Brewing\, and remember\, “You’re killing me\, Smalls!”
URL:https://redlegbrewing.com/event/movie-on-the-lawn-sandlot/
LOCATION:Red Leg Brewing Company\, 2323 Garden of the Gods Rd\, Colorado Springs\, CO\, 80907\, United States
CATEGORIES:Special Event
END:VEVENT
BEGIN:VEVENT
DTSTART;TZID=America/Denver:20240710T183000
DTEND;TZID=America/Denver:20240710T203000
DTSTAMP:20260425T041927
CREATED:20240620T170727Z
LAST-MODIFIED:20240620T173943Z
UID:37550-1720636200-1720643400@redlegbrewing.com
SUMMARY:Music Video Bingo
DESCRIPTION:Wednesdays are for Music Video BINGO! Win FREE BEER while watching music videos! Join the fun in the taproom from 6:30-8:30 pm – it’s free to play!Your Host will be playing a variety of classic & unique music videos from the last 60 years. You don’t need to know the title or artist to win so relax & have another pint! Just pay attention\, work that bingo dabber & drink on! Winners every round + Grand Prize!
URL:https://redlegbrewing.com/event/music-video-bingo-83/
LOCATION:Red Leg Brewing Company\, 2323 Garden of the Gods Rd\, Colorado Springs\, CO\, 80907\, United States
CATEGORIES:Ongoing Event
END:VEVENT
BEGIN:VEVENT
DTSTART;TZID=America/Denver:20240709T183000
DTEND;TZID=America/Denver:20240709T203000
DTSTAMP:20260425T041927
CREATED:20240610T223531Z
LAST-MODIFIED:20240610T223531Z
UID:37221-1720549800-1720557000@redlegbrewing.com
SUMMARY:Trivia Night
DESCRIPTION:LIVE Trivia with a variety of questions including Picture Mashups\, Name That Year\, Music & Movie clips\, Retro TV Theme Song\, and more!\nEvery Tuesday starting at 6:30 pm with your host Allie! Prizes for 1st\, 2nd and 3rd.
URL:https://redlegbrewing.com/event/trivia-night-108/
LOCATION:CO
CATEGORIES:Ongoing Event
END:VEVENT
BEGIN:VEVENT
DTSTART;TZID=America/Denver:20240707T110000
DTEND;TZID=America/Denver:20240707T150000
DTSTAMP:20260425T041927
CREATED:20240103T183818Z
LAST-MODIFIED:20240610T211727Z
UID:17170-1720350000-1720364400@redlegbrewing.com
SUMMARY:July Makers Market
DESCRIPTION:Our Makers Markets feature a rotating selection of local artists\, makers\, and farmers. A fun combination of farm and art market! Head on over to the brewery for our outdoor market and support small local businesses all in one convenient stop!\n\n2024 Market Dates:\nJuly 7\, 2024\nAug 4\, 2024\nSept 1\, 2024\nOct 6\, 2024\nDec 1\, 2024 – Holiday Market\n\n\n\n[vc_empty_space][vc_section][vc_row][vc_column]July Market Vendors\nThe Fold Quilts | Lucky Locks Hair Sparkles | Twisted Visions | Gleneagle Candle Co | Mackerchiefs | Skelton Designs | Unspoken Words | PlushPalsbyK | Late Night Knots | Random Parts and Pieces | The Plant and the Wheel | Wild Braid Studio | Lucid Gypsy by Tovah | Black and White Botanics | Make Joy Creative | Crafted by Tiffany Ruth |Sand & Stone Crystals | Bellie + Bee | Dogs in Frames\n\nAll markets will be held from 11 am-3 pm unless noted otherwise.\n\nApplications are now open for the 2024 Market season at www.redlegbrewing.com/makers-market. Selected vendors will be contacted directly by Red Leg staff before the market. If you have questions or concerns\, please email events@redlegbrewing.com. Cheers!
URL:https://redlegbrewing.com/event/july-makers-market-3/
LOCATION:Red Leg Brewing Company\, 2323 Garden of the Gods Rd\, Colorado Springs\, CO\, 80907\, United States
CATEGORIES:Special Event
END:VEVENT
BEGIN:VEVENT
DTSTART;TZID=America/Denver:20240706T160000
DTEND;TZID=America/Denver:20240706T190000
DTSTAMP:20260425T041927
CREATED:20240702T023837Z
LAST-MODIFIED:20240702T023837Z
UID:37729-1720281600-1720292400@redlegbrewing.com
SUMMARY:Live Music: The Runners
DESCRIPTION:Colorado Springs local band. Playing all types of genres: Primarily rock and roll\, pop & alternative. The Runners are playing at Red Leg on Saturday July 6th.
URL:https://redlegbrewing.com/event/live-music-the-runners/
LOCATION:Red Leg Brewing Company\, 2323 Garden of the Gods Rd\, Colorado Springs\, CO\, 80907\, United States
CATEGORIES:Live Entertainment
END:VEVENT
BEGIN:VEVENT
DTSTART;TZID=America/Denver:20240704T163000
DTEND;TZID=America/Denver:20240704T193000
DTSTAMP:20260425T041927
CREATED:20240530T155914Z
LAST-MODIFIED:20240628T205047Z
UID:19023-1720110600-1720121400@redlegbrewing.com
SUMMARY:Live Music : Stevie P & the Hard Road
DESCRIPTION:Stevie P & the Hard Road \nStevie P. & The Hard Road is a blues/dirt rock band\, playing upbeat and swaying blues in a 3-piece setting!
URL:https://redlegbrewing.com/event/live-music-stevie-p-the-hard-road/
LOCATION:CO
END:VEVENT
BEGIN:VEVENT
DTSTART;TZID=America/Denver:20240704T143000
DTEND;TZID=America/Denver:20240704T163000
DTSTAMP:20260425T041927
CREATED:20240614T153301Z
LAST-MODIFIED:20240628T205032Z
UID:37425-1720103400-1720110600@redlegbrewing.com
SUMMARY:Live Music: DJ Mike
DESCRIPTION:DJ Mike will be here 3p – 5p playing the best tunes! 
URL:https://redlegbrewing.com/event/live-music-dj-mike/
LOCATION:Red Leg Brewing Company\, 2323 Garden of the Gods Rd\, Colorado Springs\, CO\, 80907\, United States
CATEGORIES:Live Entertainment
END:VEVENT
BEGIN:VEVENT
DTSTART;TZID=America/Denver:20240704T113000
DTEND;TZID=America/Denver:20240704T143000
DTSTAMP:20260425T041927
CREATED:20240530T154703Z
LAST-MODIFIED:20240628T204954Z
UID:19016-1720092600-1720103400@redlegbrewing.com
SUMMARY:Live Music : Rafiel & the Room Shakers
DESCRIPTION:Rafiel’s soulful and unique approach to music\, mixing blues\, rock\, motown\, jazz\, funk and his love of playing for live audiences has made him a popular act on the Colorado music scene. The band and it’s members play a solid mix of soul\, blues\, r&b\, country\, and rock all with a soulful unique approach.
URL:https://redlegbrewing.com/event/live-music-rafiel-the-room-shakers-6/
LOCATION:Red Leg Brewing Company\, 2323 Garden of the Gods Rd\, Colorado Springs\, CO\, 80907\, United States
CATEGORIES:Live Entertainment
END:VEVENT
BEGIN:VEVENT
DTSTART;TZID=America/Denver:20240704T110000
DTEND;TZID=America/Denver:20240704T200000
DTSTAMP:20260425T041927
CREATED:20240530T190218Z
LAST-MODIFIED:20240704T014937Z
UID:19044-1720090800-1720123200@redlegbrewing.com
SUMMARY:11th Anniversary Party on th 4th of July
DESCRIPTION:We are celebrating 11 years of being open! \nWe will will be celebrate with beer\, music\, and fun throughout the day. And on top of that\, it is the 4th of July\, you can’t go wrong with anything on the 4th of July! \nActivities: \nLive Music all day long: Rafiel & the Room Shakers 11:30AM- 2:30pm | DJ Gravity 2:30- 4:30PM | Stevie P & the Hard Road 4:30-7:30PM \n\nMERCHANDISE SALE! – Discounts on selective merchandise and 6 packs of selective beers\nCustom hat bar\nFace painting\nCaricaturist\nGrain Sack Race\nPie Eating Contest (Adults Contest and Kids Contest)\nGuess the Beer\nCostume Contest\nRaffle of a Red Leg Merchandise Package\nBEER!\nAnd more activities for kids and adults!
URL:https://redlegbrewing.com/event/11th-anniversary-party-11-8pm/
LOCATION:Red Leg Brewing Company\, 2323 Garden of the Gods Rd\, Colorado Springs\, CO\, 80907\, United States
CATEGORIES:Special Event
END:VEVENT
BEGIN:VEVENT
DTSTART;TZID=America/Denver:20240703T183000
DTEND;TZID=America/Denver:20240703T200000
DTSTAMP:20260425T041927
CREATED:20240610T221511Z
LAST-MODIFIED:20240610T221633Z
UID:37214-1720031400-1720036800@redlegbrewing.com
SUMMARY:Music Video Bingo
DESCRIPTION:Wednesdays are for Music Video BINGO! Win FREE BEER while watching music videos! Join the fun in the taproom from 6:30-8:30 pm – it’s free to play!Your Host will be playing a variety of classic & unique music videos from the last 60 years. You don’t need to know the title or artist to win so relax & have another pint! Just pay attention\, work that bingo dabber & drink on! Winners every round + Grand Prize!
URL:https://redlegbrewing.com/event/music-video-bingo-81/
LOCATION:Red Leg Brewing Company\, 2323 Garden of the Gods Rd\, Colorado Springs\, CO\, 80907\, United States
CATEGORIES:Ongoing Event
END:VEVENT
BEGIN:VEVENT
DTSTART;TZID=America/Denver:20240702T183000
DTEND;TZID=America/Denver:20240702T200000
DTSTAMP:20260425T041927
CREATED:20240521T194525Z
LAST-MODIFIED:20240521T194525Z
UID:18819-1719945000-1719950400@redlegbrewing.com
SUMMARY:Trivia Night
DESCRIPTION:LIVE Trivia with a variety of questions including Picture Mashups\, Name That Year\, Music & Movie clips\, Retro TV Theme Song\, and more!\nEvery Tuesday starting at 6:30 pm with your host Allie! Prizes for 1st\, 2nd and 3rd.
URL:https://redlegbrewing.com/event/trivia-night-111/
LOCATION:Red Leg Brewing Company\, 2323 Garden of the Gods Rd\, Colorado Springs\, CO\, 80907\, United States
CATEGORIES:Ongoing Event
END:VEVENT
BEGIN:VEVENT
DTSTART;TZID=America/Denver:20240630T140000
DTEND;TZID=America/Denver:20240630T170000
DTSTAMP:20260425T041927
CREATED:20240620T213628Z
LAST-MODIFIED:20240620T213711Z
UID:37565-1719756000-1719766800@redlegbrewing.com
SUMMARY:Live Music : Jared Nels Music
DESCRIPTION:Catch him pickin’\, singing\, and rocking out on Sunday\, June 30th from 2-5pm.
URL:https://redlegbrewing.com/event/live-music-jared-nels-music/
LOCATION:Red Leg Brewing Company\, 2323 Garden of the Gods Rd\, Colorado Springs\, CO\, 80907\, United States
END:VEVENT
BEGIN:VEVENT
DTSTART;TZID=America/Denver:20240629T170000
DTEND;TZID=America/Denver:20240629T200000
DTSTAMP:20260425T041927
CREATED:20240530T153532Z
LAST-MODIFIED:20240624T205109Z
UID:19012-1719680400-1719691200@redlegbrewing.com
SUMMARY:Live Music : Last Patrol Band
DESCRIPTION:LAST PATROL is a high energy variety band covering 70’s classic\, 80’s new wave\, 90’s alternative\, 00’s rock\, funk\, reggae\, and ska. \n 
URL:https://redlegbrewing.com/event/live-music-last-patrol-band-4/
LOCATION:Red Leg Brewing Company\, 2323 Garden of the Gods Rd\, Colorado Springs\, CO\, 80907\, United States
CATEGORIES:Live Entertainment
END:VEVENT
BEGIN:VEVENT
DTSTART;TZID=America/Denver:20240627T190000
DTEND;TZID=America/Denver:20240627T210000
DTSTAMP:20260425T041927
CREATED:20240530T173500Z
LAST-MODIFIED:20240626T172120Z
UID:19039-1719514800-1719522000@redlegbrewing.com
SUMMARY:Comedy Show on the Rooftop- CANCELED
DESCRIPTION:Hayden Kristal HEADLINING \nBIO: Hayden Kristal is a Brooklyn-based former zookeeper who gave up a lucrative career in salamanders to pursue comedy and public speaking. Speaking on the topics of diversity and intersectionality\, Hayden has spoken for colleges and organizations across the country\, including Harvard\, Yale\, Columbia\, the Connecticut Supreme Court\, and TEDx. For an overview of Hayden’s most popular workshops and keynotes please visit Campus Pride \nComedically\, Hayden was a semifinalist for Stand Up NBC\, a finalist for Full Frontal with Samantha Bee’s Comedy Writing Mentorship\, and has opened and featured for Maria Bamford. \nWebsite:  https://www.haydenkristal.com/ \nFacebook:  https://www.facebook.com/haydenmkristal \nFeature: Kelsey Rosen  \nIncluding:  \nLou So \nLeslie Fox \nDylan Kantor \nHosted by Melody Klema  \n  \nEvent Details: \n\nDate: June 20th\nLocation: Our Rooftop\nAge Requirement: 21+\nDoors Open: 6:00 PM\nShowtime: 7:00 PM – 9:00 PM\nDrink not included  – Rooftop bar will be open for drink purchases
URL:https://redlegbrewing.com/event/comedy-show-on-the-roof/
LOCATION:CO
CATEGORIES:Live Entertainment
END:VEVENT
BEGIN:VEVENT
DTSTART;TZID=America/Denver:20240627T170000
DTEND;TZID=America/Denver:20240627T200000
DTSTAMP:20260425T041927
CREATED:20240610T220114Z
LAST-MODIFIED:20240610T220133Z
UID:37200-1719507600-1719518400@redlegbrewing.com
SUMMARY:Craft for a Cause : Honor Bells
DESCRIPTION:Every Thursday in June from 5:00pm to 8:00pm and we donate $1 from every Red Leg pint sold to the organization during that time.\nCome and Support your local brewery and your favorite Non-Profits! \nThis week is Honoro Bells \n Honor Bell Click to Learn
URL:https://redlegbrewing.com/event/craft-for-a-cause-honor-bells/
LOCATION:CO
CATEGORIES:Special Event
END:VEVENT
BEGIN:VEVENT
DTSTART;TZID=America/Denver:20240626T203000
DTEND;TZID=America/Denver:20240626T220000
DTSTAMP:20260425T041927
CREATED:20240618T150507Z
LAST-MODIFIED:20240618T165106Z
UID:37503-1719433800-1719439200@redlegbrewing.com
SUMMARY:Movie on the Lawn - Shrek
DESCRIPTION:IT’S MY SWAMP!\nJoin us for a swampy adventure at our Movie on the Lawn event where we will be showing Shrek! Immerse yourself in the whimsical world of Shrek for an unforgettable evening under the stars. \nCome dressed up as one of the characters or in  fairy tale attire!  We will kick off with a pre-movie costume contest at 8:30 PM. The winner of the best costume will receive a gift card to Red Leg\, so you won’t want to miss out on this exciting event! After we crown the “Person of the Swamp” from the costume contest\, we will start the movie. \n 
URL:https://redlegbrewing.com/event/movie-on-the-lawn-shrek/
LOCATION:Red Leg Brewing Company\, 2323 Garden of the Gods Rd\, Colorado Springs\, CO\, 80907\, United States
CATEGORIES:Special Event
END:VEVENT
BEGIN:VEVENT
DTSTART;TZID=America/Denver:20240626T183000
DTEND;TZID=America/Denver:20240626T203000
DTSTAMP:20260425T041927
CREATED:20240610T221924Z
LAST-MODIFIED:20240610T222037Z
UID:37216-1719426600-1719433800@redlegbrewing.com
SUMMARY:Music Video Bingo
DESCRIPTION:Wednesdays are for Music Video BINGO! Win FREE BEER while watching music videos! Join the fun in the taproom from 6:30-8:30 pm – it’s free to play!Your Host will be playing a variety of classic & unique music videos from the last 60 years. You don’t need to know the title or artist to win so relax & have another pint! Just pay attention\, work that bingo dabber & drink on! Winners every round + Grand Prize!
URL:https://redlegbrewing.com/event/music-video-bingo-82/
LOCATION:Red Leg Brewing Company\, 2323 Garden of the Gods Rd\, Colorado Springs\, CO\, 80907\, United States
CATEGORIES:Ongoing Event
END:VEVENT
BEGIN:VEVENT
DTSTART;TZID=America/Denver:20240625T183000
DTEND;TZID=America/Denver:20240625T200000
DTSTAMP:20260425T041927
CREATED:20240521T194434Z
LAST-MODIFIED:20240521T194434Z
UID:18817-1719340200-1719345600@redlegbrewing.com
SUMMARY:Trivia Night
DESCRIPTION:LIVE Trivia with a variety of questions including Picture Mashups\, Name That Year\, Music & Movie clips\, Retro TV Theme Song\, and more!\nEvery Tuesday starting at 6:30 pm with your host Allie! Prizes for 1st\, 2nd and 3rd.
URL:https://redlegbrewing.com/event/trivia-night-110/
LOCATION:CO
CATEGORIES:Ongoing Event
END:VEVENT
BEGIN:VEVENT
DTSTART;TZID=America/Denver:20240622T163000
DTEND;TZID=America/Denver:20240622T193000
DTSTAMP:20260425T041927
CREATED:20240529T153401Z
LAST-MODIFIED:20240618T215148Z
UID:18940-1719073800-1719084600@redlegbrewing.com
SUMMARY:Live Music: Stevie P and the Hard Road
DESCRIPTION:Come join us for a live band on the lawn! \nStevie P. & The Hard Road is a blues/dirt rock band\, playing upbeat and swaying blues in a 3-piece setting! \n4:30-7:30 pm
URL:https://redlegbrewing.com/event/live-music-stevie-p-and-the-hard-road/
LOCATION:Red Leg Brewing Company\, 2323 Garden of the Gods Rd\, Colorado Springs\, CO\, 80907\, United States
CATEGORIES:Live Entertainment
END:VEVENT
END:VCALENDAR