BEGIN:VCALENDAR
VERSION:2.0
PRODID:-//Red Leg Brewing Company - ECPv6.15.18//NONSGML v1.0//EN
CALSCALE:GREGORIAN
METHOD:PUBLISH
X-WR-CALNAME:Red Leg Brewing Company
X-ORIGINAL-URL:https://redlegbrewing.com
X-WR-CALDESC:Events for Red Leg Brewing Company
REFRESH-INTERVAL;VALUE=DURATION:PT1H
X-Robots-Tag:noindex
X-PUBLISHED-TTL:PT1H
BEGIN:VTIMEZONE
TZID:America/Denver
BEGIN:DAYLIGHT
TZOFFSETFROM:-0700
TZOFFSETTO:-0600
TZNAME:MDT
DTSTART:20250309T090000
END:DAYLIGHT
BEGIN:STANDARD
TZOFFSETFROM:-0600
TZOFFSETTO:-0700
TZNAME:MST
DTSTART:20251102T080000
END:STANDARD
BEGIN:DAYLIGHT
TZOFFSETFROM:-0700
TZOFFSETTO:-0600
TZNAME:MDT
DTSTART:20260308T090000
END:DAYLIGHT
BEGIN:STANDARD
TZOFFSETFROM:-0600
TZOFFSETTO:-0700
TZNAME:MST
DTSTART:20261101T080000
END:STANDARD
BEGIN:DAYLIGHT
TZOFFSETFROM:-0700
TZOFFSETTO:-0600
TZNAME:MDT
DTSTART:20270314T090000
END:DAYLIGHT
BEGIN:STANDARD
TZOFFSETFROM:-0600
TZOFFSETTO:-0700
TZNAME:MST
DTSTART:20271107T080000
END:STANDARD
END:VTIMEZONE
BEGIN:VEVENT
DTSTART;TZID=America/Denver:20260506T183000
DTEND;TZID=America/Denver:20260506T203000
DTSTAMP:20260425T223459
CREATED:20260407T223139Z
LAST-MODIFIED:20260407T223139Z
UID:83049-1778092200-1778099400@redlegbrewing.com
SUMMARY:Music Video BINGO!
DESCRIPTION:Join us every Wednesday for Music Video BINGO to win FREE BEER while watching music videos! Join the fun in the taproom from 6:30-8:30 pm – it’s free to play. \nYour Host will be playing a variety of classic & unique music videos from the last 60 years. You don’t need to know the title or artist to win so relax & have another pint! Winners every round + Grand Prize!
URL:https://redlegbrewing.com/event/music-video-bingo-157/
LOCATION:Red Leg Brewing Company\, 2323 Garden of the Gods Rd\, Colorado Springs\, CO\, 80907\, United States
CATEGORIES:Ongoing Event
ATTACH;FMTTYPE=image/png:https://redlegbrewing.com/wp-content/uploads/2025/11/Music-Video-BINGO-400x400-1.png
END:VEVENT
BEGIN:VEVENT
DTSTART;TZID=America/Denver:20260509T153000
DTEND;TZID=America/Denver:20260509T183000
DTSTAMP:20260425T223459
CREATED:20260422T170512Z
LAST-MODIFIED:20260422T170512Z
UID:83176-1778340600-1778351400@redlegbrewing.com
SUMMARY:Live Music: Bloodline
DESCRIPTION:Kick off your Saturday afternoon with Bloodline bringing the energy live at Red Leg Brewing Company on Saturday\, May 9th from 3:30PM to 6:30PM! Catch three hours of great music in the perfect setting to unwind with friends and a cold drink in hand. Don’t miss it! \n*Bringing your own lawn chair is encouraged*
URL:https://redlegbrewing.com/event/live-music-bloodline-5/
LOCATION:Red Leg Brewing Company\, 2323 Garden of the Gods Rd\, Colorado Springs\, CO\, 80907\, United States
CATEGORIES:Live Entertainment
ATTACH;FMTTYPE=image/png:https://redlegbrewing.com/wp-content/uploads/2026/04/2026-Live-Music-Template-400x400-2-1.png
END:VEVENT
BEGIN:VEVENT
DTSTART;TZID=America/Denver:20260512T183000
DTEND;TZID=America/Denver:20260512T203000
DTSTAMP:20260425T223459
CREATED:20251230T232239Z
LAST-MODIFIED:20260303T182325Z
UID:82191-1778610600-1778617800@redlegbrewing.com
SUMMARY:Tuesday Trivia
DESCRIPTION:Test your knowledge every Tuesday at Red Leg with Tuesday Trivia Nights! Grab your team\, sip some beer\, and compete to win fun prizes. FREE to enter | Great beer and prizes (Same Game\, New Look)
URL:https://redlegbrewing.com/event/tuesday-trivia-20/
LOCATION:Red Leg Brewing Company\, 2323 Garden of the Gods Rd\, Colorado Springs\, CO\, 80907\, United States
CATEGORIES:Ongoing Event
ATTACH;FMTTYPE=image/png:https://redlegbrewing.com/wp-content/uploads/2025/12/Tuesday-Trivia-Website-1.png
END:VEVENT
BEGIN:VEVENT
DTSTART;TZID=America/Denver:20260513T183000
DTEND;TZID=America/Denver:20260513T203000
DTSTAMP:20260425T223459
CREATED:20251106T214255Z
LAST-MODIFIED:20260407T223517Z
UID:81626-1778697000-1778704200@redlegbrewing.com
SUMMARY:Music Video BINGO!
DESCRIPTION:Join us every Wednesday for Music Video BINGO to win FREE BEER while watching music videos! Join the fun in the taproom from 6:30-8:30 pm – it’s free to play. \nYour Host will be playing a variety of classic & unique music videos from the last 60 years. You don’t need to know the title or artist to win so relax & have another pint! Winners every round + Grand Prize!
URL:https://redlegbrewing.com/event/music-video-bingo-164/
LOCATION:Red Leg Brewing Company\, 2323 Garden of the Gods Rd\, Colorado Springs\, CO\, 80907\, United States
CATEGORIES:Ongoing Event
ATTACH;FMTTYPE=image/png:https://redlegbrewing.com/wp-content/uploads/2025/11/Music-Video-BINGO-400x400-1.png
END:VEVENT
BEGIN:VEVENT
DTSTART;TZID=America/Denver:20260516T153000
DTEND;TZID=America/Denver:20260516T183000
DTSTAMP:20260425T223459
CREATED:20260331T231048Z
LAST-MODIFIED:20260422T175337Z
UID:82963-1778945400-1778956200@redlegbrewing.com
SUMMARY:Live Music: Marcus Kruep
DESCRIPTION:Join us at Red Leg Brewing Company for an unforgettable afternoon with Marcus Kruep on Saturday\, May 16 from 3:30-6:30 PM! A rising country artist with Midwest roots\, Marcus brings high-energy performances that mix modern country sound with classic\, story-driven songwriting. From original songs to crowd-favorite covers\, he knows how to connect with every audience. Grab a cold brew\, kick back\, and enjoy the show! \n*Bringing your own lawn chair is encouraged* \n 
URL:https://redlegbrewing.com/event/live-music-marcus-kruep-8/
LOCATION:Red Leg Brewing Company\, 2323 Garden of the Gods Rd\, Colorado Springs\, CO\, 80907\, United States
CATEGORIES:Live Entertainment
ATTACH;FMTTYPE=image/png:https://redlegbrewing.com/wp-content/uploads/2026/03/MarcusKruepMay16.png
END:VEVENT
BEGIN:VEVENT
DTSTART;TZID=America/Denver:20260518T180000
DTEND;TZID=America/Denver:20260518T203000
DTSTAMP:20260425T223459
CREATED:20260422T184635Z
LAST-MODIFIED:20260422T184635Z
UID:83202-1779127200-1779136200@redlegbrewing.com
SUMMARY:Macrame Workshop: Tree of Life
DESCRIPTION:Let’s get knotty and make memories! Red Earth Knots will be teaching a Macrame workshop on Monday\, May 18th from 6:00PM to 8:30PM! \n\n\n\n\nThis class is perfect for the ambitious beginner; you will learn 3 knots while creating your masterpiece. \nIn this hands-on macrame class you’ll be working with high quality recycled cotton rope to create a piece of fiber art you’ll enjoy for years to come. \nOur Fiber Artist & Instructor Janel will provide group instruction as well as one on one guidance (as needed) so you leave with a complete project along with a sense of accomplishment and the desire to continue creating at home! \nYour ticket gets you knowledge\, experience and a seasonal project that you make yourself. \nSpace is limited to just 15 spots\, so get your tickets today! Open to participants 16+. \nALL SUPPLIES PROVIDED AT CLASS. Your project will be made of natural rope and there will be gold or silver hoops to choose from at class. Hoops measure 10 inches in diameter and final project length will vary based on how you choose to style your fringe. \nPlease arrive 10-15 minutes before class to order a drink and/or food then get settled in so you’re ready to start promptly at 6pm. \nRegister Here: https://www.eventbrite.com/e/macrame-tree-of-life-tickets-1987028605047?aff=oddtdtcreator
URL:https://redlegbrewing.com/event/macrame-workshop-tree-of-life-2/
LOCATION:Red Leg Brewing Company\, 2323 Garden of the Gods Rd\, Colorado Springs\, CO\, 80907\, United States
CATEGORIES:Special Event
ATTACH;FMTTYPE=image/png:https://redlegbrewing.com/wp-content/uploads/2026/04/Macrame-May-18-Website-IGFBX.png
END:VEVENT
BEGIN:VEVENT
DTSTART;TZID=America/Denver:20260519T183000
DTEND;TZID=America/Denver:20260519T203000
DTSTAMP:20260425T223459
CREATED:20251230T232350Z
LAST-MODIFIED:20260303T181435Z
UID:82193-1779215400-1779222600@redlegbrewing.com
SUMMARY:Tuesday Trivia
DESCRIPTION:Test your knowledge every Tuesday at Red Leg with Tuesday Trivia Nights! Grab your team\, sip some beer\, and compete to win fun prizes. FREE to enter | Great beer and prizes (Same Game\, New Look)
URL:https://redlegbrewing.com/event/tuesday-trivia-21/
LOCATION:Red Leg Brewing Company\, 2323 Garden of the Gods Rd\, Colorado Springs\, CO\, 80907\, United States
CATEGORIES:Ongoing Event
ATTACH;FMTTYPE=image/png:https://redlegbrewing.com/wp-content/uploads/2025/12/Tuesday-Trivia-Website-1.png
END:VEVENT
BEGIN:VEVENT
DTSTART;TZID=America/Denver:20260520T183000
DTEND;TZID=America/Denver:20260520T203000
DTSTAMP:20260425T223459
CREATED:20260407T224036Z
LAST-MODIFIED:20260407T224036Z
UID:83061-1779301800-1779309000@redlegbrewing.com
SUMMARY:Music Video BINGO!
DESCRIPTION:Join us every Wednesday for Music Video BINGO to win FREE BEER while watching music videos! Join the fun in the taproom from 6:30-8:30 pm – it’s free to play. \nYour Host will be playing a variety of classic & unique music videos from the last 60 years. You don’t need to know the title or artist to win so relax & have another pint! Winners every round + Grand Prize!
URL:https://redlegbrewing.com/event/music-video-bingo-159/
LOCATION:Red Leg Brewing Company\, 2323 Garden of the Gods Rd\, Colorado Springs\, CO\, 80907\, United States
CATEGORIES:Ongoing Event
ATTACH;FMTTYPE=image/png:https://redlegbrewing.com/wp-content/uploads/2025/11/Music-Video-BINGO-400x400-1.png
END:VEVENT
BEGIN:VEVENT
DTSTART;TZID=America/Denver:20260523T160000
DTEND;TZID=America/Denver:20260523T190000
DTSTAMP:20260425T223459
CREATED:20260409T180550Z
LAST-MODIFIED:20260409T180550Z
UID:83082-1779552000-1779562800@redlegbrewing.com
SUMMARY:Live Music: Rafiel & The Room Shakers
DESCRIPTION:Come and see Rafiel & The Room Shakers live at Red Leg Brewing Company on Saturday\, May 23 from 4pm – 7pm! Their blend of blues\, rock\, Motown\, jazz\, and soul will have you dancing\, grooving\, and feeling every note. Bringing your own lawn chair is encouraged!
URL:https://redlegbrewing.com/event/live-music-rafiel-the-room-shakers-7/
LOCATION:Red Leg Brewing Company\, 2323 Garden of the Gods Rd\, Colorado Springs\, CO\, 80907\, United States
CATEGORIES:Live Entertainment
ATTACH;FMTTYPE=image/png:https://redlegbrewing.com/wp-content/uploads/2026/04/2026-Live-Music-Template-400x400-2.png
END:VEVENT
BEGIN:VEVENT
DTSTART;TZID=America/Denver:20260525T080000
DTEND;TZID=America/Denver:20260525T120000
DTSTAMP:20260425T223459
CREATED:20260409T183511Z
LAST-MODIFIED:20260409T193239Z
UID:83085-1779696000-1779710400@redlegbrewing.com
SUMMARY:8th Annual Angel Run for Angels of America's Fallen
DESCRIPTION:Date: Monday\, May 25th\nTime: 8:00 AM – 12:00 PM \n5K | 10K | Fun Run | Virtual | In-Person \nLace up your running shoes and join Red Leg Brewing Company for our 8th Annual Angel Run at Red Leg\, where we come together to honor and support the families of fallen military heroes. All proceeds from this run go directly to Angels of America’s Fallen\, an incredible organization dedicated to helping children of fallen service members thrive through mentorship\, education\, and emotional support. In addition\, the Red Leg Brewers will be crafting up a special ‘Angel Run’ brew\, and a portion of the proceeds go directly to Angels of America’s Fallen.  \nWhether you’re a seasoned runner or just want to walk for a great cause\, this is a day to remember. After the race\, stick around to celebrate with us! Enjoy food\, drinks\, and live music while supporting an amazing cause. \nRegister to Run or Walk and enjoy a day of fun!  \nBecome an Angel Run sponsor!
URL:https://redlegbrewing.com/event/8th-annual-angel-run-for-angels-of-americas-fallen/
LOCATION:Red Leg Brewing Company\, 2323 Garden of the Gods Rd\, Colorado Springs\, CO\, 80907\, United States
CATEGORIES:Special Event
ATTACH;FMTTYPE=image/png:https://redlegbrewing.com/wp-content/uploads/2026/04/8th-Annual-Angel-Run.png
END:VEVENT
BEGIN:VEVENT
DTSTART;TZID=America/Denver:20260526T183000
DTEND;TZID=America/Denver:20260526T203000
DTSTAMP:20260425T223459
CREATED:20251230T232529Z
LAST-MODIFIED:20260303T182316Z
UID:82195-1779820200-1779827400@redlegbrewing.com
SUMMARY:Tuesday Trivia
DESCRIPTION:Join us every other Wednesday for Music Video BINGO to win FREE BEER while watching music videos! \nYour Host will be playing a variety of classic & unique music videos from the last 60 years. You don’t need to know the title or artist to win so relax & have another pint! Winners every round + Grand Prize!\nJoin the fun in the taproom from 6:30-8:30 pm – it’s free to play. \n(Same Game\, New Look)
URL:https://redlegbrewing.com/event/tuesday-trivia-22/
LOCATION:Red Leg Brewing Company\, 2323 Garden of the Gods Rd\, Colorado Springs\, CO\, 80907\, United States
CATEGORIES:Ongoing Event
ATTACH;FMTTYPE=image/png:https://redlegbrewing.com/wp-content/uploads/2025/12/Tuesday-Trivia-Website-1.png
END:VEVENT
BEGIN:VEVENT
DTSTART;TZID=America/Denver:20260527T183000
DTEND;TZID=America/Denver:20260527T203000
DTSTAMP:20260425T223459
CREATED:20251106T214603Z
LAST-MODIFIED:20260407T223434Z
UID:81630-1779906600-1779913800@redlegbrewing.com
SUMMARY:Music Video BINGO!
DESCRIPTION:Join us every Wednesday for Music Video BINGO to win FREE BEER while watching music videos! Join the fun in the taproom from 6:30-8:30 pm – it’s free to play. \nYour Host will be playing a variety of classic & unique music videos from the last 60 years. You don’t need to know the title or artist to win so relax & have another pint! Winners every round + Grand Prize!
URL:https://redlegbrewing.com/event/music-video-bingo-166/
LOCATION:Red Leg Brewing Company\, 2323 Garden of the Gods Rd\, Colorado Springs\, CO\, 80907\, United States
CATEGORIES:Ongoing Event
ATTACH;FMTTYPE=image/png:https://redlegbrewing.com/wp-content/uploads/2025/11/Music-Video-BINGO-400x400-1.png
END:VEVENT
BEGIN:VEVENT
DTSTART;TZID=America/Denver:20260602T183000
DTEND;TZID=America/Denver:20260602T203000
DTSTAMP:20260425T223459
CREATED:20251230T232659Z
LAST-MODIFIED:20260406T194127Z
UID:82197-1780425000-1780432200@redlegbrewing.com
SUMMARY:Tuesday Trivia
DESCRIPTION:Test your knowledge every Tuesday at Red Leg with Trivia Nights! Grab your team\, sip some beer\, and compete to win fun prizes. \nFREE to enter!\nGreat beer and prizes!
URL:https://redlegbrewing.com/event/tuesday-trivia-23/
LOCATION:Red Leg Brewing Company\, 2323 Garden of the Gods Rd\, Colorado Springs\, CO\, 80907\, United States
CATEGORIES:Ongoing Event
ATTACH;FMTTYPE=image/png:https://redlegbrewing.com/wp-content/uploads/2025/12/Tuesday-Trivia-Website.png
END:VEVENT
BEGIN:VEVENT
DTSTART;TZID=America/Denver:20260603T183000
DTEND;TZID=America/Denver:20260603T203000
DTSTAMP:20260425T223459
CREATED:20260407T224147Z
LAST-MODIFIED:20260407T224147Z
UID:83063-1780511400-1780518600@redlegbrewing.com
SUMMARY:Music Video BINGO!
DESCRIPTION:Join us every Wednesday for Music Video BINGO to win FREE BEER while watching music videos! Join the fun in the taproom from 6:30-8:30 pm – it’s free to play. \nYour Host will be playing a variety of classic & unique music videos from the last 60 years. You don’t need to know the title or artist to win so relax & have another pint! Winners every round + Grand Prize!
URL:https://redlegbrewing.com/event/music-video-bingo-161/
LOCATION:Red Leg Brewing Company\, 2323 Garden of the Gods Rd\, Colorado Springs\, CO\, 80907\, United States
CATEGORIES:Ongoing Event
ATTACH;FMTTYPE=image/png:https://redlegbrewing.com/wp-content/uploads/2025/11/Music-Video-BINGO-400x400-1.png
END:VEVENT
BEGIN:VEVENT
DTSTART;TZID=America/Denver:20260607T110000
DTEND;TZID=America/Denver:20260607T150000
DTSTAMP:20260425T223459
CREATED:20260422T174307Z
LAST-MODIFIED:20260422T174622Z
UID:83183-1780830000-1780844400@redlegbrewing.com
SUMMARY:Makers Market
DESCRIPTION:Red Leg Brewing Company Makers Markets feature a rotating selection of local artists\, bakers\, makers\, and farmers. A fun combination of farm and art market! Head on over to the brewery for our outdoor market and support small local businesses all in one convenient stop! \nFirst Sunday every month from May – October 11:00 AM – 3:00 PM \nRed Leg Brewing Makers Markets feature a rotating selection of local artists\, bakers\, makers\, and farmers. A fun combination of farm and art market! Due to high interest and a large number of applications\, approved vendors will receive a few market dates\, and not all 6 markets.
URL:https://redlegbrewing.com/event/makers-market-6/
LOCATION:Red Leg Brewing Company\, 2323 Garden of the Gods Rd\, Colorado Springs\, CO\, 80907\, United States
CATEGORIES:Ongoing Event,Special Event
ATTACH;FMTTYPE=image/png:https://redlegbrewing.com/wp-content/uploads/2026/04/June.png
END:VEVENT
BEGIN:VEVENT
DTSTART;TZID=America/Denver:20260609T183000
DTEND;TZID=America/Denver:20260609T203000
DTSTAMP:20260425T223459
CREATED:20251230T232823Z
LAST-MODIFIED:20260406T194219Z
UID:82199-1781029800-1781037000@redlegbrewing.com
SUMMARY:Tuesday Trivia
DESCRIPTION:Test your knowledge every Tuesday at Red Leg with Trivia Nights! Grab your team\, sip some beer\, and compete to win fun prizes. \nFREE to enter!\nGreat beer and prizes!
URL:https://redlegbrewing.com/event/tuesday-trivia-24/
LOCATION:Red Leg Brewing Company\, 2323 Garden of the Gods Rd\, Colorado Springs\, CO\, 80907\, United States
CATEGORIES:Ongoing Event
ATTACH;FMTTYPE=image/png:https://redlegbrewing.com/wp-content/uploads/2025/12/Tuesday-Trivia-Website.png
END:VEVENT
BEGIN:VEVENT
DTSTART;TZID=America/Denver:20260610T183000
DTEND;TZID=America/Denver:20260610T203000
DTSTAMP:20260425T223459
CREATED:20251230T233558Z
LAST-MODIFIED:20260407T223342Z
UID:82207-1781116200-1781123400@redlegbrewing.com
SUMMARY:Music Video BINGO!
DESCRIPTION:Join us every Wednesday for Music Video BINGO to win FREE BEER while watching music videos! Join the fun in the taproom from 6:30-8:30 pm – it’s free to play. \nYour Host will be playing a variety of classic & unique music videos from the last 60 years. You don’t need to know the title or artist to win so relax & have another pint! Winners every round + Grand Prize!
URL:https://redlegbrewing.com/event/music-video-bingo-144/
LOCATION:Red Leg Brewing Company\, 2323 Garden of the Gods Rd\, Colorado Springs\, CO\, 80907\, United States
CATEGORIES:Ongoing Event
ATTACH;FMTTYPE=image/png:https://redlegbrewing.com/wp-content/uploads/2025/11/Music-Video-BINGO-400x400-1.png
END:VEVENT
BEGIN:VEVENT
DTSTART;TZID=America/Denver:20260616T183000
DTEND;TZID=America/Denver:20260616T203000
DTSTAMP:20260425T223459
CREATED:20251230T232924Z
LAST-MODIFIED:20260406T194312Z
UID:82201-1781634600-1781641800@redlegbrewing.com
SUMMARY:Tuesday Trivia
DESCRIPTION:Test your knowledge every Tuesday at Red Leg with Trivia Nights! Grab your team\, sip some beer\, and compete to win fun prizes. \nFREE to enter!\nGreat beer and prizes!
URL:https://redlegbrewing.com/event/tuesday-trivia-25/
LOCATION:Red Leg Brewing Company\, 2323 Garden of the Gods Rd\, Colorado Springs\, CO\, 80907\, United States
CATEGORIES:Ongoing Event
ATTACH;FMTTYPE=image/png:https://redlegbrewing.com/wp-content/uploads/2025/12/Tuesday-Trivia-Website.png
END:VEVENT
BEGIN:VEVENT
DTSTART;TZID=America/Denver:20260617T183000
DTEND;TZID=America/Denver:20260617T203000
DTSTAMP:20260425T223459
CREATED:20260407T224241Z
LAST-MODIFIED:20260407T224241Z
UID:83065-1781721000-1781728200@redlegbrewing.com
SUMMARY:Music Video BINGO!
DESCRIPTION:Join us every Wednesday for Music Video BINGO to win FREE BEER while watching music videos! Join the fun in the taproom from 6:30-8:30 pm – it’s free to play. \nYour Host will be playing a variety of classic & unique music videos from the last 60 years. You don’t need to know the title or artist to win so relax & have another pint! Winners every round + Grand Prize!
URL:https://redlegbrewing.com/event/music-video-bingo-163/
LOCATION:Red Leg Brewing Company\, 2323 Garden of the Gods Rd\, Colorado Springs\, CO\, 80907\, United States
CATEGORIES:Ongoing Event
ATTACH;FMTTYPE=image/png:https://redlegbrewing.com/wp-content/uploads/2025/11/Music-Video-BINGO-400x400-1.png
END:VEVENT
BEGIN:VEVENT
DTSTART;TZID=America/Denver:20260620T160000
DTEND;TZID=America/Denver:20260620T190000
DTSTAMP:20260425T223459
CREATED:20260303T164227Z
LAST-MODIFIED:20260303T164418Z
UID:82665-1781971200-1781982000@redlegbrewing.com
SUMMARY:Live Music: Marcus Kruep Band
DESCRIPTION:Enjoy the Marcus Kruep Band performing at Red Leg Brewing Company Live!\nCatch live music all summer! Watch our Facebook calendar or visit redlegbrewing.com/events.  
URL:https://redlegbrewing.com/event/82665/
LOCATION:Red Leg Brewing Company\, 2323 Garden of the Gods Rd\, Colorado Springs\, CO\, 80907\, United States
CATEGORIES:Live Entertainment,Special Event
ATTACH;FMTTYPE=image/png:https://redlegbrewing.com/wp-content/uploads/2026/03/4.png
END:VEVENT
BEGIN:VEVENT
DTSTART;TZID=America/Denver:20260623T183000
DTEND;TZID=America/Denver:20260623T203000
DTSTAMP:20260425T223459
CREATED:20251230T233050Z
LAST-MODIFIED:20260406T194355Z
UID:82203-1782239400-1782246600@redlegbrewing.com
SUMMARY:Tuesday Trivia
DESCRIPTION:Test your knowledge every Tuesday at Red Leg with Trivia Nights! Grab your team\, sip some beer\, and compete to win fun prizes. \nFREE to enter!\nGreat beer and prizes!
URL:https://redlegbrewing.com/event/tuesday-trivia-26/
LOCATION:Red Leg Brewing Company\, 2323 Garden of the Gods Rd\, Colorado Springs\, CO\, 80907\, United States
CATEGORIES:Ongoing Event
ATTACH;FMTTYPE=image/png:https://redlegbrewing.com/wp-content/uploads/2025/12/Tuesday-Trivia-Website.png
END:VEVENT
BEGIN:VEVENT
DTSTART;TZID=America/Denver:20260624T183000
DTEND;TZID=America/Denver:20260624T203000
DTSTAMP:20260425T223459
CREATED:20251230T233704Z
LAST-MODIFIED:20260407T223303Z
UID:82209-1782325800-1782333000@redlegbrewing.com
SUMMARY:Music Video BINGO!
DESCRIPTION:Join us every Wednesday for Music Video BINGO to win FREE BEER while watching music videos! Join the fun in the taproom from 6:30-8:30 pm – it’s free to play.\nYour Host will be playing a variety of classic & unique music videos from the last 60 years. You don’t need to know the title or artist to win so relax & have another pint! Winners every round + Grand Prize!
URL:https://redlegbrewing.com/event/music-video-bingo-147/
LOCATION:Red Leg Brewing Company\, 2323 Garden of the Gods Rd\, Colorado Springs\, CO\, 80907\, United States
CATEGORIES:Ongoing Event
ATTACH;FMTTYPE=image/png:https://redlegbrewing.com/wp-content/uploads/2025/11/Music-Video-BINGO-400x400-1.png
END:VEVENT
BEGIN:VEVENT
DTSTART;TZID=America/Denver:20260630T183000
DTEND;TZID=America/Denver:20260630T203000
DTSTAMP:20260425T223459
CREATED:20251230T233206Z
LAST-MODIFIED:20260406T194452Z
UID:82205-1782844200-1782851400@redlegbrewing.com
SUMMARY:Tuesday Trivia
DESCRIPTION:Test your knowledge every Tuesday at Red Leg with Trivia Nights! Grab your team\, sip some beer\, and compete to win fun prizes. \nFREE to enter!\nGreat beer and prizes!
URL:https://redlegbrewing.com/event/tuesday-trivia-27/
LOCATION:Red Leg Brewing Company\, 2323 Garden of the Gods Rd\, Colorado Springs\, CO\, 80907\, United States
CATEGORIES:Ongoing Event
ATTACH;FMTTYPE=image/png:https://redlegbrewing.com/wp-content/uploads/2025/12/Tuesday-Trivia-Website.png
END:VEVENT
BEGIN:VEVENT
DTSTART;TZID=America/Denver:20260701T183000
DTEND;TZID=America/Denver:20260701T203000
DTSTAMP:20260425T223459
CREATED:20260407T224345Z
LAST-MODIFIED:20260407T224345Z
UID:83067-1782930600-1782937800@redlegbrewing.com
SUMMARY:Music Video BINGO!
DESCRIPTION:Join us every Wednesday for Music Video BINGO to win FREE BEER while watching music videos! Join the fun in the taproom from 6:30-8:30 pm – it’s free to play. \nYour Host will be playing a variety of classic & unique music videos from the last 60 years. You don’t need to know the title or artist to win so relax & have another pint! Winners every round + Grand Prize!
URL:https://redlegbrewing.com/event/music-video-bingo-165/
LOCATION:Red Leg Brewing Company\, 2323 Garden of the Gods Rd\, Colorado Springs\, CO\, 80907\, United States
CATEGORIES:Ongoing Event
ATTACH;FMTTYPE=image/png:https://redlegbrewing.com/wp-content/uploads/2025/11/Music-Video-BINGO-400x400-1.png
END:VEVENT
BEGIN:VEVENT
DTSTART;TZID=America/Denver:20260703T170000
DTEND;TZID=America/Denver:20260703T200000
DTSTAMP:20260425T223459
CREATED:20260303T174950Z
LAST-MODIFIED:20260303T180749Z
UID:82673-1783098000-1783108800@redlegbrewing.com
SUMMARY:Live Music: School of Rock
DESCRIPTION:You’ve seen the movie\, now enjoy music from actual School of Rock students. Enjoy the School of Rock performing live at Red Leg Brewing Company!\nCatch live music all summer! Watch our Facebook calendar or visit redlegbrewing.com/events. 
URL:https://redlegbrewing.com/event/live-music-school-of-rock-3/
LOCATION:Red Leg Brewing Company\, 2323 Garden of the Gods Rd\, Colorado Springs\, CO\, 80907\, United States
CATEGORIES:Live Entertainment,Special Event
ATTACH;FMTTYPE=image/png:https://redlegbrewing.com/wp-content/uploads/2026/03/2026-Live-Music-Template-400x400-1.png
END:VEVENT
BEGIN:VEVENT
DTSTART;TZID=America/Denver:20260705T113000
DTEND;TZID=America/Denver:20260705T150000
DTSTAMP:20260425T223459
CREATED:20260422T174721Z
LAST-MODIFIED:20260422T174721Z
UID:83188-1783251000-1783263600@redlegbrewing.com
SUMMARY:Makers Market
DESCRIPTION:Red Leg Brewing Company Makers Markets feature a rotating selection of local artists\, bakers\, makers\, and farmers. A fun combination of farm and art market! Head on over to the brewery for our outdoor market and support small local businesses all in one convenient stop! \nFirst Sunday every month from May – October 11:00 AM – 3:00 PM \nRed Leg Brewing Makers Markets feature a rotating selection of local artists\, bakers\, makers\, and farmers. A fun combination of farm and art market! Due to high interest and a large number of applications\, approved vendors will receive a few market dates\, and not all 6 markets.
URL:https://redlegbrewing.com/event/makers-market-7/
LOCATION:Red Leg Brewing Company\, 2323 Garden of the Gods Rd\, Colorado Springs\, CO\, 80907\, United States
CATEGORIES:Ongoing Event,Special Event
ATTACH;FMTTYPE=image/png:https://redlegbrewing.com/wp-content/uploads/2026/04/July.png
END:VEVENT
BEGIN:VEVENT
DTSTART;TZID=America/Denver:20260707T183000
DTEND;TZID=America/Denver:20260707T203000
DTSTAMP:20260425T223459
CREATED:20260129T215306Z
LAST-MODIFIED:20260406T194538Z
UID:82407-1783449000-1783456200@redlegbrewing.com
SUMMARY:Tuesday Trivia
DESCRIPTION:Test your knowledge every Tuesday at Red Leg with Trivia Nights! Grab your team\, sip some beer\, and compete to win fun prizes. \nFREE to enter!\nGreat beer and prizes!
URL:https://redlegbrewing.com/event/tuesday-trivia-28/
LOCATION:Red Leg Brewing Company\, 2323 Garden of the Gods Rd\, Colorado Springs\, CO\, 80907\, United States
CATEGORIES:Ongoing Event
ATTACH;FMTTYPE=image/png:https://redlegbrewing.com/wp-content/uploads/2025/12/Tuesday-Trivia-Website.png
END:VEVENT
BEGIN:VEVENT
DTSTART;TZID=America/Denver:20260708T183000
DTEND;TZID=America/Denver:20260708T203000
DTSTAMP:20260425T223459
CREATED:20260129T215045Z
LAST-MODIFIED:20260407T223233Z
UID:82403-1783535400-1783542600@redlegbrewing.com
SUMMARY:Music Video BINGO!
DESCRIPTION:Join us every Wednesday for Music Video BINGO to win FREE BEER while watching music videos! Join the fun in the taproom from 6:30-8:30 pm – it’s free to play. \nYour Host will be playing a variety of classic & unique music videos from the last 60 years. You don’t need to know the title or artist to win so relax & have another pint! Winners every round + Grand Prize!
URL:https://redlegbrewing.com/event/music-video-bingo-149/
LOCATION:Red Leg Brewing Company\, 2323 Garden of the Gods Rd\, Colorado Springs\, CO\, 80907\, United States
CATEGORIES:Ongoing Event
ATTACH;FMTTYPE=image/png:https://redlegbrewing.com/wp-content/uploads/2025/11/Music-Video-BINGO-400x400-1.png
END:VEVENT
BEGIN:VEVENT
DTSTART;TZID=America/Denver:20260711T160000
DTEND;TZID=America/Denver:20260711T190000
DTSTAMP:20260425T223459
CREATED:20260303T164724Z
LAST-MODIFIED:20260303T164724Z
UID:82669-1783785600-1783796400@redlegbrewing.com
SUMMARY:Live Music: SofaKillers
DESCRIPTION:Enjoy the SofaKillers performing live at Red Leg Brewing Company!\nCatch live music all summer! Watch our Facebook calendar or visit redlegbrewing.com/events.
URL:https://redlegbrewing.com/event/live-music-sofakillers-4/
LOCATION:Red Leg Brewing Company\, 2323 Garden of the Gods Rd\, Colorado Springs\, CO\, 80907\, United States
CATEGORIES:Live Entertainment,Special Event
ATTACH;FMTTYPE=image/png:https://redlegbrewing.com/wp-content/uploads/2026/03/6.png
END:VEVENT
BEGIN:VEVENT
DTSTART;TZID=America/Denver:20260714T183000
DTEND;TZID=America/Denver:20260714T203000
DTSTAMP:20260425T223459
CREATED:20260129T215403Z
LAST-MODIFIED:20260406T194632Z
UID:82409-1784053800-1784061000@redlegbrewing.com
SUMMARY:Tuesday Trivia
DESCRIPTION:Test your knowledge every Tuesday at Red Leg with Trivia Nights! Grab your team\, sip some beer\, and compete to win fun prizes. \nFREE to enter!\nGreat beer and prizes!
URL:https://redlegbrewing.com/event/tuesday-trivia-29/
LOCATION:Red Leg Brewing Company\, 2323 Garden of the Gods Rd\, Colorado Springs\, CO\, 80907\, United States
CATEGORIES:Ongoing Event
ATTACH;FMTTYPE=image/png:https://redlegbrewing.com/wp-content/uploads/2025/12/Tuesday-Trivia-Website.png
END:VEVENT
END:VCALENDAR