BEGIN:VCALENDAR
VERSION:2.0
PRODID:-//Red Leg Brewing Company - ECPv6.15.18//NONSGML v1.0//EN
CALSCALE:GREGORIAN
METHOD:PUBLISH
X-WR-CALNAME:Red Leg Brewing Company
X-ORIGINAL-URL:https://redlegbrewing.com
X-WR-CALDESC:Events for Red Leg Brewing Company
REFRESH-INTERVAL;VALUE=DURATION:PT1H
X-Robots-Tag:noindex
X-PUBLISHED-TTL:PT1H
BEGIN:VTIMEZONE
TZID:America/Denver
BEGIN:DAYLIGHT
TZOFFSETFROM:-0700
TZOFFSETTO:-0600
TZNAME:MDT
DTSTART:20220313T090000
END:DAYLIGHT
BEGIN:STANDARD
TZOFFSETFROM:-0600
TZOFFSETTO:-0700
TZNAME:MST
DTSTART:20221106T080000
END:STANDARD
BEGIN:DAYLIGHT
TZOFFSETFROM:-0700
TZOFFSETTO:-0600
TZNAME:MDT
DTSTART:20230312T090000
END:DAYLIGHT
BEGIN:STANDARD
TZOFFSETFROM:-0600
TZOFFSETTO:-0700
TZNAME:MST
DTSTART:20231105T080000
END:STANDARD
BEGIN:DAYLIGHT
TZOFFSETFROM:-0700
TZOFFSETTO:-0600
TZNAME:MDT
DTSTART:20240310T090000
END:DAYLIGHT
BEGIN:STANDARD
TZOFFSETFROM:-0600
TZOFFSETTO:-0700
TZNAME:MST
DTSTART:20241103T080000
END:STANDARD
END:VTIMEZONE
BEGIN:VEVENT
DTSTART;TZID=America/Denver:20230505T153000
DTEND;TZID=America/Denver:20230505T173000
DTSTAMP:20260425T214244
CREATED:20230419T181315Z
LAST-MODIFIED:20230419T181348Z
UID:13747-1683300600-1683307800@redlegbrewing.com
SUMMARY:Tasting at Fort Carson Class 6
DESCRIPTION:Join Dave from 3:30-5:30 pm for a craft beer tasting! Stop by to say hi\, enjoy a taste of our local\, award-winning beer\, and you’ll have a chance to get swag!
URL:https://redlegbrewing.com/event/tasting-at-fort-carson-class-6-5/
LOCATION:CO
CATEGORIES:Sales Event
END:VEVENT
BEGIN:VEVENT
DTSTART;TZID=America/Denver:20230504T170000
DTEND;TZID=America/Denver:20230504T200000
DTSTAMP:20260425T214244
CREATED:20230418T180652Z
LAST-MODIFIED:20230418T180803Z
UID:13699-1683219600-1683230400@redlegbrewing.com
SUMMARY:Craft for a Cause: UpaDowna
DESCRIPTION:Craft for a Cause nights are held every Thursday to give our community’s non-profits a way to raise money for their causes. We provide the venue for the organization to connect with the community over a good beer as well as raise funds for their group. Red Leg contributes $1 of each RLBC pints sold to the sponsored group on Craft for a Cause Thursdays.\n\n\nMay Non-Profits:\nMay 4 UpaDowna\nhttps://www.upadowna.org\n\nMay 11 Guardians of Palmer Park\nhttps://gopalmerpark.org\n\nMay 18 Nature’s Educators\nhttps://www.natureseducators.org\n\nMay 25 Rocky Mt Highway Music Collab\nhttps://rockymountainhighway.org\n\nIf you are a representative for an organization and would like to become a sponsored organization\, please fill out our donation request form on our website and we will get in touch soon!
URL:https://redlegbrewing.com/event/craft-for-a-cause-upadowna/
LOCATION:Red Leg Brewing Company\, 2323 Garden of the Gods Rd\, Colorado Springs\, CO\, 80907\, United States
CATEGORIES:Ongoing Event
END:VEVENT
BEGIN:VEVENT
DTSTART;TZID=America/Denver:20230504T153000
DTEND;TZID=America/Denver:20230504T173000
DTSTAMP:20260425T214244
CREATED:20230419T181220Z
LAST-MODIFIED:20230419T181302Z
UID:13745-1683214200-1683221400@redlegbrewing.com
SUMMARY:Tasting at USAFA Express Class 6
DESCRIPTION:Join Dave from 3:30-5:30 pm for a craft beer tasting! Stop by to say hi\, enjoy a taste of our local\, award-winning beer\, and you’ll have a chance to get swag!
URL:https://redlegbrewing.com/event/tasting-at-usafa-express-class-6-2/
LOCATION:CO
CATEGORIES:Sales Event
END:VEVENT
BEGIN:VEVENT
DTSTART;TZID=America/Denver:20230503T183000
DTEND;TZID=America/Denver:20230503T203000
DTSTAMP:20260425T214244
CREATED:20230223T232855Z
LAST-MODIFIED:20230223T232855Z
UID:12496-1683138600-1683145800@redlegbrewing.com
SUMMARY:Music Video BINGO
DESCRIPTION:Win FREE BEER while watching music videos!! Winners every round + Grand Prize!\nYour Host\, Allie\, will be playing a variety of classic and unique music videos from the last 60 years. You don’t need to know the title or artist to win so you can relax and have another pint! Just pay attention\, work that bingo dabber and drink on!
URL:https://redlegbrewing.com/event/music-video-bingo-24/
LOCATION:Red Leg Brewing Company\, 2323 Garden of the Gods Rd\, Colorado Springs\, CO\, 80907\, United States
CATEGORIES:Ongoing Event
END:VEVENT
BEGIN:VEVENT
DTSTART;TZID=America/Denver:20230503T173000
DTEND;TZID=America/Denver:20230503T200000
DTSTAMP:20260425T214244
CREATED:20230224T000123Z
LAST-MODIFIED:20230501T222926Z
UID:12546-1683135000-1683144000@redlegbrewing.com
SUMMARY:Putts & Pints Disc Golf Putting Challenge feat. Disc Revolution
DESCRIPTION:Join us for a Disc Golf 9-hole putting challenge Sponsored by Disc Revolution on Wednesday\, May 3rd! Check in as early as 5:30 pm and start your rounds anytime between 6- 7:30 pm to be finished with both rounds by 8:30 pm.\n\n$5 entry fee with 100% of the entry fee is put into the winner’s pot! Prizes for men’s and women’s Pro and Am divisions. Juniors will receive one free putter with entry. Winners will be announced the next day on the Disc Revolution page.\n\nMore details to come! Event is subject to change due to weather.
URL:https://redlegbrewing.com/event/putts-pints-disc-golf-putting-challenge-feat-disc-revolution-2/
LOCATION:Red Leg Brewing Company\, 2323 Garden of the Gods Rd\, Colorado Springs\, CO\, 80907\, United States
CATEGORIES:Special Event
END:VEVENT
BEGIN:VEVENT
DTSTART;TZID=America/Denver:20230502T183000
DTEND;TZID=America/Denver:20230502T203000
DTSTAMP:20260425T214244
CREATED:20230223T234355Z
LAST-MODIFIED:20230223T234355Z
UID:12523-1683052200-1683059400@redlegbrewing.com
SUMMARY:Trivia Night
DESCRIPTION:LIVE Trivia with a variety of questions including Picture Mashups\, Name That Year\, Music & Movie clips\, Retro TV Theme Song\, and more!\nEvery Tuesday starting at 6:30 pm with your host Allie! Prizes for 1st\, 2nd and 3rd.
URL:https://redlegbrewing.com/event/trivia-night-54/
LOCATION:Red Leg Brewing Company\, 2323 Garden of the Gods Rd\, Colorado Springs\, CO\, 80907\, United States
CATEGORIES:Ongoing Event
END:VEVENT
BEGIN:VEVENT
DTSTART;TZID=America/Denver:20230430T120000
DTEND;TZID=America/Denver:20230430T150000
DTSTAMP:20260425T214244
CREATED:20230424T135021Z
LAST-MODIFIED:20230424T135215Z
UID:13812-1682856000-1682866800@redlegbrewing.com
SUMMARY:Nature's Educators Exhibit
DESCRIPTION:Join Nature’s Educators at Red Leg Brewing from 12-3 to meet and learn about some of our animal ambassadors! They will be raising funds to help care for their ambassadors as well as continue offering educational programming. You’ll have the chance to see them up close and personal\, but please\, no touching! They like their space\, however\, you are welcome to take their pictures and ask lots of questions!
URL:https://redlegbrewing.com/event/natures-educators-exhibit/
LOCATION:Red Leg Brewing Company\, 2323 Garden of the Gods Rd\, Colorado Springs\, CO\, 80907\, United States
CATEGORIES:Special Event
END:VEVENT
BEGIN:VEVENT
DTSTART;TZID=America/Denver:20230429T130000
DTEND;TZID=America/Denver:20230429T150000
DTSTAMP:20260425T214244
CREATED:20230330T175108Z
LAST-MODIFIED:20230330T175518Z
UID:13315-1682773200-1682780400@redlegbrewing.com
SUMMARY:Tasting at Klix Wine & Spirits
DESCRIPTION:Join our sales team from 1-3 pm for a craft beer tasting! Stop by to say hi\, enjoy a taste of our local\, award-winning beer\, and you’ll have a chance to get swag! \n6945 Mesa Ridge Pkwy suite 100\, Fountain\, CO 80817
URL:https://redlegbrewing.com/event/craft-beer-tasting-at-klix-wine-spirits/
LOCATION:CO
CATEGORIES:Sales Event
END:VEVENT
BEGIN:VEVENT
DTSTART;TZID=America/Denver:20230428T123000
DTEND;TZID=America/Denver:20230428T143000
DTSTAMP:20260425T214244
CREATED:20230419T181114Z
LAST-MODIFIED:20230419T181213Z
UID:13743-1682685000-1682692200@redlegbrewing.com
SUMMARY:Tasting at Buckley Space Force Base Exchange
DESCRIPTION:Join Dave from 12:30-2:30 pm for a craft beer tasting! Stop by to say hi\, enjoy a taste of our local\, award-winning beer\, and you’ll have a chance to get swag!
URL:https://redlegbrewing.com/event/tasting-at-buckley-space-force-base-exchange-2/
LOCATION:CO
CATEGORIES:Sales Event
END:VEVENT
BEGIN:VEVENT
DTSTART;TZID=America/Denver:20230427T153000
DTEND;TZID=America/Denver:20230427T173000
DTSTAMP:20260425T214244
CREATED:20230419T180929Z
LAST-MODIFIED:20230419T181047Z
UID:13741-1682609400-1682616600@redlegbrewing.com
SUMMARY:Tasting at Peterson Space Force Base Class 6
DESCRIPTION:Join Dave from 3:30-5:30 pm for a craft beer tasting! Stop by to say hi\, enjoy a taste of our local\, award-winning beer\, and you’ll have a chance to get swag!
URL:https://redlegbrewing.com/event/tasting-at-peterson-space-force-base-class-6/
LOCATION:CO
CATEGORIES:Sales Event
END:VEVENT
BEGIN:VEVENT
DTSTART;TZID=America/Denver:20230426T080000
DTEND;TZID=America/Denver:20230426T170000
DTSTAMP:20260425T214244
CREATED:20230223T232756Z
LAST-MODIFIED:20230223T232756Z
UID:12494-1682496000-1682528400@redlegbrewing.com
SUMMARY:Music Video BINGO
DESCRIPTION:Win FREE BEER while watching music videos!! Winners every round + Grand Prize!\nYour Host\, Allie\, will be playing a variety of classic and unique music videos from the last 60 years. You don’t need to know the title or artist to win so you can relax and have another pint! Just pay attention\, work that bingo dabber and drink on!
URL:https://redlegbrewing.com/event/music-video-bingo-23/
LOCATION:Red Leg Brewing Company\, 2323 Garden of the Gods Rd\, Colorado Springs\, CO\, 80907\, United States
CATEGORIES:Ongoing Event
END:VEVENT
BEGIN:VEVENT
DTSTART;TZID=America/Denver:20230425T183000
DTEND;TZID=America/Denver:20230425T203000
DTSTAMP:20260425T214244
CREATED:20230223T234317Z
LAST-MODIFIED:20230223T234317Z
UID:12521-1682447400-1682454600@redlegbrewing.com
SUMMARY:Trivia Night
DESCRIPTION:LIVE Trivia with a variety of questions including Picture Mashups\, Name That Year\, Music & Movie clips\, Retro TV Theme Song\, and more!\nEvery Tuesday starting at 6:30 pm with your host Allie! Prizes for 1st\, 2nd and 3rd.
URL:https://redlegbrewing.com/event/trivia-night-53/
LOCATION:Red Leg Brewing Company\, 2323 Garden of the Gods Rd\, Colorado Springs\, CO\, 80907\, United States
CATEGORIES:Ongoing Event
END:VEVENT
BEGIN:VEVENT
DTSTART;TZID=America/Denver:20230424T180000
DTEND;TZID=America/Denver:20230424T200000
DTSTAMP:20260425T214244
CREATED:20230413T161457Z
LAST-MODIFIED:20230418T182259Z
UID:13581-1682359200-1682366400@redlegbrewing.com
SUMMARY:Shibori Tote Bag Workshop by MakeJoy Creative
DESCRIPTION:Join us for a creative workshop to learn the art of shibori thread binding & dyeing! \nThis workshop is $45 and includes all tools/materials that you will need to complete your hand-dyed tote bag: \n* 100% cotton tote bag\n* Thread and needle for binding\n* Scissors\n* Latex-free nitrile gloves\n* Indigo dye bath \n*This class does not include an apron. Please wear something you don’t mind getting messy in! \n**** Please arrive a little early to buy your drink and be ready to start the workshop at 12 pm \nBeginner friendly and no experience is necessary. \nPlease bring a copy of your Etsy receipt to the workshop as proof of your registration. \nWorkshop tickets are non-refundable. Please double-check your calendar before purchasing your ticket as there are absolutely no refunds. In the event you cannot make the workshop\, you are welcome to pass your ticket to a friend. Please notify us of any changes to ticket holders.
URL:https://redlegbrewing.com/event/shibori-tote-bag-workshop/
LOCATION:Red Leg Brewing Company\, 2323 Garden of the Gods Rd\, Colorado Springs\, CO\, 80907\, United States
END:VEVENT
BEGIN:VEVENT
DTSTART;TZID=America/Denver:20230423T183000
DTEND;TZID=America/Denver:20230423T203000
DTSTAMP:20260425T214244
CREATED:20230413T161712Z
LAST-MODIFIED:20230413T161759Z
UID:13583-1682274600-1682281800@redlegbrewing.com
SUMMARY:SOLD OUT Macrame Workshop: Floral Wall Hanger
DESCRIPTION:Make this beginner-friendly project that’s perfect to display fresh or dried flowers! Can also hold your favorite potted plant if that’s your thing! Learn 3 commonly used macrame knots while creating these beautiful pieces of functional fiber art. Events at this venue always sell out so don’t delay in booking tickets
URL:https://redlegbrewing.com/event/macrame-workshop-floral-wall-hanger/
LOCATION:Red Leg Brewing Company\, 2323 Garden of the Gods Rd\, Colorado Springs\, CO\, 80907\, United States
CATEGORIES:Special Event
END:VEVENT
BEGIN:VEVENT
DTSTART;TZID=America/Denver:20230421T120000
DTEND;TZID=America/Denver:20230421T230000
DTSTAMP:20260425T214244
CREATED:20230418T181305Z
LAST-MODIFIED:20230418T181335Z
UID:13707-1682078400-1682118000@redlegbrewing.com
SUMMARY:Tangerine Seltzer Release
DESCRIPTION:Join us in the taproom on Friday\, April 21st for the release of our Tangerine Seltzer!
URL:https://redlegbrewing.com/event/tangerine-seltzer-release/
LOCATION:Red Leg Brewing Company\, 2323 Garden of the Gods Rd\, Colorado Springs\, CO\, 80907\, United States
CATEGORIES:Ongoing Event
END:VEVENT
BEGIN:VEVENT
DTSTART;TZID=America/Denver:20230419T183000
DTEND;TZID=America/Denver:20230419T203000
DTSTAMP:20260425T214244
CREATED:20230223T232646Z
LAST-MODIFIED:20230223T232646Z
UID:12492-1681929000-1681936200@redlegbrewing.com
SUMMARY:Music Video BINGO
DESCRIPTION:Win FREE BEER while watching music videos!! Winners every round + Grand Prize!\nYour Host\, Allie\, will be playing a variety of classic and unique music videos from the last 60 years. You don’t need to know the title or artist to win so you can relax and have another pint! Just pay attention\, work that bingo dabber and drink on!
URL:https://redlegbrewing.com/event/music-video-bingo-22/
LOCATION:Red Leg Brewing Company\, 2323 Garden of the Gods Rd\, Colorado Springs\, CO\, 80907\, United States
CATEGORIES:Ongoing Event
END:VEVENT
BEGIN:VEVENT
DTSTART;TZID=America/Denver:20230418T183000
DTEND;TZID=America/Denver:20230418T203000
DTSTAMP:20260425T214244
CREATED:20230223T234210Z
LAST-MODIFIED:20230223T234210Z
UID:12519-1681842600-1681849800@redlegbrewing.com
SUMMARY:Trivia Night
DESCRIPTION:LIVE Trivia with a variety of questions including Picture Mashups\, Name That Year\, Music & Movie clips\, Retro TV Theme Song and more!\nEvery Tuesday starting at 6:30 pm with you host Allie! Prizes for 1st\, 2nd and 3rd.
URL:https://redlegbrewing.com/event/trivia-night-52/
LOCATION:Red Leg Brewing Company\, 2323 Garden of the Gods Rd\, Colorado Springs\, CO\, 80907\, United States
END:VEVENT
BEGIN:VEVENT
DTSTART;TZID=America/Denver:20230417T180000
DTEND;TZID=America/Denver:20230417T200000
DTSTAMP:20260425T214244
CREATED:20230320T181942Z
LAST-MODIFIED:20230320T210232Z
UID:13066-1681754400-1681761600@redlegbrewing.com
SUMMARY:Brushes & Brews with PWAT
DESCRIPTION:It’s time for another epic Brushes & brews @ Red Leg Brewery! Register here.\n\nNo art experience is necessary. We provide all art supplies and instructions. Our awesome artist will walk you through this painting step-by-step. At the end of your class experience\, you will take home your own completed custom work of art!\n\nAll guests at this event must have their own reservations. Seats are limited & reservations are required.
URL:https://redlegbrewing.com/event/brushes-brews-with-pwat/
LOCATION:Red Leg Brewing Company\, 2323 Garden of the Gods Rd\, Colorado Springs\, CO\, 80907\, United States
CATEGORIES:Special Event
END:VEVENT
BEGIN:VEVENT
DTSTART;TZID=America/Denver:20230416T120000
DTEND;TZID=America/Denver:20230416T140000
DTSTAMP:20260425T214244
CREATED:20230327T220232Z
LAST-MODIFIED:20230327T220232Z
UID:13268-1681646400-1681653600@redlegbrewing.com
SUMMARY:Tasting at Peterson Space Force Base Exchange
DESCRIPTION:Join Dave from 12-2 pm for a craft beer tasting! Stop by to say hi to our sales staff\, enjoy a taste of our local\, award-winning beer\, and you’ll have a chance to get swag!
URL:https://redlegbrewing.com/event/tasting-at-peterson-space-force-base-exchange/
LOCATION:CO
CATEGORIES:Sales Event
END:VEVENT
BEGIN:VEVENT
DTSTART;TZID=America/Denver:20230415T150000
DTEND;TZID=America/Denver:20230415T170000
DTSTAMP:20260425T214244
CREATED:20230330T175423Z
LAST-MODIFIED:20230330T175510Z
UID:13320-1681570800-1681578000@redlegbrewing.com
SUMMARY:Tasting at Newton Wine & Spirits
DESCRIPTION:Join our sales team from 3-5 pm for a craft beer tasting! Stop by to say hi\, enjoy a taste of our local\, award-winning beer\, and you’ll have a chance to get swag! \n13345 Voyager Pkwy\, Colorado Springs\, CO 80921
URL:https://redlegbrewing.com/event/craft-beer-tasting-at-newton-wine-spirits/
LOCATION:CO
CATEGORIES:Sales Event
END:VEVENT
BEGIN:VEVENT
DTSTART;TZID=America/Denver:20230414T170000
DTEND;TZID=America/Denver:20230414T190000
DTSTAMP:20260425T214244
CREATED:20230410T194015Z
LAST-MODIFIED:20230410T194015Z
UID:13534-1681491600-1681498800@redlegbrewing.com
SUMMARY:Pint Night at Brakeman's Burgers
DESCRIPTION:Join our sales team from 5-7 pm for a Pint Night at Brakeman’s Burgers featuring five of our brews! Stop by to say hi\, enjoy a pint of our local\, award-winning beer\, and you’ll have a chance to get swag! \n  \nBrakeman’s Burgers\n10 S Sierra Madre St\, Colorado Springs\, CO 80903
URL:https://redlegbrewing.com/event/pint-night-at-brakemans-burgers/
LOCATION:CO
CATEGORIES:Sales Event
END:VEVENT
BEGIN:VEVENT
DTSTART;TZID=America/Denver:20230412T183000
DTEND;TZID=America/Denver:20230412T203000
DTSTAMP:20260425T214244
CREATED:20230223T232610Z
LAST-MODIFIED:20230223T232610Z
UID:12490-1681324200-1681331400@redlegbrewing.com
SUMMARY:Music Video BINGO
DESCRIPTION:Win FREE BEER while watching music videos!! Winners every round + Grand Prize!\nYour Host\, Allie\, will be playing a variety of classic and unique music videos from the last 60 years. You don’t need to know the title or artist to win so you can relax and have another pint! Just pay attention\, work that bingo dabber and drink on!
URL:https://redlegbrewing.com/event/music-video-bingo-21/
LOCATION:Red Leg Brewing Company\, 2323 Garden of the Gods Rd\, Colorado Springs\, CO\, 80907\, United States
CATEGORIES:Ongoing Event
END:VEVENT
BEGIN:VEVENT
DTSTART;TZID=America/Denver:20230412T120000
DTEND;TZID=America/Denver:20230412T210000
DTSTAMP:20260425T214244
CREATED:20230217T004946Z
LAST-MODIFIED:20230217T004946Z
UID:12382-1681300800-1681333200@redlegbrewing.com
SUMMARY:Colorado Pint Day
DESCRIPTION:Colorado Pint Day returns on April 12th!\n\nDesigned by Anna Long\, graphic designer and marketing manager from Copper Kettle Brewing Co. and CEO of Norlo Design\, the 2023 Colorado Pint Day theme is celebrating the great Colorado road trip! This year over 160 breweries across the state are participating in this beloved fundraiser where $1 of each pint glass sold will be donated to the CBG. We encourage you to get out and support your local brewery and the Colorado Brewers Guild.\n\n*We cannot ship glasses. They are only available in person at a participating brewery.*\n\nBreweries choose how they want to celebrate Colorado Pint Day. Follow your local brewery’s social channels for more details. Below is the list of participating locations. A map of all locations can be found at https://coloradobeer.org/colorado-pint-day/
URL:https://redlegbrewing.com/event/colorado-pint-day-2/
LOCATION:Red Leg Brewing Company\, 2323 Garden of the Gods Rd\, Colorado Springs\, CO\, 80907\, United States
CATEGORIES:Special Event
END:VEVENT
BEGIN:VEVENT
DTSTART;TZID=America/Denver:20230411T183000
DTEND;TZID=America/Denver:20230411T203000
DTSTAMP:20260425T214244
CREATED:20230223T233901Z
LAST-MODIFIED:20230411T204154Z
UID:12517-1681237800-1681245000@redlegbrewing.com
SUMMARY:Trivia Night
DESCRIPTION:LIVE Trivia with a variety of questions including Picture Mashups\, Name That Year\, Music & Movie clips\, Retro TV Theme Song and more!\nEvery Tuesday starting at 6:30 pm with you host Allie! Prizes for 1st\, 2nd and 3rd.
URL:https://redlegbrewing.com/event/trivia-night-51/
LOCATION:Red Leg Brewing Company\, 2323 Garden of the Gods Rd\, Colorado Springs\, CO\, 80907\, United States
CATEGORIES:Ongoing Event
END:VEVENT
BEGIN:VEVENT
DTSTART;TZID=America/Denver:20230409T110000
DTEND;TZID=America/Denver:20230409T170000
DTSTAMP:20260425T214244
CREATED:20230313T171008Z
LAST-MODIFIED:20230313T171056Z
UID:12904-1681038000-1681059600@redlegbrewing.com
SUMMARY:The Great Craft Beer Easter Egg Hunt 2023
DESCRIPTION:Colorado Springs front-range area breweries are collaborating (for the third consecutive year) to bring you the most epic city-wide adult Easter egg hunt a beer-lover could dream up. Hunt for “eggs” all over the front range hidden by your favorite beverage makers\, and claim the prizes inside!\n\nDATE: Easter Sunday\, April 9th\nTIME: Easter Sunday Morning! Follow participating breweries’ social media to see when they drop their eggs!\nPLACE: Safe\, publicly-accessible\, family-friendly locations\n\nParticipating Breweries:\n Batch Slapped Brewery/Cidery\n Bell Brothers Brewing\n Bristol Brewing Co\n Cerberus Brewing Company\, Seven’s Gate Tap Room\n Fossil Craft Beer\n FH Beerworks\n Goat Patch Brewing Company\n Mash Mechanix Brewing Co\n Mash Mechanix Brewing Co\n Red Leg Brewing Company\n Red Swing Brewhouse
URL:https://redlegbrewing.com/event/the-great-craft-beer-easter-egg-hunt-2023/
LOCATION:Red Leg Brewing Company\, 2323 Garden of the Gods Rd\, Colorado Springs\, CO\, 80907\, United States
CATEGORIES:Special Event
END:VEVENT
BEGIN:VEVENT
DTSTART;TZID=America/Denver:20230408T080000
DTEND;TZID=America/Denver:20230408T100000
DTSTAMP:20260425T214244
CREATED:20230322T222040Z
LAST-MODIFIED:20230322T222503Z
UID:13103-1680940800-1680948000@redlegbrewing.com
SUMMARY:Breakfast with the Easter Bunny
DESCRIPTION:The Easter Bunny is hoppin’ on over to the brewery on Saturday\, April 8th from 8-10 am for breakfast and photos! Join us at the facility for breakfast options from Oliver’s Deli and photos by Life’s a Snap Photo Booth! Brunch cocktails will also be available from the Liquor Cabinet. \nWell-behaved dogs and cats are welcome for photos with the Easter Bunny. \nOliver’s Deli Breakfast Items: \n\nVeggie & Meat Quiche\nBreakfast Burrito\nEgg Bagel Sandwich\nBanana Pancakes\nMuffins\nCoffee Drinks (lattes\, cold brew\, drip coffee)\n\n$15 for photos with the Easter Bunny – includes a 4×6 print and digital copy. \nAll food and drinks are sold separately. No outside food is allowed at the facility.
URL:https://redlegbrewing.com/event/breakfast-with-the-easter-bunny/
LOCATION:Red Leg Brewing Company\, 2323 Garden of the Gods Rd\, Colorado Springs\, CO\, 80907\, United States
CATEGORIES:Special Event
END:VEVENT
BEGIN:VEVENT
DTSTART;TZID=America/Denver:20230407T120000
DTEND;TZID=America/Denver:20230407T220000
DTSTAMP:20260425T214244
CREATED:20230223T235800Z
LAST-MODIFIED:20230323T165250Z
UID:12544-1680868800-1680904800@redlegbrewing.com
SUMMARY:Seasonal Beer Release
DESCRIPTION:For the first time ever\, we are canning a sour ale and it will release on April 7th! This one will be sold on draft and in 16 oz 6-packs and is sure to make an appearance at all your get-togethers this Spring & Summer! \nSummer Punch Fruit Puncha Sour (5.4% ABV)\nAloha\, hodads! This tart sour ale is jam-packed with a ludacris amount of pineapple\, tangerine\, mango\, berries & more making it a fruity tropical vacay in a can that you’ll never want to end! It’s perfect for a gnarly day spent soaking up the sun or hangin’ with friends. With a full-bodied & silky mouth feel\, it’s the ultimate refreshment that’s both crushable & tasty. Kowabunga\, dudes!
URL:https://redlegbrewing.com/event/seasonal-beer-release/
LOCATION:Red Leg Brewing Company\, 2323 Garden of the Gods Rd\, Colorado Springs\, CO\, 80907\, United States
CATEGORIES:Special Event
END:VEVENT
BEGIN:VEVENT
DTSTART;TZID=America/Denver:20230405T183000
DTEND;TZID=America/Denver:20230405T203000
DTSTAMP:20260425T214244
CREATED:20230223T232218Z
LAST-MODIFIED:20230223T232218Z
UID:12486-1680719400-1680726600@redlegbrewing.com
SUMMARY:Music Video BINGO
DESCRIPTION:Win FREE BEER while watching music videos!! Winners every round + Grand Prize!\nYour Host\, Allie\, will be playing a variety of classic and unique music videos from the last 60 years. You don’t need to know the title or artist to win so you can relax and have another pint! Just pay attention\, work that bingo dabber and drink on!
URL:https://redlegbrewing.com/event/music-video-bingo-19/
LOCATION:Red Leg Brewing Company\, 2323 Garden of the Gods Rd\, Colorado Springs\, CO\, 80907\, United States
CATEGORIES:Ongoing Event
END:VEVENT
BEGIN:VEVENT
DTSTART;TZID=America/Denver:20230404T183000
DTEND;TZID=America/Denver:20230404T203000
DTSTAMP:20260425T214244
CREATED:20230223T233753Z
LAST-MODIFIED:20230223T233753Z
UID:12514-1680633000-1680640200@redlegbrewing.com
SUMMARY:Trivia Night
DESCRIPTION:LIVE Trivia with a variety of questions including Picture Mashups\, Name That Year\, Music & Movie clips\, Retro TV Theme Song and more!\nEvery Tuesday starting at 6:30 pm with you host Allie! Prizes for 1st\, 2nd and 3rd.
URL:https://redlegbrewing.com/event/trivia-night-50/
LOCATION:Red Leg Brewing Company\, 2323 Garden of the Gods Rd\, Colorado Springs\, CO\, 80907\, United States
CATEGORIES:Ongoing Event
END:VEVENT
BEGIN:VEVENT
DTSTART;TZID=America/Denver:20230403T120000
DTEND;TZID=America/Denver:20230403T210000
DTSTAMP:20260425T214244
CREATED:20230327T205350Z
LAST-MODIFIED:20230327T205350Z
UID:13254-1680523200-1680555600@redlegbrewing.com
SUMMARY:Beer Release: Mango Wrangler Sour
DESCRIPTION:Join us in the taproom on April 3rd for the rerelease of Mango Wrangler Sour!\n*contains lactose*
URL:https://redlegbrewing.com/event/beer-release-mango-wrangler-sour/
LOCATION:Red Leg Brewing Company\, 2323 Garden of the Gods Rd\, Colorado Springs\, CO\, 80907\, United States
CATEGORIES:Special Event
END:VEVENT
END:VCALENDAR