BEGIN:VCALENDAR
VERSION:2.0
PRODID:-//Red Leg Brewing Company - ECPv6.15.18//NONSGML v1.0//EN
CALSCALE:GREGORIAN
METHOD:PUBLISH
X-WR-CALNAME:Red Leg Brewing Company
X-ORIGINAL-URL:https://redlegbrewing.com
X-WR-CALDESC:Events for Red Leg Brewing Company
REFRESH-INTERVAL;VALUE=DURATION:PT1H
X-Robots-Tag:noindex
X-PUBLISHED-TTL:PT1H
BEGIN:VTIMEZONE
TZID:America/Denver
BEGIN:DAYLIGHT
TZOFFSETFROM:-0700
TZOFFSETTO:-0600
TZNAME:MDT
DTSTART:20220313T090000
END:DAYLIGHT
BEGIN:STANDARD
TZOFFSETFROM:-0600
TZOFFSETTO:-0700
TZNAME:MST
DTSTART:20221106T080000
END:STANDARD
BEGIN:DAYLIGHT
TZOFFSETFROM:-0700
TZOFFSETTO:-0600
TZNAME:MDT
DTSTART:20230312T090000
END:DAYLIGHT
BEGIN:STANDARD
TZOFFSETFROM:-0600
TZOFFSETTO:-0700
TZNAME:MST
DTSTART:20231105T080000
END:STANDARD
BEGIN:DAYLIGHT
TZOFFSETFROM:-0700
TZOFFSETTO:-0600
TZNAME:MDT
DTSTART:20240310T090000
END:DAYLIGHT
BEGIN:STANDARD
TZOFFSETFROM:-0600
TZOFFSETTO:-0700
TZNAME:MST
DTSTART:20241103T080000
END:STANDARD
END:VTIMEZONE
BEGIN:VEVENT
DTSTART;TZID=America/Denver:20230605T183000
DTEND;TZID=America/Denver:20230605T200000
DTSTAMP:20260425T182439
CREATED:20230517T125622Z
LAST-MODIFIED:20230517T125624Z
UID:14297-1685989800-1685995200@redlegbrewing.com
SUMMARY:Summer Scenes Teeny Terrarium Make-and-Take workshop
DESCRIPTION:‘Summer Scenes’ Teeny Terrarium Make-and-Take workshop at Red Leg Brewing Company \nMake your own summer vacation scene with beaches\, rivers\, bikes\, and more outdoorsy miniature figurines. Lots of themed kits to choose from\, an easy beginners project! \nThese do not contain living plants\, so they will last a long time. They make great gifts and excellent decorations. Each one is unique! I hand-make many of the components personally. \nClasses include all necessary materials\, professional packaging\, instruction as needed\, and assistance as requested. \nThis is an at-your-own-pace workshop\, excellent for a date\, group friend meet-up\, or a mom-and-me activity (recommended age 10+\, glue gun experience a must!) \n✨This class is a Saturday Side Hustle event ✨ Register Here
URL:https://redlegbrewing.com/event/summer-scenes-teeny-terrarium-make-and-take-workshop/
LOCATION:Red Leg Brewing Company\, 2323 Garden of the Gods Rd\, Colorado Springs\, CO\, 80907\, United States
CATEGORIES:Special Event
END:VEVENT
BEGIN:VEVENT
DTSTART;TZID=America/Denver:20230604T110000
DTEND;TZID=America/Denver:20230604T150000
DTSTAMP:20260425T182440
CREATED:20230224T001642Z
LAST-MODIFIED:20230604T145954Z
UID:12556-1685876400-1685890800@redlegbrewing.com
SUMMARY:Canceled: June Makers Market
DESCRIPTION:Our Makers Markets feature a rotating selection of local artists\, bakers\, makers\, and farmers. A fun combination of farm and art market! Head on over to the brewery for our outdoor market and support small local businesses all in one convenient stop! Selected vendors will be announced soon. \nVendors: We are accepting applications now for the 2023 market season. If you are interested\, fill out our form at www.redlegbrewing.com/makers-market.
URL:https://redlegbrewing.com/event/june-makers-market-2/
LOCATION:Red Leg Brewing Company\, 2323 Garden of the Gods Rd\, Colorado Springs\, CO\, 80907\, United States
CATEGORIES:Ongoing Event
END:VEVENT
BEGIN:VEVENT
DTSTART;TZID=America/Denver:20230603T150000
DTEND;TZID=America/Denver:20230603T180000
DTSTAMP:20260425T182440
CREATED:20230523T130123Z
LAST-MODIFIED:20230523T130123Z
UID:14371-1685804400-1685815200@redlegbrewing.com
SUMMARY:Tasting at Liquor Depot
DESCRIPTION:Join our sales team from 3-6 pm for a Brewery of the Month Tasting at Liquor Depot! Stop by to say hi\, enjoy a pint of our local\, award-winning beer\, and you’ll have a chance to get swag! \nLiquor Depot: 5984 Stetson Hills Blvd\, Colorado Springs\, CO 80923
URL:https://redlegbrewing.com/event/tasting-at-liquor-depot/
LOCATION:CO
CATEGORIES:Sales Event
END:VEVENT
BEGIN:VEVENT
DTSTART;TZID=America/Denver:20230602T173000
DTEND;TZID=America/Denver:20230602T203000
DTSTAMP:20260425T182440
CREATED:20230522T193857Z
LAST-MODIFIED:20230531T164320Z
UID:14353-1685727000-1685737800@redlegbrewing.com
SUMMARY:Live Music: Rafiel & The Roomshakers
DESCRIPTION:
URL:https://redlegbrewing.com/event/live-music-rafiel-room-shakers/
LOCATION:Red Leg Brewing Company\, 2323 Garden of the Gods Rd\, Colorado Springs\, CO\, 80907\, United States
CATEGORIES:Live Entertainment
END:VEVENT
BEGIN:VEVENT
DTSTART;TZID=America/Denver:20230602T110000
DTEND;TZID=America/Denver:20230602T220000
DTSTAMP:20260425T182440
CREATED:20230522T215903Z
LAST-MODIFIED:20230531T131029Z
UID:14363-1685703600-1685743200@redlegbrewing.com
SUMMARY:Beer Release: American Stout
DESCRIPTION:Join us in the taproom on Friday\, June 2nd for the rerelease of our American Stout!
URL:https://redlegbrewing.com/event/seltzer-release-watermelon-setlzer/
LOCATION:Red Leg Brewing Company\, 2323 Garden of the Gods Rd\, Colorado Springs\, CO\, 80907\, United States
CATEGORIES:Special Event
END:VEVENT
BEGIN:VEVENT
DTSTART;TZID=America/Denver:20230601T180000
DTEND;TZID=America/Denver:20230601T193000
DTSTAMP:20260425T182440
CREATED:20230504T175820Z
LAST-MODIFIED:20230504T210242Z
UID:14019-1685642400-1685647800@redlegbrewing.com
SUMMARY:Pedal Party hosted by UpaDowna
DESCRIPTION:Pedal with UpaDowna through the Garden of the Gods every Thursday this Summer. Improve your biking skills\, make new friends\, & win prizes! \nEvent Details: Choose from a 4 or 8-mile loop. Go at your own pace. UpaDowna will be with you along the way! \nUpaDowna’s Pedal Party was created to provide an opportunity for cyclists of all ages and abilities to ride together in a safe and fun environment while teaching the basics of bicycling safety\, etiquette\, and rules of the road. In alignment with the mission of the Summit Series Programs\, Pedal Party was designed to empower individuals to reach new goals for their health and wellness and to challenge their comfort zone while also finding camaraderie among the community while riding amongst the red sandstone in Garden of the Gods. \nFamilies with young children? Take our short .5-mile ride to the John Blair Bridge and back followed by a post-ride treat for our Little Bikers! \nNeed a Bike?: Rental bikes and helmets will be provided by UpaDowna and Criterium Bicycles. There are a limited amount of rental bikes available per ride. Please complete the rental inquiry when registering if you need a loaner bike. \nGet entered to win the end-of-season grand prize brought to you by Arc’Teryx. The more Pedal Parties you attend\, the more entries you receive! Each attended event equals one entry to our grand prize giveaway. We will have small giveaways each week! \nDates: Every Thursday from June 1 to August 31 from 6-7:30 pm.\nMeeting Point: Red Leg Brewing Company. Look for the Yeti Crew on the patio.\nCost: This is a donation-based event. Recommended $15 donation. Make a one-time $15 donation and ride for the Summer! Minimum $10 donation. \n*Special T-Shirt Giveaway to the First 30 Participants to Register*: The first 30 participants to register AND make a $15 donation\, will receive a special edition Pedal Party t-shirt. Must register by the end of the first ride on June 1. T-shirts will be distributed in person on the 3rd week of the Pedal Party. Youth to adult sizes are available. Limited to 1 per participant.
URL:https://redlegbrewing.com/event/pedal-party-hosted-by-upadowna/
LOCATION:Red Leg Brewing Company\, 2323 Garden of the Gods Rd\, Colorado Springs\, CO\, 80907\, United States
CATEGORIES:Special Event
END:VEVENT
BEGIN:VEVENT
DTSTART;TZID=America/Denver:20230601T170000
DTEND;TZID=America/Denver:20230601T200000
DTSTAMP:20260425T182440
CREATED:20230508T165152Z
LAST-MODIFIED:20230508T165406Z
UID:14075-1685638800-1685649600@redlegbrewing.com
SUMMARY:Craft for a Cause: Corral Bluffs Alliance
DESCRIPTION:Craft for a Cause nights are held every Thursday to give our community’s non-profits a way to raise money for their causes. We provide the venue for the organization to connect with the community over a good beer as well as raise funds for their group. Red Leg contributes $1 of each RLBC pints sold to the sponsored group on Craft for a Cause Thursdays. \nJune Non-Profits:\nJune 1 Corral Bluffs Alliance\nhttps://www.corralbluffs.org \nJune 8 Bike Colorado Springs\nhttps://www.bikecoloradosprings.org \nJune 15 Fountain Creek Watershed\nhttps://www.fountain-crk.org \nJune 22 Space Foundation\nhttps://www.spacefoundation.org \nJune 29 Humane Society of the Pikes Peak Region\nhttps://www.hsppr.org \nWe are honored to have won Silver in the 2023 Best of the Springs for Fun Way to Support Charity for our Craft for a Cause efforts! \nIf you are a representative for an organization and would like to become a sponsored organization\, please fill out our donation request form on our website and we will get in touch soon!
URL:https://redlegbrewing.com/event/craft-for-a-cause-corral-bluffs-alliance/
LOCATION:Red Leg Brewing Company\, 2323 Garden of the Gods Rd\, Colorado Springs\, CO\, 80907\, United States
CATEGORIES:Special Event
END:VEVENT
BEGIN:VEVENT
DTSTART;TZID=America/Denver:20230531T183000
DTEND;TZID=America/Denver:20230531T203000
DTSTAMP:20260425T182440
CREATED:20230223T233319Z
LAST-MODIFIED:20230223T233319Z
UID:12504-1685557800-1685565000@redlegbrewing.com
SUMMARY:Music Video BINGO
DESCRIPTION:Win FREE BEER while watching music videos!! Winners every round + Grand Prize!\nYour Host\, Allie\, will be playing a variety of classic and unique music videos from the last 60 years. You don’t need to know the title or artist to win so you can relax and have another pint! Just pay attention\, work that bingo dabber and drink on!
URL:https://redlegbrewing.com/event/music-video-bingo-28/
LOCATION:Red Leg Brewing Company\, 2323 Garden of the Gods Rd\, Colorado Springs\, CO\, 80907\, United States
CATEGORIES:Ongoing Event
END:VEVENT
BEGIN:VEVENT
DTSTART;TZID=America/Denver:20230530T183000
DTEND;TZID=America/Denver:20230530T203000
DTSTAMP:20260425T182440
CREATED:20230223T234830Z
LAST-MODIFIED:20230223T234830Z
UID:12531-1685471400-1685478600@redlegbrewing.com
SUMMARY:Trivia Night
DESCRIPTION:LIVE Trivia with a variety of questions including Picture Mashups\, Name That Year\, Music & Movie clips\, Retro TV Theme Song\, and more!\nEvery Tuesday starting at 6:30 pm with your host Allie! Prizes for 1st\, 2nd and 3rd.
URL:https://redlegbrewing.com/event/trivia-night-58/
LOCATION:Red Leg Brewing Company\, 2323 Garden of the Gods Rd\, Colorado Springs\, CO\, 80907\, United States
CATEGORIES:Ongoing Event
END:VEVENT
BEGIN:VEVENT
DTSTART;TZID=America/Denver:20230529T103000
DTEND;TZID=America/Denver:20230529T133000
DTSTAMP:20260425T182440
CREATED:20230522T192330Z
LAST-MODIFIED:20230522T192330Z
UID:14351-1685356200-1685367000@redlegbrewing.com
SUMMARY:Live Music: Last Patrol Band
DESCRIPTION:
URL:https://redlegbrewing.com/event/live-music-last-patrol-band-3/
LOCATION:Red Leg Brewing Company\, 2323 Garden of the Gods Rd\, Colorado Springs\, CO\, 80907\, United States
CATEGORIES:Live Entertainment
END:VEVENT
BEGIN:VEVENT
DTSTART;TZID=America/Denver:20230527T120000
DTEND;TZID=America/Denver:20230527T140000
DTSTAMP:20260425T182440
CREATED:20230515T164743Z
LAST-MODIFIED:20230515T164743Z
UID:14242-1685188800-1685196000@redlegbrewing.com
SUMMARY:Tasting at Ft Carson Exchange
DESCRIPTION:Join Dave from 12-2 pm for a craft beer tasting! Stop by to say hi\, enjoy a taste of our local\, award-winning beer\, and you’ll have a chance to get swag!
URL:https://redlegbrewing.com/event/tasting-at-ft-carson-exchange/
LOCATION:CO
CATEGORIES:Sales Event
END:VEVENT
BEGIN:VEVENT
DTSTART;TZID=America/Denver:20230526T120000
DTEND;TZID=America/Denver:20230526T140000
DTSTAMP:20260425T182440
CREATED:20230515T164710Z
LAST-MODIFIED:20230515T164710Z
UID:14240-1685102400-1685109600@redlegbrewing.com
SUMMARY:Tasting at Peterson SFB Exchange
DESCRIPTION:Join Dave from 12-2 pm for a craft beer tasting! Stop by to say hi\, enjoy a taste of our local\, award-winning beer\, and you’ll have a chance to get swag!
URL:https://redlegbrewing.com/event/tasting-at-peterson-sfb-exchange-6/
LOCATION:CO
CATEGORIES:Sales Event
END:VEVENT
BEGIN:VEVENT
DTSTART;TZID=America/Denver:20230526T110000
DTEND;TZID=America/Denver:20230526T220000
DTSTAMP:20260425T182440
CREATED:20230522T213719Z
LAST-MODIFIED:20230522T213719Z
UID:14356-1685098800-1685138400@redlegbrewing.com
SUMMARY:Beer Release: Attack on Tavern Session IPA
DESCRIPTION:Join us in the taproom on Friday\, May 26th for the rerelease of Attack on Tavern Session IPA!
URL:https://redlegbrewing.com/event/beer-release-attack-on-tavern-session-ipa/
LOCATION:Red Leg Brewing Company\, 2323 Garden of the Gods Rd\, Colorado Springs\, CO\, 80907\, United States
CATEGORIES:Special Event
END:VEVENT
BEGIN:VEVENT
DTSTART;TZID=America/Denver:20230525T190000
DTEND;TZID=America/Denver:20230525T210000
DTSTAMP:20260425T182440
CREATED:20230424T180834Z
LAST-MODIFIED:20230508T230144Z
UID:13819-1685041200-1685048400@redlegbrewing.com
SUMMARY:May Comedy Show
DESCRIPTION:Join us at Red Leg for our rooftop comedy show – Comedian on the Roof: Summer Sunset Series! We’ll kick off the Summer series with our first show on May 25th on the rooftop deck for a night of laughs and delicious beer! The headliner is Mike Hammock – this Denver local comic has spent the last 10 years headlining around the country. Winner of the Comedy Works New Faces Contest he’s performed at Jokechella\, HighPlains Comedy Festival\, Fountain City Comedy Festival\, SnoJam\, and more. He is joined by several other comedians with all different styles and backgrounds making this a unique and hilarious experience. As always\, the show will be hosted by Melody Klema! \n\n\nTickets are required. $20 per person. This is a 21+ event.\nFood\, beer\, and cocktails will be available for purchase.\nDoors open at 6 pm and the show is from 7-9 pm.\nFor questions or concerns\, email events@redlegbrewing.com.
URL:https://redlegbrewing.com/event/may-comedy-show/
LOCATION:Red Leg Brewing Company\, 2323 Garden of the Gods Rd\, Colorado Springs\, CO\, 80907\, United States
CATEGORIES:Special Event
END:VEVENT
BEGIN:VEVENT
DTSTART;TZID=America/Denver:20230525T180000
DTEND;TZID=America/Denver:20230525T200000
DTSTAMP:20260425T182440
CREATED:20230509T152754Z
LAST-MODIFIED:20230509T152940Z
UID:14132-1685037600-1685044800@redlegbrewing.com
SUMMARY:Pint Night at Parry's Sliceria & Taps (South)
DESCRIPTION:Join our sales team from 6-8 pm for a Pint Night at Parry’s Pizza (South)! Stop by to say hi\, enjoy a pint of our local\, award-winning beer\, and you’ll have a chance to get swag! \nParry’s Sliceria & Taps: 1612 S Nevada Ave Ste 110\, Colorado Springs\, CO 80905
URL:https://redlegbrewing.com/event/pint-night-at-parrys-sliceria-taps-south/
LOCATION:CO
CATEGORIES:Sales Event
END:VEVENT
BEGIN:VEVENT
DTSTART;TZID=America/Denver:20230525T170000
DTEND;TZID=America/Denver:20230525T200000
DTSTAMP:20260425T182440
CREATED:20230418T181033Z
LAST-MODIFIED:20230418T181113Z
UID:13705-1685034000-1685044800@redlegbrewing.com
SUMMARY:Craft for a Cause: Rocky Mt Highway Music Collab
DESCRIPTION:Craft for a Cause nights are held every Thursday to give our community’s non-profits a way to raise money for their causes. We provide the venue for the organization to connect with the community over a good beer as well as raise funds for their group. Red Leg contributes $1 of each RLBC pints sold to the sponsored group on Craft for a Cause Thursdays.\n\n\nMay Non-Profits:\nMay 4 UpaDowna\nhttps://www.upadowna.org\n\nMay 11 Guardians of Palmer Park\nhttps://gopalmerpark.org\n\nMay 18 Nature’s Educators\nhttps://www.natureseducators.org\n\nMay 25 Rocky Mt Highway Music Collab\nhttps://rockymountainhighway.org\n\nIf you are a representative for an organization and would like to become a sponsored organization\, please fill out our donation request form on our website and we will get in touch soon!
URL:https://redlegbrewing.com/event/craft-for-a-cause-rocky-mt-highway-music-collab/
LOCATION:Red Leg Brewing Company\, 2323 Garden of the Gods Rd\, Colorado Springs\, CO\, 80907\, United States
CATEGORIES:Ongoing Event
END:VEVENT
BEGIN:VEVENT
DTSTART;TZID=America/Denver:20230525T153000
DTEND;TZID=America/Denver:20230525T170000
DTSTAMP:20260425T182440
CREATED:20230515T164611Z
LAST-MODIFIED:20230515T164611Z
UID:14238-1685028600-1685034000@redlegbrewing.com
SUMMARY:Tasting at Ft Carson Class 6
DESCRIPTION:Join Dave from 3:30-5 pm for a craft beer tasting! Stop by to say hi\, enjoy a taste of our local\, award-winning beer\, and you’ll have a chance to get swag!
URL:https://redlegbrewing.com/event/tasting-at-ft-carson-class-6/
LOCATION:CO
CATEGORIES:Sales Event
END:VEVENT
BEGIN:VEVENT
DTSTART;TZID=America/Denver:20230524T183000
DTEND;TZID=America/Denver:20230524T203000
DTSTAMP:20260425T182440
CREATED:20230223T233236Z
LAST-MODIFIED:20230223T233236Z
UID:12502-1684953000-1684960200@redlegbrewing.com
SUMMARY:Music Video BINGO
DESCRIPTION:Win FREE BEER while watching music videos!! Winners every round + Grand Prize!\nYour Host\, Allie\, will be playing a variety of classic and unique music videos from the last 60 years. You don’t need to know the title or artist to win so you can relax and have another pint! Just pay attention\, work that bingo dabber and drink on!
URL:https://redlegbrewing.com/event/music-video-bingo-27/
LOCATION:Red Leg Brewing Company\, 2323 Garden of the Gods Rd\, Colorado Springs\, CO\, 80907\, United States
CATEGORIES:Ongoing Event
END:VEVENT
BEGIN:VEVENT
DTSTART;TZID=America/Denver:20230524T170000
DTEND;TZID=America/Denver:20230524T210000
DTSTAMP:20260425T182440
CREATED:20230509T152554Z
LAST-MODIFIED:20230509T152746Z
UID:14130-1684947600-1684962000@redlegbrewing.com
SUMMARY:Patio Party at Homa (Kinship Landing)
DESCRIPTION:Join our sales team from 5-9 pm for a Patio Party at Homa at Kinship Landing! Stop by to say hi\, enjoy a pint of our local\, award-winning beer\, and you’ll have a chance to get swag! \nHoma at Kinship Landing: 415 S Nevada Ave\, Colorado Springs\, CO 80903
URL:https://redlegbrewing.com/event/patio-party-at-homa-kinship-landing/
LOCATION:CO
CATEGORIES:Sales Event
END:VEVENT
BEGIN:VEVENT
DTSTART;TZID=America/Denver:20230524T153000
DTEND;TZID=America/Denver:20230524T173000
DTSTAMP:20260425T182440
CREATED:20230515T164516Z
LAST-MODIFIED:20230515T164516Z
UID:14236-1684942200-1684949400@redlegbrewing.com
SUMMARY:Tasting at Peterson SFB Class 6
DESCRIPTION:Join Dave from 3:30-5:30 pm for a craft beer tasting! Stop by to say hi\, enjoy a taste of our local\, award-winning beer\, and you’ll have a chance to get swag!
URL:https://redlegbrewing.com/event/tasting-at-peterson-sfb-class-6-3/
LOCATION:CO
CATEGORIES:Sales Event
END:VEVENT
BEGIN:VEVENT
DTSTART;TZID=America/Denver:20230523T183000
DTEND;TZID=America/Denver:20230523T203000
DTSTAMP:20260425T182440
CREATED:20230223T234738Z
LAST-MODIFIED:20230223T234738Z
UID:12529-1684866600-1684873800@redlegbrewing.com
SUMMARY:Trivia Night
DESCRIPTION:LIVE Trivia with a variety of questions including Picture Mashups\, Name That Year\, Music & Movie clips\, Retro TV Theme Song\, and more!\nEvery Tuesday starting at 6:30 pm with your host Allie! Prizes for 1st\, 2nd and 3rd.
URL:https://redlegbrewing.com/event/trivia-night-57/
LOCATION:Red Leg Brewing Company\, 2323 Garden of the Gods Rd\, Colorado Springs\, CO\, 80907\, United States
CATEGORIES:Ongoing Event
END:VEVENT
BEGIN:VEVENT
DTSTART;TZID=America/Denver:20230522T180000
DTEND;TZID=America/Denver:20230522T203000
DTSTAMP:20260425T182440
CREATED:20230413T204854Z
LAST-MODIFIED:20230413T205017Z
UID:13594-1684778400-1684787400@redlegbrewing.com
SUMMARY:Macrame Workshop: Chakra Wall Hanging
DESCRIPTION:In this hands-on beginner-friendly macrame class you’ll be working with high-quality recycled cotton rope and learn commonly used macrame knots to create a beautiful piece of fiber art you’ll enjoy for years to come.\n\nOur Fiber Artist & Instructor Janel will provide group instruction as well as one on one guidance (as needed) so you leave with a complete project along with a sense of accomplishment and the desire to continue creating at home!\n\nYour ticket gets you knowledge\, experience\, and a functional piece of fiber art that you make yourself.\n\nSpace is limited to just 15 spots\, so get your tickets today! Open to participants 16+.
URL:https://redlegbrewing.com/event/macrame-workshop-chakra-wall-hanging-2/
LOCATION:Red Leg Brewing Company\, 2323 Garden of the Gods Rd\, Colorado Springs\, CO\, 80907\, United States
CATEGORIES:Special Event
END:VEVENT
BEGIN:VEVENT
DTSTART;TZID=America/Denver:20230519T160000
DTEND;TZID=America/Denver:20230519T190000
DTSTAMP:20260425T182440
CREATED:20230501T183820Z
LAST-MODIFIED:20230501T184000Z
UID:13959-1684512000-1684522800@redlegbrewing.com
SUMMARY:Tasting at R&R Liquor
DESCRIPTION:Join our sales team from 4-7 pm for a craft beer tasting! Stop by to say hi\, enjoy a taste of our local\, award-winning beer\, and you’ll have a chance to get swag! \n1845 Main St\, Colorado Springs\, CO 80911
URL:https://redlegbrewing.com/event/tasting-at-rr-liquor/
LOCATION:CO
CATEGORIES:Sales Event
END:VEVENT
BEGIN:VEVENT
DTSTART;TZID=America/Denver:20230518T170000
DTEND;TZID=America/Denver:20230518T200000
DTSTAMP:20260425T182440
CREATED:20230418T180936Z
LAST-MODIFIED:20230418T181021Z
UID:13703-1684429200-1684440000@redlegbrewing.com
SUMMARY:Craft for a Cause: Nature's Educators
DESCRIPTION:Craft for a Cause nights are held every Thursday to give our community’s non-profits a way to raise money for their causes. We provide the venue for the organization to connect with the community over a good beer as well as raise funds for their group. Red Leg contributes $1 of each RLBC pints sold to the sponsored group on Craft for a Cause Thursdays.\n\n\nMay Non-Profits:\nMay 4 UpaDowna\nhttps://www.upadowna.org\n\nMay 11 Guardians of Palmer Park\nhttps://gopalmerpark.org\n\nMay 18 Nature’s Educators\nhttps://www.natureseducators.org\n\nMay 25 Rocky Mt Highway Music Collab\nhttps://rockymountainhighway.org\n\nIf you are a representative for an organization and would like to become a sponsored organization\, please fill out our donation request form on our website and we will get in touch soon!
URL:https://redlegbrewing.com/event/craft-for-a-cause-natures-educators/
LOCATION:Red Leg Brewing Company\, 2323 Garden of the Gods Rd\, Colorado Springs\, CO\, 80907\, United States
CATEGORIES:Ongoing Event
END:VEVENT
BEGIN:VEVENT
DTSTART;TZID=America/Denver:20230518T150000
DTEND;TZID=America/Denver:20230518T170000
DTSTAMP:20260425T182440
CREATED:20230515T164426Z
LAST-MODIFIED:20230515T164426Z
UID:14234-1684422000-1684429200@redlegbrewing.com
SUMMARY:Tasting at Schriever SFB Express
DESCRIPTION:Join Dave from 3-5 pm for a craft beer tasting! Stop by to say hi\, enjoy a taste of our local\, award-winning beer\, and you’ll have a chance to get swag!
URL:https://redlegbrewing.com/event/tasting-at-schriever-sfb-express-2/
LOCATION:CO
CATEGORIES:Sales Event
END:VEVENT
BEGIN:VEVENT
DTSTART;TZID=America/Denver:20230517T183000
DTEND;TZID=America/Denver:20230517T203000
DTSTAMP:20260425T182440
CREATED:20230223T233118Z
LAST-MODIFIED:20230223T233140Z
UID:12500-1684348200-1684355400@redlegbrewing.com
SUMMARY:Music Video BINGO
DESCRIPTION:Win FREE BEER while watching music videos!! Winners every round + Grand Prize!\nYour Host\, Allie\, will be playing a variety of classic and unique music videos from the last 60 years. You don’t need to know the title or artist to win so you can relax and have another pint! Just pay attention\, work that bingo dabber and drink on!
URL:https://redlegbrewing.com/event/music-video-bingo-26/
LOCATION:Red Leg Brewing Company\, 2323 Garden of the Gods Rd\, Colorado Springs\, CO\, 80907\, United States
CATEGORIES:Ongoing Event
END:VEVENT
BEGIN:VEVENT
DTSTART;TZID=America/Denver:20230517T173000
DTEND;TZID=America/Denver:20230517T203000
DTSTAMP:20260425T182440
CREATED:20230224T000244Z
LAST-MODIFIED:20230501T223010Z
UID:12548-1684344600-1684355400@redlegbrewing.com
SUMMARY:Putts & Pints Disc Golf Putting Challenge feat. Disc Revolution
DESCRIPTION:Join us for a Disc Golf 9-hole putting challenge Sponsored by Disc Revolution on Wednesday\, AMy 17th! Check in as early as 5:30 pm and start your rounds anytime between 6- 7:30 pm to be finished with both rounds by 8:30 pm.\n\n$5 entry fee with 100% of the entry fee is put into the winner’s pot! Prizes for men’s and women’s Pro and Am divisions. Juniors will receive one free putter with entry. Winners will be announced the next day on the Disc Revolution page.\n\nMore details to come! Event is subject to change due to weather.
URL:https://redlegbrewing.com/event/putts-pints-disc-golf-putting-challenge-feat-disc-revolution-3/
LOCATION:Red Leg Brewing Company\, 2323 Garden of the Gods Rd\, Colorado Springs\, CO\, 80907\, United States
CATEGORIES:Ongoing Event
END:VEVENT
BEGIN:VEVENT
DTSTART;TZID=America/Denver:20230516T183000
DTEND;TZID=America/Denver:20230516T203000
DTSTAMP:20260425T182440
CREATED:20230223T234648Z
LAST-MODIFIED:20230223T234648Z
UID:12527-1684261800-1684269000@redlegbrewing.com
SUMMARY:Trivia Night
DESCRIPTION:LIVE Trivia with a variety of questions including Picture Mashups\, Name That Year\, Music & Movie clips\, Retro TV Theme Song\, and more!\nEvery Tuesday starting at 6:30 pm with your host Allie! Prizes for 1st\, 2nd and 3rd.
URL:https://redlegbrewing.com/event/trivia-night-56/
LOCATION:Red Leg Brewing Company\, 2323 Garden of the Gods Rd\, Colorado Springs\, CO\, 80907\, United States
CATEGORIES:Ongoing Event
END:VEVENT
BEGIN:VEVENT
DTSTART;TZID=America/Denver:20230515T180000
DTEND;TZID=America/Denver:20230515T200000
DTSTAMP:20260425T182440
CREATED:20230501T222656Z
LAST-MODIFIED:20230501T222815Z
UID:13972-1684173600-1684180800@redlegbrewing.com
SUMMARY:Paint\, Plant & Pints Night
DESCRIPTION:Join us for a fun night out of painting\, planting & pints! Guests will customize colors as the paint their own mountain scene (or whatever you like) on the pot before selecting a beautiful live succulent from a variety of offerings. Each guest will also get a drink of choice. Seats are very limited. Reserve online.
URL:https://redlegbrewing.com/event/paint-plant-pints-night/
LOCATION:CO
CATEGORIES:Special Event
END:VEVENT
BEGIN:VEVENT
DTSTART;VALUE=DATE:20230515
DTEND;VALUE=DATE:20230522
DTSTAMP:20260425T182440
CREATED:20230509T154547Z
LAST-MODIFIED:20230509T161141Z
UID:14134-1684108800-1684713599@redlegbrewing.com
SUMMARY:American Craft Beer Week May 15-21
DESCRIPTION:If you’re looking for a reason to celebrate American craft beer\, well\, we have some REALLY GOOD NEWS for you: American Craft Beer Week is May 15-21. Celebrate with us! \nMonday: Painting w/a Twist Workshop // $5 Helo Hefeweizen All-Day \n\nTuesday: Trivia Night 6:30-8:30 pm // $5 Pale Ale All-Day \n\nWednesday: Music Video BINGO 6:30-8:30 pm // $5 Summer Punch All-Day \n\nThursday: Craft for a Cause 5-8 pm // $5 Hazy IPA All-Day \n\nFriday: Angel Beer Release (Strawberry Blonde) 12 pm ($2 of every pint sold donated to Angels of America’s Fallen) \n\nSaturday: Live Music TBD // $5 Luna Wit All-Day \n\nSunday: Buy 1\, Get 1 1/2 off Merch in taproom // $5 Howitzer Amber Ale All-Day
URL:https://redlegbrewing.com/event/american-craft-beer-week-may-15-21/
LOCATION:Red Leg Brewing Company\, 2323 Garden of the Gods Rd\, Colorado Springs\, CO\, 80907\, United States
CATEGORIES:Special Event
END:VEVENT
END:VCALENDAR