BEGIN:VCALENDAR
VERSION:2.0
PRODID:-//Red Leg Brewing Company - ECPv6.15.18//NONSGML v1.0//EN
CALSCALE:GREGORIAN
METHOD:PUBLISH
X-WR-CALNAME:Red Leg Brewing Company
X-ORIGINAL-URL:https://redlegbrewing.com
X-WR-CALDESC:Events for Red Leg Brewing Company
REFRESH-INTERVAL;VALUE=DURATION:PT1H
X-Robots-Tag:noindex
X-PUBLISHED-TTL:PT1H
BEGIN:VTIMEZONE
TZID:America/Denver
BEGIN:DAYLIGHT
TZOFFSETFROM:-0700
TZOFFSETTO:-0600
TZNAME:MDT
DTSTART:20230312T090000
END:DAYLIGHT
BEGIN:STANDARD
TZOFFSETFROM:-0600
TZOFFSETTO:-0700
TZNAME:MST
DTSTART:20231105T080000
END:STANDARD
BEGIN:DAYLIGHT
TZOFFSETFROM:-0700
TZOFFSETTO:-0600
TZNAME:MDT
DTSTART:20240310T090000
END:DAYLIGHT
BEGIN:STANDARD
TZOFFSETFROM:-0600
TZOFFSETTO:-0700
TZNAME:MST
DTSTART:20241103T080000
END:STANDARD
BEGIN:DAYLIGHT
TZOFFSETFROM:-0700
TZOFFSETTO:-0600
TZNAME:MDT
DTSTART:20250309T090000
END:DAYLIGHT
BEGIN:STANDARD
TZOFFSETFROM:-0600
TZOFFSETTO:-0700
TZNAME:MST
DTSTART:20251102T080000
END:STANDARD
END:VTIMEZONE
BEGIN:VEVENT
DTSTART;TZID=America/Denver:20241030T183000
DTEND;TZID=America/Denver:20241030T200000
DTSTAMP:20260424T205510
CREATED:20240926T152023Z
LAST-MODIFIED:20240926T152023Z
UID:41087-1730313000-1730318400@redlegbrewing.com
SUMMARY:Music Video Bingo
DESCRIPTION:Wednesdays are for Music Video BINGO! Win FREE BEER while watching music videos! Join the fun in the taproom from 6:30-8:30 pm – it’s free to play!Your Host will be playing a variety of classic & unique music videos from the last 60 years. You don’t need to know the title or artist to win so relax & have another pint! Just pay attention\, work that bingo dabber & drink on! Winners every round + Grand Prize!
URL:https://redlegbrewing.com/event/music-video-bingo-96/
LOCATION:Red Leg Brewing Company\, 2323 Garden of the Gods Rd\, Colorado Springs\, CO\, 80907\, United States
CATEGORIES:Ongoing Event
END:VEVENT
BEGIN:VEVENT
DTSTART;TZID=America/Denver:20241030T190000
DTEND;TZID=America/Denver:20241030T220000
DTSTAMP:20260424T205510
CREATED:20240925T193106Z
LAST-MODIFIED:20241029T221329Z
UID:41065-1730314800-1730325600@redlegbrewing.com
SUMMARY:Spooky Movie on the Lawn Oct 30th *CANCELLED *
DESCRIPTION:*CANCELLED DUE TO INCOMING WEATHER* \nPrepare for a bewitching good time at our next Movie on the Lawn featuring a Halloween cult classic on October 30th at 7:30pm! 🎬🧙‍♀️ \n\n\n\n\nThe movie follows the hilarious chaos that unfolds when three mischievous witches are accidentally resurrected in modern-day Salem. With the town’s children in danger\, a group of brave kids\, a talking cat\, and some unlikely allies must stop their wicked plans before the night is over! 🕯️🐈‍⬛ \nIt will be another glorious evening… and it makes us SICK! \nBring your lawn chairs\, blankets\, and enjoy this spellbinding adventure under the stars. Admission is free\, and we’ll have drinks flowing all night. 🎥🍻 Don’t miss this magical night of fun and fright! \n\n\n\n\n\n\n\n  \nDon’t know this movie from the description? Give the brewery a call or DM us and we can tell you what movie we are showing!
URL:https://redlegbrewing.com/event/spooky-movie-on-the-lawn-oct-30th/
LOCATION:Red Leg Brewing Company\, 2323 Garden of the Gods Rd\, Colorado Springs\, CO\, 80907\, United States
CATEGORIES:Special Event
ATTACH;FMTTYPE=image/png:https://redlegbrewing.com/wp-content/uploads/2024/09/Dark-Purple-Spooky-Halloween-Party-Invitation-Flyer-Instagram-Post-4.png
END:VEVENT
END:VCALENDAR