BEGIN:VCALENDAR
VERSION:2.0
PRODID:-//Red Leg Brewing Company - ECPv6.15.18//NONSGML v1.0//EN
CALSCALE:GREGORIAN
METHOD:PUBLISH
X-WR-CALNAME:Red Leg Brewing Company
X-ORIGINAL-URL:https://redlegbrewing.com
X-WR-CALDESC:Events for Red Leg Brewing Company
REFRESH-INTERVAL;VALUE=DURATION:PT1H
X-Robots-Tag:noindex
X-PUBLISHED-TTL:PT1H
BEGIN:VTIMEZONE
TZID:America/Denver
BEGIN:DAYLIGHT
TZOFFSETFROM:-0700
TZOFFSETTO:-0600
TZNAME:MDT
DTSTART:20230312T090000
END:DAYLIGHT
BEGIN:STANDARD
TZOFFSETFROM:-0600
TZOFFSETTO:-0700
TZNAME:MST
DTSTART:20231105T080000
END:STANDARD
BEGIN:DAYLIGHT
TZOFFSETFROM:-0700
TZOFFSETTO:-0600
TZNAME:MDT
DTSTART:20240310T090000
END:DAYLIGHT
BEGIN:STANDARD
TZOFFSETFROM:-0600
TZOFFSETTO:-0700
TZNAME:MST
DTSTART:20241103T080000
END:STANDARD
BEGIN:DAYLIGHT
TZOFFSETFROM:-0700
TZOFFSETTO:-0600
TZNAME:MDT
DTSTART:20250309T090000
END:DAYLIGHT
BEGIN:STANDARD
TZOFFSETFROM:-0600
TZOFFSETTO:-0700
TZNAME:MST
DTSTART:20251102T080000
END:STANDARD
END:VTIMEZONE
BEGIN:VEVENT
DTSTART;TZID=America/Denver:20241024T180000
DTEND;TZID=America/Denver:20241024T193000
DTSTAMP:20260424T204339
CREATED:20241002T210333Z
LAST-MODIFIED:20241002T210333Z
UID:41151-1729792800-1729798200@redlegbrewing.com
SUMMARY:🎃 Pumpkin Painting Party 🎃
DESCRIPTION:🎃 Pumpkin Painting Party 🎃 \nJoin us on October 24th for a fun and festive Pumpkin Painting Event from 6:00- 7:30 pm! Bring a friend and get creative—each ticket includes a pumpkin to share between up to two people. (Children 10 and under must share with an adult\, and anyone under 18 must be accompanied by an adult.) 🎨✨ \nWe’ll provide the pumpkin\, painting supplies\, and $1 off a drink from our taproom’s selection of craft beers! 🍻 Feel free to bring your own decorations like jewels\, pipe cleaners\, thinner paint brushes for detailing ( we will have 1-inch paintbrushes) and other fun add-ons to make your pumpkin unique. No glitter allowed\, though! \nTickets are just $25\, so grab your brushes and get ready for a fall evening of creativity. Space is limited—buy your ticket today! \n🗓️ Date: October 24th\n🕒 Time: 6:00 – 7:30 pm \nWe can’t wait to see your one-of-a-kind pumpkin creations! 🎃 \n Pumpkin Painting Party$25 \n 
URL:https://redlegbrewing.com/event/%f0%9f%8e%83-pumpkin-painting-party-%f0%9f%8e%83/
LOCATION:CO
END:VEVENT
END:VCALENDAR