BEGIN:VCALENDAR
VERSION:2.0
PRODID:-//Red Leg Brewing Company - ECPv6.15.18//NONSGML v1.0//EN
CALSCALE:GREGORIAN
METHOD:PUBLISH
X-ORIGINAL-URL:https://redlegbrewing.com
X-WR-CALDESC:Events for Red Leg Brewing Company
REFRESH-INTERVAL;VALUE=DURATION:PT1H
X-Robots-Tag:noindex
X-PUBLISHED-TTL:PT1H
BEGIN:VTIMEZONE
TZID:America/Denver
BEGIN:DAYLIGHT
TZOFFSETFROM:-0700
TZOFFSETTO:-0600
TZNAME:MDT
DTSTART:20230312T090000
END:DAYLIGHT
BEGIN:STANDARD
TZOFFSETFROM:-0600
TZOFFSETTO:-0700
TZNAME:MST
DTSTART:20231105T080000
END:STANDARD
BEGIN:DAYLIGHT
TZOFFSETFROM:-0700
TZOFFSETTO:-0600
TZNAME:MDT
DTSTART:20240310T090000
END:DAYLIGHT
BEGIN:STANDARD
TZOFFSETFROM:-0600
TZOFFSETTO:-0700
TZNAME:MST
DTSTART:20241103T080000
END:STANDARD
BEGIN:DAYLIGHT
TZOFFSETFROM:-0700
TZOFFSETTO:-0600
TZNAME:MDT
DTSTART:20250309T090000
END:DAYLIGHT
BEGIN:STANDARD
TZOFFSETFROM:-0600
TZOFFSETTO:-0700
TZNAME:MST
DTSTART:20251102T080000
END:STANDARD
END:VTIMEZONE
BEGIN:VEVENT
DTSTART;TZID=America/Denver:20241004T180000
DTEND;TZID=America/Denver:20241004T210000
DTSTAMP:20260424T190338
CREATED:20241002T194536Z
LAST-MODIFIED:20241002T201956Z
UID:41176-1728064800-1728075600@redlegbrewing.com
SUMMARY:Live Music - Boomerang Band & Black Warrior River Band
DESCRIPTION:Live Music from Black Warrior River Band & Boomerang Band 6-9 PM! 🎶 Come enjoy a great time with us. \nPlease Note: After 8 PM on Fridays\, Saturdays\, and Sundays\, our facility is 21+. We kindly ask that guests with anyone under 21 in their party make arrangements to exit the facility before 8 PM out of respect for our staff and other patrons. Thank you for your understanding and cooperation! \n  \n 
URL:https://redlegbrewing.com/event/live-music-boomerang-band/
LOCATION:Red Leg Brewing Company\, 2323 Garden of the Gods Rd\, Colorado Springs\, CO\, 80907\, United States
CATEGORIES:Live Entertainment
END:VEVENT
END:VCALENDAR