BEGIN:VCALENDAR
VERSION:2.0
PRODID:-//Red Leg Brewing Company - ECPv6.15.18//NONSGML v1.0//EN
CALSCALE:GREGORIAN
METHOD:PUBLISH
X-WR-CALNAME:Red Leg Brewing Company
X-ORIGINAL-URL:https://redlegbrewing.com
X-WR-CALDESC:Events for Red Leg Brewing Company
REFRESH-INTERVAL;VALUE=DURATION:PT1H
X-Robots-Tag:noindex
X-PUBLISHED-TTL:PT1H
BEGIN:VTIMEZONE
TZID:America/Denver
BEGIN:DAYLIGHT
TZOFFSETFROM:-0700
TZOFFSETTO:-0600
TZNAME:MDT
DTSTART:20230312T090000
END:DAYLIGHT
BEGIN:STANDARD
TZOFFSETFROM:-0600
TZOFFSETTO:-0700
TZNAME:MST
DTSTART:20231105T080000
END:STANDARD
BEGIN:DAYLIGHT
TZOFFSETFROM:-0700
TZOFFSETTO:-0600
TZNAME:MDT
DTSTART:20240310T090000
END:DAYLIGHT
BEGIN:STANDARD
TZOFFSETFROM:-0600
TZOFFSETTO:-0700
TZNAME:MST
DTSTART:20241103T080000
END:STANDARD
BEGIN:DAYLIGHT
TZOFFSETFROM:-0700
TZOFFSETTO:-0600
TZNAME:MDT
DTSTART:20250309T090000
END:DAYLIGHT
BEGIN:STANDARD
TZOFFSETFROM:-0600
TZOFFSETTO:-0700
TZNAME:MST
DTSTART:20251102T080000
END:STANDARD
END:VTIMEZONE
BEGIN:VEVENT
DTSTART;TZID=America/Denver:20240804T110000
DTEND;TZID=America/Denver:20240804T150000
DTSTAMP:20260424T154520
CREATED:20240103T183849Z
LAST-MODIFIED:20240103T183850Z
UID:17172-1722769200-1722783600@redlegbrewing.com
SUMMARY:August Makers Market
DESCRIPTION:Our Makers Markets feature a rotating selection of local artists\, makers\, and farmers. A fun combination of farm and art market! Head on over to the brewery for our outdoor market and support small local businesses all in one convenient stop!\n\n2024 Market Dates:\nMay 5\, 2024\nJune 2\, 2024\nJuly 7\, 2024\nAug 4\, 2024\nSept 1\, 2024\nOct 6\, 2024\nDec 1\, 2024 – Holiday Market\n\nAll markets will be held from 11 am-3 pm unless noted otherwise.\n\nApplications are now open for the 2024 Market season at www.redlegbrewing.com/makers-market. Selected vendors will be contacted directly by Red Leg staff before the market. If you have questions or concerns\, please email events@redlegbrewing.com. Cheers!
URL:https://redlegbrewing.com/event/august-makers-market-2/
LOCATION:Red Leg Brewing Company\, 2323 Garden of the Gods Rd\, Colorado Springs\, CO\, 80907\, United States
CATEGORIES:Special Event
END:VEVENT
END:VCALENDAR