BEGIN:VCALENDAR
VERSION:2.0
PRODID:-//Red Leg Brewing Company - ECPv6.15.18//NONSGML v1.0//EN
CALSCALE:GREGORIAN
METHOD:PUBLISH
X-ORIGINAL-URL:https://redlegbrewing.com
X-WR-CALDESC:Events for Red Leg Brewing Company
REFRESH-INTERVAL;VALUE=DURATION:PT1H
X-Robots-Tag:noindex
X-PUBLISHED-TTL:PT1H
BEGIN:VTIMEZONE
TZID:America/Denver
BEGIN:DAYLIGHT
TZOFFSETFROM:-0700
TZOFFSETTO:-0600
TZNAME:MDT
DTSTART:20230312T090000
END:DAYLIGHT
BEGIN:STANDARD
TZOFFSETFROM:-0600
TZOFFSETTO:-0700
TZNAME:MST
DTSTART:20231105T080000
END:STANDARD
BEGIN:DAYLIGHT
TZOFFSETFROM:-0700
TZOFFSETTO:-0600
TZNAME:MDT
DTSTART:20240310T090000
END:DAYLIGHT
BEGIN:STANDARD
TZOFFSETFROM:-0600
TZOFFSETTO:-0700
TZNAME:MST
DTSTART:20241103T080000
END:STANDARD
BEGIN:DAYLIGHT
TZOFFSETFROM:-0700
TZOFFSETTO:-0600
TZNAME:MDT
DTSTART:20250309T090000
END:DAYLIGHT
BEGIN:STANDARD
TZOFFSETFROM:-0600
TZOFFSETTO:-0700
TZNAME:MST
DTSTART:20251102T080000
END:STANDARD
END:VTIMEZONE
BEGIN:VEVENT
DTSTART;TZID=America/Denver:20240728T110000
DTEND;TZID=America/Denver:20240728T150000
DTSTAMP:20260424T155447
CREATED:20240724T191510Z
LAST-MODIFIED:20240724T192540Z
UID:40359-1722164400-1722178800@redlegbrewing.com
SUMMARY:Car Show : Fort Carson Fire and Emergency Services
DESCRIPTION:Join us for a thrilling Car Show at Red Leg Brewing Company! From 11:00 AM to 3:00 PM\, our front parking lot will be filled with an impressive display of classic and modern cars\, perfect for car enthusiasts of all ages. \nEvent Highlights: \n\nDJ by Criterium: Enjoy live music from Criterium\, keeping the energy high and the vibes cool throughout the event.\nBounce House on the Lawn: Fun for the whole family! Kids can jump and play in our bounce house\, set up on the lawn.\nSpecialty Beer – “Quick Attack”: Don’t miss out on our “Quick Attack” specialty beer\, during the event\, every pint sold\, we’ll donate $1 to support our Fort Carson First Responders.\n\nBring your friends and family for a day of cars\, music\, fun\, and great beer\, all for a good cause. We look forward to seeing you there! \nCheers\,\nRed Leg Brewing Company
URL:https://redlegbrewing.com/event/car-show-fort-carson-fire-and-emergency-services/
LOCATION:Red Leg Brewing Company\, 2323 Garden of the Gods Rd\, Colorado Springs\, CO\, 80907\, United States
CATEGORIES:Special Event
END:VEVENT
END:VCALENDAR