BEGIN:VCALENDAR
VERSION:2.0
PRODID:-//Red Leg Brewing Company - ECPv6.15.18//NONSGML v1.0//EN
CALSCALE:GREGORIAN
METHOD:PUBLISH
X-WR-CALNAME:Red Leg Brewing Company
X-ORIGINAL-URL:https://redlegbrewing.com
X-WR-CALDESC:Events for Red Leg Brewing Company
REFRESH-INTERVAL;VALUE=DURATION:PT1H
X-Robots-Tag:noindex
X-PUBLISHED-TTL:PT1H
BEGIN:VTIMEZONE
TZID:America/Denver
BEGIN:DAYLIGHT
TZOFFSETFROM:-0700
TZOFFSETTO:-0600
TZNAME:MDT
DTSTART:20230312T090000
END:DAYLIGHT
BEGIN:STANDARD
TZOFFSETFROM:-0600
TZOFFSETTO:-0700
TZNAME:MST
DTSTART:20231105T080000
END:STANDARD
BEGIN:DAYLIGHT
TZOFFSETFROM:-0700
TZOFFSETTO:-0600
TZNAME:MDT
DTSTART:20240310T090000
END:DAYLIGHT
BEGIN:STANDARD
TZOFFSETFROM:-0600
TZOFFSETTO:-0700
TZNAME:MST
DTSTART:20241103T080000
END:STANDARD
BEGIN:DAYLIGHT
TZOFFSETFROM:-0700
TZOFFSETTO:-0600
TZNAME:MDT
DTSTART:20250309T090000
END:DAYLIGHT
BEGIN:STANDARD
TZOFFSETFROM:-0600
TZOFFSETTO:-0700
TZNAME:MST
DTSTART:20251102T080000
END:STANDARD
END:VTIMEZONE
BEGIN:VEVENT
DTSTART;TZID=America/Denver:20240725T170000
DTEND;TZID=America/Denver:20240725T200000
DTSTAMP:20260424T155405
CREATED:20240610T223348Z
LAST-MODIFIED:20240610T223431Z
UID:37218-1721926800-1721937600@redlegbrewing.com
SUMMARY:Craft for a Cause : Rocky Mountain Ranger Alliance
DESCRIPTION:Every Thursday in June from 5:00pm to 8:00pm and we donate $1 from every Red Leg pint sold to the organization during that time.\nCome and Support your local brewery and your favorite Non-Profits! \nThis week is Rocky Mountain Ranger Alliance! \n Rocky Mountain Ranger Association.Click to Learn
URL:https://redlegbrewing.com/event/craft-for-a-causerocky-mountain-ranger-alliance/
LOCATION:CO
CATEGORIES:Ongoing Event
END:VEVENT
BEGIN:VEVENT
DTSTART;TZID=America/Denver:20240725T190000
DTEND;TZID=America/Denver:20240725T210000
DTSTAMP:20260424T155405
CREATED:20240614T182006Z
LAST-MODIFIED:20240703T200538Z
UID:37453-1721934000-1721941200@redlegbrewing.com
SUMMARY:Comedy Show on the Rooftop - July 25th
DESCRIPTION:Join us for a night of laughter on our rooftop! Come to the brewery for an unforgettable evening featuring an incredible lineup of comedians: \nHeadliner: BK Sharad\nFeature: Erin Rose\nIncluding: Garrett Waller\, Maria Fetterhoff\, Bren McDaniel\nHost: Russell Keller \nArrive early to grab your favorite brew and a great seat. It’s the perfect way to spend an evening with friends\, enjoying top-notch comedy and fantastic drinks. Don’t miss out on this fun-filled event! \n\n\nEvent Details: \n\nDate: July 25th\nLocation: Our Rooftop\nAge Requirement: 21+\nDoors Open: 6:00 PM\nShowtime: 7:00 PM – 9:00 PM\nDrink not included  – Rooftop bar will be open for drink purchases\n\n GET YOUR COMEDY TICKETS TODAY$10 + 2 drink purchases
URL:https://redlegbrewing.com/event/comedy-show-on-the-rooftop-july-25th/
LOCATION:Red Leg Brewing Company\, 2323 Garden of the Gods Rd\, Colorado Springs\, CO\, 80907\, United States
CATEGORIES:Live Entertainment
END:VEVENT
END:VCALENDAR