BEGIN:VCALENDAR
VERSION:2.0
PRODID:-//Red Leg Brewing Company - ECPv6.15.18//NONSGML v1.0//EN
CALSCALE:GREGORIAN
METHOD:PUBLISH
X-WR-CALNAME:Red Leg Brewing Company
X-ORIGINAL-URL:https://redlegbrewing.com
X-WR-CALDESC:Events for Red Leg Brewing Company
REFRESH-INTERVAL;VALUE=DURATION:PT1H
X-Robots-Tag:noindex
X-PUBLISHED-TTL:PT1H
BEGIN:VTIMEZONE
TZID:America/Denver
BEGIN:DAYLIGHT
TZOFFSETFROM:-0700
TZOFFSETTO:-0600
TZNAME:MDT
DTSTART:20230312T090000
END:DAYLIGHT
BEGIN:STANDARD
TZOFFSETFROM:-0600
TZOFFSETTO:-0700
TZNAME:MST
DTSTART:20231105T080000
END:STANDARD
BEGIN:DAYLIGHT
TZOFFSETFROM:-0700
TZOFFSETTO:-0600
TZNAME:MDT
DTSTART:20240310T090000
END:DAYLIGHT
BEGIN:STANDARD
TZOFFSETFROM:-0600
TZOFFSETTO:-0700
TZNAME:MST
DTSTART:20241103T080000
END:STANDARD
BEGIN:DAYLIGHT
TZOFFSETFROM:-0700
TZOFFSETTO:-0600
TZNAME:MDT
DTSTART:20250309T090000
END:DAYLIGHT
BEGIN:STANDARD
TZOFFSETFROM:-0600
TZOFFSETTO:-0700
TZNAME:MST
DTSTART:20251102T080000
END:STANDARD
END:VTIMEZONE
BEGIN:VEVENT
DTSTART;TZID=America/Denver:20240713T140000
DTEND;TZID=America/Denver:20240713T160000
DTSTAMP:20260424T155427
CREATED:20240708T172045Z
LAST-MODIFIED:20240708T172045Z
UID:37798-1720879200-1720886400@redlegbrewing.com
SUMMARY:Live Music: Bloodline
DESCRIPTION:Come and jam out with us and Bloodline on Saturday afternoon!
URL:https://redlegbrewing.com/event/live-music-bloodline-2/
LOCATION:Red Leg Brewing Company\, 2323 Garden of the Gods Rd\, Colorado Springs\, CO\, 80907\, United States
CATEGORIES:Live Entertainment
END:VEVENT
BEGIN:VEVENT
DTSTART;TZID=America/Denver:20240713T170000
DTEND;TZID=America/Denver:20240713T190000
DTSTAMP:20260424T155427
CREATED:20240618T145627Z
LAST-MODIFIED:20240618T145627Z
UID:37501-1720890000-1720897200@redlegbrewing.com
SUMMARY:Networking Social Event - Q3
DESCRIPTION:Join us for an evening of brews\, cocktails\, and brilliant connections at Red Leg Brewing Company! On July 13 from 5-7 pm\, we’re hosting a lively networking event that’s open to all. Whether you’re a seasoned pro or just dipping your toes into the networking scene\, come mingle\, make new friends\, and explore opportunities in a relaxed and welcoming atmosphere. See you there! \nRegister for the event at www.redlegbrewing.com/networking! \nRegistered attendees will be given a complimentary welcome half pint or canned soda to enjoy while they break the ice! Don’t forget to bring an extra business card to enter for the chance to win a discounted private rental at the brewery.
URL:https://redlegbrewing.com/event/networking-social-event-q3/
LOCATION:Red Leg Brewing Company\, 2323 Garden of the Gods Rd\, Colorado Springs\, CO\, 80907\, United States
CATEGORIES:Special Event
END:VEVENT
BEGIN:VEVENT
DTSTART;TZID=America/Denver:20240713T170000
DTEND;TZID=America/Denver:20240713T200000
DTSTAMP:20260424T155427
CREATED:20240708T171912Z
LAST-MODIFIED:20240708T171912Z
UID:37796-1720890000-1720900800@redlegbrewing.com
SUMMARY:Live Music: GigaHorse
DESCRIPTION:Come over on Saturday evening and listen to the jams of Gigahorse at Red Leg Brewing Company!
URL:https://redlegbrewing.com/event/live-music-gigahorse-2/
LOCATION:Red Leg Brewing Company\, 2323 Garden of the Gods Rd\, Colorado Springs\, CO\, 80907\, United States
CATEGORIES:Special Event
END:VEVENT
END:VCALENDAR