BEGIN:VCALENDAR
VERSION:2.0
PRODID:-//Red Leg Brewing Company - ECPv6.15.18//NONSGML v1.0//EN
CALSCALE:GREGORIAN
METHOD:PUBLISH
X-ORIGINAL-URL:https://redlegbrewing.com
X-WR-CALDESC:Events for Red Leg Brewing Company
REFRESH-INTERVAL;VALUE=DURATION:PT1H
X-Robots-Tag:noindex
X-PUBLISHED-TTL:PT1H
BEGIN:VTIMEZONE
TZID:America/Denver
BEGIN:DAYLIGHT
TZOFFSETFROM:-0700
TZOFFSETTO:-0600
TZNAME:MDT
DTSTART:20230312T090000
END:DAYLIGHT
BEGIN:STANDARD
TZOFFSETFROM:-0600
TZOFFSETTO:-0700
TZNAME:MST
DTSTART:20231105T080000
END:STANDARD
BEGIN:DAYLIGHT
TZOFFSETFROM:-0700
TZOFFSETTO:-0600
TZNAME:MDT
DTSTART:20240310T090000
END:DAYLIGHT
BEGIN:STANDARD
TZOFFSETFROM:-0600
TZOFFSETTO:-0700
TZNAME:MST
DTSTART:20241103T080000
END:STANDARD
BEGIN:DAYLIGHT
TZOFFSETFROM:-0700
TZOFFSETTO:-0600
TZNAME:MDT
DTSTART:20250309T090000
END:DAYLIGHT
BEGIN:STANDARD
TZOFFSETFROM:-0600
TZOFFSETTO:-0700
TZNAME:MST
DTSTART:20251102T080000
END:STANDARD
END:VTIMEZONE
BEGIN:VEVENT
DTSTART;VALUE=DATE:20240614
DTEND;VALUE=DATE:20240617
DTSTAMP:20260424T142240
CREATED:20240614T145645Z
LAST-MODIFIED:20240614T160833Z
UID:37426-1718323200-1718582399@redlegbrewing.com
SUMMARY:Battle of the Bartenders - Featured Liuqor: Proper 12 Apple Whiskey
DESCRIPTION:Join us for the Battle of the Bartenders\, where our talented Liquor Cabinet bartenders have showcased their skills with Proper 12 Apple Whiskey! Choose to enjoy one of four unique signature cocktails made by four of our bartenders. The best part is they are each available for just $8. This exciting event runs from June 14-16\, or until supplies last. Come out\, try these amazing creations\, and support your favorite bartenders! Cheers!
URL:https://redlegbrewing.com/event/battle-of-the-bartenders-featured-liuqor-proper-12-apple-whiskey/
LOCATION:Red Leg Brewing Company\, 2323 Garden of the Gods Rd\, Colorado Springs\, CO\, 80907\, United States
CATEGORIES:Ongoing Event
END:VEVENT
BEGIN:VEVENT
DTSTART;TZID=America/Denver:20240615T160000
DTEND;TZID=America/Denver:20240615T190000
DTSTAMP:20260424T142240
CREATED:20240612T152732Z
LAST-MODIFIED:20240613T151525Z
UID:37260-1718467200-1718478000@redlegbrewing.com
SUMMARY:Live Music : Marcus Kruep
DESCRIPTION:Come on out to see Marcus play some jammin’ tunes on Saturday 4p – 7p!\n Marcus KruepClick to Listen Now!
URL:https://redlegbrewing.com/event/live-music-marcus-kruep-4/
LOCATION:Red Leg Brewing Company\, 2323 Garden of the Gods Rd\, Colorado Springs\, CO\, 80907\, United States
CATEGORIES:Live Entertainment
END:VEVENT
END:VCALENDAR