BEGIN:VCALENDAR
VERSION:2.0
PRODID:-//Red Leg Brewing Company - ECPv6.15.18//NONSGML v1.0//EN
CALSCALE:GREGORIAN
METHOD:PUBLISH
X-WR-CALNAME:Red Leg Brewing Company
X-ORIGINAL-URL:https://redlegbrewing.com
X-WR-CALDESC:Events for Red Leg Brewing Company
REFRESH-INTERVAL;VALUE=DURATION:PT1H
X-Robots-Tag:noindex
X-PUBLISHED-TTL:PT1H
BEGIN:VTIMEZONE
TZID:America/Denver
BEGIN:DAYLIGHT
TZOFFSETFROM:-0700
TZOFFSETTO:-0600
TZNAME:MDT
DTSTART:20230312T090000
END:DAYLIGHT
BEGIN:STANDARD
TZOFFSETFROM:-0600
TZOFFSETTO:-0700
TZNAME:MST
DTSTART:20231105T080000
END:STANDARD
BEGIN:DAYLIGHT
TZOFFSETFROM:-0700
TZOFFSETTO:-0600
TZNAME:MDT
DTSTART:20240310T090000
END:DAYLIGHT
BEGIN:STANDARD
TZOFFSETFROM:-0600
TZOFFSETTO:-0700
TZNAME:MST
DTSTART:20241103T080000
END:STANDARD
BEGIN:DAYLIGHT
TZOFFSETFROM:-0700
TZOFFSETTO:-0600
TZNAME:MDT
DTSTART:20250309T090000
END:DAYLIGHT
BEGIN:STANDARD
TZOFFSETFROM:-0600
TZOFFSETTO:-0700
TZNAME:MST
DTSTART:20251102T080000
END:STANDARD
END:VTIMEZONE
BEGIN:VEVENT
DTSTART;TZID=America/Denver:20240612T183000
DTEND;TZID=America/Denver:20240612T203000
DTSTAMP:20260424T141946
CREATED:20240610T210421Z
LAST-MODIFIED:20240610T210421Z
UID:37189-1718217000-1718224200@redlegbrewing.com
SUMMARY:Music Video Bingo
DESCRIPTION:Wednesdays are for Music Video BINGO! Win FREE BEER while watching music videos! Join the fun in the taproom from 6:30-8:30 pm – it’s free to play!Your Host will be playing a variety of classic & unique music videos from the last 60 years. You don’t need to know the title or artist to win so relax & have another pint! Just pay attention\, work that bingo dabber & drink on! Winners every round + Grand Prize!
URL:https://redlegbrewing.com/event/music-video-bingo-79/
LOCATION:Red Leg Brewing Company\, 2323 Garden of the Gods Rd\, Colorado Springs\, CO\, 80907\, United States
CATEGORIES:Ongoing Event
END:VEVENT
BEGIN:VEVENT
DTSTART;TZID=America/Denver:20240612T203000
DTEND;TZID=America/Denver:20240612T220000
DTSTAMP:20260424T141946
CREATED:20240603T223334Z
LAST-MODIFIED:20240612T200323Z
UID:37081-1718224200-1718229600@redlegbrewing.com
SUMMARY:Movie Night on the Lawn: Princess Bride
DESCRIPTION:As You Wish…\nOn a perfect summer evening\, our brewery’s lawn becomes an outdoor cinema under a starlit sky. Our patio lights twinkle\, adding a warm glow\, while food venders offer gourmet bites. Families\, friends\, and couples gather to watch “The Princess Bride.” As the sky darkens\, the movie begins\, captivating the audience with its tale of adventure\, love\, and humor. The brewery’s craft beers flow freely\, enhancing the relaxed vibe. \nSo come on out drink\, avoid the swamp rats and have an INCONCEIVABLY good time!
URL:https://redlegbrewing.com/event/movie-night-on-the-lawn-princess-bride/
LOCATION:Red Leg Brewing Company\, 2323 Garden of the Gods Rd\, Colorado Springs\, CO\, 80907\, United States
CATEGORIES:Special Event
END:VEVENT
END:VCALENDAR