BEGIN:VCALENDAR
VERSION:2.0
PRODID:-//Red Leg Brewing Company - ECPv6.15.18//NONSGML v1.0//EN
CALSCALE:GREGORIAN
METHOD:PUBLISH
X-WR-CALNAME:Red Leg Brewing Company
X-ORIGINAL-URL:https://redlegbrewing.com
X-WR-CALDESC:Events for Red Leg Brewing Company
REFRESH-INTERVAL;VALUE=DURATION:PT1H
X-Robots-Tag:noindex
X-PUBLISHED-TTL:PT1H
BEGIN:VTIMEZONE
TZID:America/Denver
BEGIN:DAYLIGHT
TZOFFSETFROM:-0700
TZOFFSETTO:-0600
TZNAME:MDT
DTSTART:20230312T090000
END:DAYLIGHT
BEGIN:STANDARD
TZOFFSETFROM:-0600
TZOFFSETTO:-0700
TZNAME:MST
DTSTART:20231105T080000
END:STANDARD
BEGIN:DAYLIGHT
TZOFFSETFROM:-0700
TZOFFSETTO:-0600
TZNAME:MDT
DTSTART:20240310T090000
END:DAYLIGHT
BEGIN:STANDARD
TZOFFSETFROM:-0600
TZOFFSETTO:-0700
TZNAME:MST
DTSTART:20241103T080000
END:STANDARD
BEGIN:DAYLIGHT
TZOFFSETFROM:-0700
TZOFFSETTO:-0600
TZNAME:MDT
DTSTART:20250309T090000
END:DAYLIGHT
BEGIN:STANDARD
TZOFFSETFROM:-0600
TZOFFSETTO:-0700
TZNAME:MST
DTSTART:20251102T080000
END:STANDARD
END:VTIMEZONE
BEGIN:VEVENT
DTSTART;TZID=America/Denver:20240610T180000
DTEND;TZID=America/Denver:20240610T200000
DTSTAMP:20260424T141904
CREATED:20240604T172812Z
LAST-MODIFIED:20240604T173745Z
UID:37096-1718042400-1718049600@redlegbrewing.com
SUMMARY:Painting with a Twist : Brushes & Brews
DESCRIPTION:Brushes & Brews @ Red Leg Brewing Co.\n\n\n\n\nInstructor: Victoria\n\n\n\n\n\n\nGet crafty while you enjoy some craft beer at Red Leg Brewing Company on Garden of the Gods Rd. You sign up\, and we’ll provide the step-by-step instruction and all the supplies you need to paint your own masterpiece!\nFor this Brushes & Brews event\, we’ll guide you through painting a gorgeous picture of Colorado mountain flowers—perfect Colorado summer vibes—while you enjoy the atmosphere and craft beverages of Red Leg Brewing Company\, a veteran-owned brewery in West Colorado Springs.\nGrab your friends\, and let’s get crafty!\n\n$37-$49 per person\n6:00 pm to 8:00 pm\n\n\n SIGN UP TODAY$37-$49 per person
URL:https://redlegbrewing.com/event/painting-with-a-twist/
LOCATION:Red Leg Brewing Company\, 2323 Garden of the Gods Rd\, Colorado Springs\, CO\, 80907\, United States
CATEGORIES:Special Event
END:VEVENT
END:VCALENDAR