BEGIN:VCALENDAR
VERSION:2.0
PRODID:-//Red Leg Brewing Company - ECPv6.15.18//NONSGML v1.0//EN
CALSCALE:GREGORIAN
METHOD:PUBLISH
X-ORIGINAL-URL:https://redlegbrewing.com
X-WR-CALDESC:Events for Red Leg Brewing Company
REFRESH-INTERVAL;VALUE=DURATION:PT1H
X-Robots-Tag:noindex
X-PUBLISHED-TTL:PT1H
BEGIN:VTIMEZONE
TZID:America/Denver
BEGIN:DAYLIGHT
TZOFFSETFROM:-0700
TZOFFSETTO:-0600
TZNAME:MDT
DTSTART:20230312T090000
END:DAYLIGHT
BEGIN:STANDARD
TZOFFSETFROM:-0600
TZOFFSETTO:-0700
TZNAME:MST
DTSTART:20231105T080000
END:STANDARD
BEGIN:DAYLIGHT
TZOFFSETFROM:-0700
TZOFFSETTO:-0600
TZNAME:MDT
DTSTART:20240310T090000
END:DAYLIGHT
BEGIN:STANDARD
TZOFFSETFROM:-0600
TZOFFSETTO:-0700
TZNAME:MST
DTSTART:20241103T080000
END:STANDARD
BEGIN:DAYLIGHT
TZOFFSETFROM:-0700
TZOFFSETTO:-0600
TZNAME:MDT
DTSTART:20250309T090000
END:DAYLIGHT
BEGIN:STANDARD
TZOFFSETFROM:-0600
TZOFFSETTO:-0700
TZNAME:MST
DTSTART:20251102T080000
END:STANDARD
END:VTIMEZONE
BEGIN:VEVENT
DTSTART;TZID=America/Denver:20240609T170000
DTEND;TZID=America/Denver:20240609T190000
DTSTAMP:20260424T142239
CREATED:20240530T164239Z
LAST-MODIFIED:20240530T171652Z
UID:19032-1717952400-1717959600@redlegbrewing.com
SUMMARY:June Artist Feature : Awk Stanley
DESCRIPTION:Hi there! My name is Awk and I live in Colorado Springs. Thank you for taking the time to check out my art. I started doing macrame during 2020 at the height of Covid when I wanted to learn a new hobby to pass the time. I watched tutorial videos and practiced multiple techniques before coming up with custom designs. Sometimes I don’t know how a piece will turn out until I actually finish it! I had no intention of selling my creations until I started sharing photos with friends and family online. Someone asked to purchase a piece and somehow I had a micro business overnight! It has been so fun exploring a craft that’s been around for years and seeing what I can come up with. Thank you for letting me share my passion with you. I look forward to seeing one of my pieces in your home!
URL:https://redlegbrewing.com/event/artist-feature-june-awk-stanley/
LOCATION:Red Leg Brewing Company\, 2323 Garden of the Gods Rd\, Colorado Springs\, CO\, 80907\, United States
CATEGORIES:Special Event
END:VEVENT
END:VCALENDAR