BEGIN:VCALENDAR
VERSION:2.0
PRODID:-//Red Leg Brewing Company - ECPv6.15.18//NONSGML v1.0//EN
CALSCALE:GREGORIAN
METHOD:PUBLISH
X-WR-CALNAME:Red Leg Brewing Company
X-ORIGINAL-URL:https://redlegbrewing.com
X-WR-CALDESC:Events for Red Leg Brewing Company
REFRESH-INTERVAL;VALUE=DURATION:PT1H
X-Robots-Tag:noindex
X-PUBLISHED-TTL:PT1H
BEGIN:VTIMEZONE
TZID:America/Denver
BEGIN:DAYLIGHT
TZOFFSETFROM:-0700
TZOFFSETTO:-0600
TZNAME:MDT
DTSTART:20230312T090000
END:DAYLIGHT
BEGIN:STANDARD
TZOFFSETFROM:-0600
TZOFFSETTO:-0700
TZNAME:MST
DTSTART:20231105T080000
END:STANDARD
BEGIN:DAYLIGHT
TZOFFSETFROM:-0700
TZOFFSETTO:-0600
TZNAME:MDT
DTSTART:20240310T090000
END:DAYLIGHT
BEGIN:STANDARD
TZOFFSETFROM:-0600
TZOFFSETTO:-0700
TZNAME:MST
DTSTART:20241103T080000
END:STANDARD
BEGIN:DAYLIGHT
TZOFFSETFROM:-0700
TZOFFSETTO:-0600
TZNAME:MDT
DTSTART:20250309T090000
END:DAYLIGHT
BEGIN:STANDARD
TZOFFSETFROM:-0600
TZOFFSETTO:-0700
TZNAME:MST
DTSTART:20251102T080000
END:STANDARD
END:VTIMEZONE
BEGIN:VEVENT
DTSTART;TZID=America/Denver:20240608T120000
DTEND;TZID=America/Denver:20240608T140000
DTSTAMP:20260424T141820
CREATED:20240429T191903Z
LAST-MODIFIED:20240430T150655Z
UID:18529-1717848000-1717855200@redlegbrewing.com
SUMMARY:Live Music : School Of Rock House Band
DESCRIPTION:School of Rock is rocking out and honing our musical craft in the heart of Colorado Springs.\nCome on out on Saturday to see them perform! \n 
URL:https://redlegbrewing.com/event/live-music-school-of-rock-house-band/
LOCATION:Red Leg Brewing Company\, 2323 Garden of the Gods Rd\, Colorado Springs\, CO\, 80907\, United States
CATEGORIES:Live Entertainment
END:VEVENT
BEGIN:VEVENT
DTSTART;TZID=America/Denver:20240608T150000
DTEND;TZID=America/Denver:20240608T183000
DTSTAMP:20260424T141820
CREATED:20240604T013726Z
LAST-MODIFIED:20240610T190925Z
UID:37087-1717858800-1717871400@redlegbrewing.com
SUMMARY:Live Music: Kopesetic Band
DESCRIPTION:Rock Cover Band ‘80s 90s & Current Songs!Band Memeber: Ciara\, Jeremy\, Edd\, Garry “The animal ” & Amp-o-holic! \n 
URL:https://redlegbrewing.com/event/live-music-kopesetic-band/
LOCATION:Red Leg Brewing Company\, 2323 Garden of the Gods Rd\, Colorado Springs\, CO\, 80907\, United States
END:VEVENT
END:VCALENDAR