BEGIN:VCALENDAR
VERSION:2.0
PRODID:-//Red Leg Brewing Company - ECPv6.15.18//NONSGML v1.0//EN
CALSCALE:GREGORIAN
METHOD:PUBLISH
X-WR-CALNAME:Red Leg Brewing Company
X-ORIGINAL-URL:https://redlegbrewing.com
X-WR-CALDESC:Events for Red Leg Brewing Company
REFRESH-INTERVAL;VALUE=DURATION:PT1H
X-Robots-Tag:noindex
X-PUBLISHED-TTL:PT1H
BEGIN:VTIMEZONE
TZID:America/Denver
BEGIN:DAYLIGHT
TZOFFSETFROM:-0700
TZOFFSETTO:-0600
TZNAME:MDT
DTSTART:20230312T090000
END:DAYLIGHT
BEGIN:STANDARD
TZOFFSETFROM:-0600
TZOFFSETTO:-0700
TZNAME:MST
DTSTART:20231105T080000
END:STANDARD
BEGIN:DAYLIGHT
TZOFFSETFROM:-0700
TZOFFSETTO:-0600
TZNAME:MDT
DTSTART:20240310T090000
END:DAYLIGHT
BEGIN:STANDARD
TZOFFSETFROM:-0600
TZOFFSETTO:-0700
TZNAME:MST
DTSTART:20241103T080000
END:STANDARD
BEGIN:DAYLIGHT
TZOFFSETFROM:-0700
TZOFFSETTO:-0600
TZNAME:MDT
DTSTART:20250309T090000
END:DAYLIGHT
BEGIN:STANDARD
TZOFFSETFROM:-0600
TZOFFSETTO:-0700
TZNAME:MST
DTSTART:20251102T080000
END:STANDARD
END:VTIMEZONE
BEGIN:VEVENT
DTSTART;TZID=America/Denver:20240516T170000
DTEND;TZID=America/Denver:20240516T200000
DTSTAMP:20260424T155906
CREATED:20240402T200931Z
LAST-MODIFIED:20240402T200931Z
UID:18172-1715878800-1715889600@redlegbrewing.com
SUMMARY:Craft For A Cause - Frontline Gardens
DESCRIPTION:Every Thursday in May from 5:00pm to 8:00pm and we donate $1 from every Red Leg pint sold to the organization during that time.\nCome and Support your local brewery and your favorite Non-Profits!\nMay Non- Profits\nMay 2nd\, Guitars 4 Vets\nMay 9th\, UpaDowna\nMay 16th\, Frontline Gardens\nMay 23rd\, Catamount institute\nMay 30th\, Stable Strides
URL:https://redlegbrewing.com/event/craft-for-a-cause-frontline-gardens/
LOCATION:CO
END:VEVENT
END:VCALENDAR