BEGIN:VCALENDAR
VERSION:2.0
PRODID:-//Red Leg Brewing Company - ECPv6.15.18//NONSGML v1.0//EN
CALSCALE:GREGORIAN
METHOD:PUBLISH
X-WR-CALNAME:Red Leg Brewing Company
X-ORIGINAL-URL:https://redlegbrewing.com
X-WR-CALDESC:Events for Red Leg Brewing Company
REFRESH-INTERVAL;VALUE=DURATION:PT1H
X-Robots-Tag:noindex
X-PUBLISHED-TTL:PT1H
BEGIN:VTIMEZONE
TZID:America/Denver
BEGIN:DAYLIGHT
TZOFFSETFROM:-0700
TZOFFSETTO:-0600
TZNAME:MDT
DTSTART:20230312T090000
END:DAYLIGHT
BEGIN:STANDARD
TZOFFSETFROM:-0600
TZOFFSETTO:-0700
TZNAME:MST
DTSTART:20231105T080000
END:STANDARD
BEGIN:DAYLIGHT
TZOFFSETFROM:-0700
TZOFFSETTO:-0600
TZNAME:MDT
DTSTART:20240310T090000
END:DAYLIGHT
BEGIN:STANDARD
TZOFFSETFROM:-0600
TZOFFSETTO:-0700
TZNAME:MST
DTSTART:20241103T080000
END:STANDARD
BEGIN:DAYLIGHT
TZOFFSETFROM:-0700
TZOFFSETTO:-0600
TZNAME:MDT
DTSTART:20250309T090000
END:DAYLIGHT
BEGIN:STANDARD
TZOFFSETFROM:-0600
TZOFFSETTO:-0700
TZNAME:MST
DTSTART:20251102T080000
END:STANDARD
END:VTIMEZONE
BEGIN:VEVENT
DTSTART;TZID=America/Denver:20240501T183000
DTEND;TZID=America/Denver:20240501T203000
DTSTAMP:20260424T155907
CREATED:20240102T205020Z
LAST-MODIFIED:20240102T205020Z
UID:17142-1714588200-1714595400@redlegbrewing.com
SUMMARY:Music Video Bingo
DESCRIPTION:Win FREE BEER while watching music videos!! Winners every round + Grand Prize!\nYour Host\, Allie\, will be playing a variety of classic and unique music videos from the last 60 years. You don’t need to know the title or artist to win so you can relax and have another pint! Just pay attention\, work that bingo dabber and drink on!
URL:https://redlegbrewing.com/event/music-video-bingo-75/
LOCATION:Red Leg Brewing Company\, 2323 Garden of the Gods Rd\, Colorado Springs\, CO\, 80907\, United States
CATEGORIES:Ongoing Event
END:VEVENT
END:VCALENDAR